Workbook

Sheet Model
B2: Square-body scalar transport | C2: Square-body scalar transport | D2: Square-body scalar transport | E2: Square-body scalar transport | F2: Square-body scalar transport | G2: Square-body scalar transport | H2: Square-body scalar transport | I2: Square-body scalar transport | J2: Square-body scalar transport | K2: Square-body scalar transport | L2: Square-body scalar transport | M2: Square-body scalar transport | N2: Square-body scalar transport | O2: Square-body scalar transport | P2: Square-body scalar transport | Q2: Square-body scalar transport | R2: Square-body scalar transport | S2: Square-body scalar transport | T2: Square-body scalar transport | U2: Square-body scalar transport | V2: Square-body scalar transport | W2: Square-body scalar transport | X2: Square-body scalar transport | Y2: Square-body scalar transport | Z2: Square-body scalar transport | AA2: Square-body scalar transport | AB2: Square-body scalar transport | AC2: Square-body scalar transport | AD2: Square-body scalar transport | AE2: Square-body scalar transport | AF2: Square-body scalar transport | AG2: Square-body scalar transport | AH2: Square-body scalar transport | AI2: Square-body scalar transport | AJ2: Square-body scalar transport | AK2: Square-body scalar transport | AL2: Square-body scalar transport | AM2: Square-body scalar transport | AN2: Square-body scalar transport | AO2: Square-body scalar transport | AP2: Square-body scalar transport | AQ2: Square-body scalar transport | AR2: Square-body scalar transport | AS2: Square-body scalar transport | AT2: Square-body scalar transport | AU2: Square-body scalar transport | AV2: Square-body scalar transport | AW2: Square-body scalar transport | AX2: Square-body scalar transport | AY2: Square-body scalar transport | AZ2: Square-body scalar transport | BA2: Square-body scalar transport | BB2: Square-body scalar transport | BC2: Square-body scalar transport | BD2: Square-body scalar transport | BE2: Square-body scalar transport | BF2: Square-body scalar transport | BG2: Square-body scalar transport | BH2: Square-body scalar transport | BI2: Square-body scalar transport | BJ2: Square-body scalar transport | BK2: Square-body scalar transport
B3: Square-body scalar transport | C3: Square-body scalar transport | D3: Square-body scalar transport | E3: Square-body scalar transport | F3: Square-body scalar transport | G3: Square-body scalar transport | H3: Square-body scalar transport | I3: Square-body scalar transport | J3: Square-body scalar transport | K3: Square-body scalar transport | L3: Square-body scalar transport | M3: Square-body scalar transport | N3: Square-body scalar transport | O3: Square-body scalar transport | P3: Square-body scalar transport | Q3: Square-body scalar transport | R3: Square-body scalar transport | S3: Square-body scalar transport | T3: Square-body scalar transport | U3: Square-body scalar transport | V3: Square-body scalar transport | W3: Square-body scalar transport | X3: Square-body scalar transport | Y3: Square-body scalar transport | Z3: Square-body scalar transport | AA3: Square-body scalar transport | AB3: Square-body scalar transport | AC3: Square-body scalar transport | AD3: Square-body scalar transport | AE3: Square-body scalar transport | AF3: Square-body scalar transport | AG3: Square-body scalar transport | AH3: Square-body scalar transport | AI3: Square-body scalar transport | AJ3: Square-body scalar transport | AK3: Square-body scalar transport | AL3: Square-body scalar transport | AM3: Square-body scalar transport | AN3: Square-body scalar transport | AO3: Square-body scalar transport | AP3: Square-body scalar transport | AQ3: Square-body scalar transport | AR3: Square-body scalar transport | AS3: Square-body scalar transport | AT3: Square-body scalar transport | AU3: Square-body scalar transport | AV3: Square-body scalar transport | AW3: Square-body scalar transport | AX3: Square-body scalar transport | AY3: Square-body scalar transport | AZ3: Square-body scalar transport | BA3: Square-body scalar transport | BB3: Square-body scalar transport | BC3: Square-body scalar transport | BD3: Square-body scalar transport | BE3: Square-body scalar transport | BF3: Square-body scalar transport | BG3: Square-body scalar transport | BH3: Square-body scalar transport | BI3: Square-body scalar transport | BJ3: Square-body scalar transport | BK3: Square-body scalar transport
B4: Excel replica of the supplied CFDbyHand example. Prescribed horizontal velocity; first-order upwind transport. | C4: Excel replica of the supplied CFDbyHand example. Prescribed horizontal velocity; first-order upwind transport. | D4: Excel replica of the supplied CFDbyHand example. Prescribed horizontal velocity; first-order upwind transport. | E4: Excel replica of the supplied CFDbyHand example. Prescribed horizontal velocity; first-order upwind transport. | F4: Excel replica of the supplied CFDbyHand example. Prescribed horizontal velocity; first-order upwind transport. | G4: Excel replica of the supplied CFDbyHand example. Prescribed horizontal velocity; first-order upwind transport. | H4: Excel replica of the supplied CFDbyHand example. Prescribed horizontal velocity; first-order upwind transport. | I4: Excel replica of the supplied CFDbyHand example. Prescribed horizontal velocity; first-order upwind transport. | J4: Excel replica of the supplied CFDbyHand example. Prescribed horizontal velocity; first-order upwind transport. | K4: Excel replica of the supplied CFDbyHand example. Prescribed horizontal velocity; first-order upwind transport. | L4: Excel replica of the supplied CFDbyHand example. Prescribed horizontal velocity; first-order upwind transport. | M4: Excel replica of the supplied CFDbyHand example. Prescribed horizontal velocity; first-order upwind transport. | N4: Excel replica of the supplied CFDbyHand example. Prescribed horizontal velocity; first-order upwind transport. | O4: Excel replica of the supplied CFDbyHand example. Prescribed horizontal velocity; first-order upwind transport. | P4: Excel replica of the supplied CFDbyHand example. Prescribed horizontal velocity; first-order upwind transport. | Q4: Excel replica of the supplied CFDbyHand example. Prescribed horizontal velocity; first-order upwind transport. | R4: Excel replica of the supplied CFDbyHand example. Prescribed horizontal velocity; first-order upwind transport. | S4: Excel replica of the supplied CFDbyHand example. Prescribed horizontal velocity; first-order upwind transport. | T4: Excel replica of the supplied CFDbyHand example. Prescribed horizontal velocity; first-order upwind transport. | U4: Excel replica of the supplied CFDbyHand example. Prescribed horizontal velocity; first-order upwind transport. | V4: Excel replica of the supplied CFDbyHand example. Prescribed horizontal velocity; first-order upwind transport. | W4: Excel replica of the supplied CFDbyHand example. Prescribed horizontal velocity; first-order upwind transport. | X4: Excel replica of the supplied CFDbyHand example. Prescribed horizontal velocity; first-order upwind transport. | Y4: Excel replica of the supplied CFDbyHand example. Prescribed horizontal velocity; first-order upwind transport. | Z4: Excel replica of the supplied CFDbyHand example. Prescribed horizontal velocity; first-order upwind transport. | AA4: Excel replica of the supplied CFDbyHand example. Prescribed horizontal velocity; first-order upwind transport. | AB4: Excel replica of the supplied CFDbyHand example. Prescribed horizontal velocity; first-order upwind transport. | AC4: Excel replica of the supplied CFDbyHand example. Prescribed horizontal velocity; first-order upwind transport. | AD4: Excel replica of the supplied CFDbyHand example. Prescribed horizontal velocity; first-order upwind transport. | AE4: Excel replica of the supplied CFDbyHand example. Prescribed horizontal velocity; first-order upwind transport. | AF4: Excel replica of the supplied CFDbyHand example. Prescribed horizontal velocity; first-order upwind transport. | AG4: Excel replica of the supplied CFDbyHand example. Prescribed horizontal velocity; first-order upwind transport. | AH4: Excel replica of the supplied CFDbyHand example. Prescribed horizontal velocity; first-order upwind transport. | AI4: Excel replica of the supplied CFDbyHand example. Prescribed horizontal velocity; first-order upwind transport. | AJ4: Excel replica of the supplied CFDbyHand example. Prescribed horizontal velocity; first-order upwind transport. | AK4: Excel replica of the supplied CFDbyHand example. Prescribed horizontal velocity; first-order upwind transport. | AL4: Excel replica of the supplied CFDbyHand example. Prescribed horizontal velocity; first-order upwind transport. | AM4: Excel replica of the supplied CFDbyHand example. Prescribed horizontal velocity; first-order upwind transport. | AN4: Excel replica of the supplied CFDbyHand example. Prescribed horizontal velocity; first-order upwind transport. | AO4: Excel replica of the supplied CFDbyHand example. Prescribed horizontal velocity; first-order upwind transport. | AP4: Excel replica of the supplied CFDbyHand example. Prescribed horizontal velocity; first-order upwind transport. | AQ4: Excel replica of the supplied CFDbyHand example. Prescribed horizontal velocity; first-order upwind transport. | AR4: Excel replica of the supplied CFDbyHand example. Prescribed horizontal velocity; first-order upwind transport. | AS4: Excel replica of the supplied CFDbyHand example. Prescribed horizontal velocity; first-order upwind transport. | AT4: Excel replica of the supplied CFDbyHand example. Prescribed horizontal velocity; first-order upwind transport. | AU4: Excel replica of the supplied CFDbyHand example. Prescribed horizontal velocity; first-order upwind transport. | AV4: Excel replica of the supplied CFDbyHand example. Prescribed horizontal velocity; first-order upwind transport. | AW4: Excel replica of the supplied CFDbyHand example. Prescribed horizontal velocity; first-order upwind transport. | AX4: Excel replica of the supplied CFDbyHand example. Prescribed horizontal velocity; first-order upwind transport. | AY4: Excel replica of the supplied CFDbyHand example. Prescribed horizontal velocity; first-order upwind transport. | AZ4: Excel replica of the supplied CFDbyHand example. Prescribed horizontal velocity; first-order upwind transport. | BA4: Excel replica of the supplied CFDbyHand example. Prescribed horizontal velocity; first-order upwind transport. | BB4: Excel replica of the supplied CFDbyHand example. Prescribed horizontal velocity; first-order upwind transport. | BC4: Excel replica of the supplied CFDbyHand example. Prescribed horizontal velocity; first-order upwind transport. | BD4: Excel replica of the supplied CFDbyHand example. Prescribed horizontal velocity; first-order upwind transport. | BE4: Excel replica of the supplied CFDbyHand example. Prescribed horizontal velocity; first-order upwind transport. | BF4: Excel replica of the supplied CFDbyHand example. Prescribed horizontal velocity; first-order upwind transport. | BG4: Excel replica of the supplied CFDbyHand example. Prescribed horizontal velocity; first-order upwind transport. | BH4: Excel replica of the supplied CFDbyHand example. Prescribed horizontal velocity; first-order upwind transport. | BI4: Excel replica of the supplied CFDbyHand example. Prescribed horizontal velocity; first-order upwind transport. | BJ4: Excel replica of the supplied CFDbyHand example. Prescribed horizontal velocity; first-order upwind transport. | BK4: Excel replica of the supplied CFDbyHand example. Prescribed horizontal velocity; first-order upwind transport.
B5: Editable inputs | C5: Editable inputs | D5: Editable inputs | E5: Editable inputs | F5: Editable inputs | G5: Editable inputs | H5: Editable inputs | I5: Editable inputs | J5: Editable inputs | K5: Editable inputs | L5: Editable inputs | M5: Editable inputs | N5: Editable inputs | O5: Editable inputs | P5: Editable inputs | Q5: Editable inputs | R5: Editable inputs | S5: Editable inputs | T5: Editable inputs | U5: Editable inputs | V5: Editable inputs | X5: Grid and coefficients | Y5: Grid and coefficients | Z5: Grid and coefficients | AA5: Grid and coefficients | AB5: Grid and coefficients | AC5: Grid and coefficients | AD5: Grid and coefficients | AE5: Grid and coefficients | AF5: Grid and coefficients | AG5: Grid and coefficients | AH5: Grid and coefficients | AI5: Grid and coefficients | AJ5: Grid and coefficients | AK5: Grid and coefficients | AL5: Grid and coefficients | AM5: Grid and coefficients | AN5: Grid and coefficients | AP5: Using the workbook | AQ5: Using the workbook | AR5: Using the workbook | AS5: Using the workbook | AT5: Using the workbook | AU5: Using the workbook | AV5: Using the workbook | AW5: Using the workbook | AX5: Using the workbook | AY5: Using the workbook | AZ5: Using the workbook | BA5: Using the workbook | BB5: Using the workbook | BC5: Using the workbook | BD5: Using the workbook | BE5: Using the workbook | BF5: Using the workbook | BG5: Using the workbook | BH5: Using the workbook | BI5: Using the workbook | BJ5: Using the workbook | BK5: Using the workbook
B6: Domain length | C6: Domain length | D6: Domain length | E6: Domain length | F6: Domain length | G6: Domain length | H6: Domain length | I6: Domain length | J6: Domain length | K6: Domain length | L6: Domain length | M6: 3 | N6: 3 | O6: 3 | P6: 3 | Q6: m | R6: m | S6: m | T6: m | U6: m | V6: m | X6: x nodes | Y6: x nodes | Z6: x nodes | AA6: x nodes | AB6: x nodes | AC6: x nodes | AD6: x nodes | AE6: x nodes | AF6: x nodes | AG6: x nodes | AH6: x nodes | AJ6: 61 | AP6: Change amber inputs, then press F9. Excel iterative calculation is enabled for this workbook: 10,000 iterations, maximum change 1E-10. | AQ6: Change amber inputs, then press F9. Excel iterative calculation is enabled for this workbook: 10,000 iterations, maximum change 1E-10. | AR6: Change amber inputs, then press F9. Excel iterative calculation is enabled for this workbook: 10,000 iterations, maximum change 1E-10. | AS6: Change amber inputs, then press F9. Excel iterative calculation is enabled for this workbook: 10,000 iterations, maximum change 1E-10. | AT6: Change amber inputs, then press F9. Excel iterative calculation is enabled for this workbook: 10,000 iterations, maximum change 1E-10. | AU6: Change amber inputs, then press F9. Excel iterative calculation is enabled for this workbook: 10,000 iterations, maximum change 1E-10. | AV6: Change amber inputs, then press F9. Excel iterative calculation is enabled for this workbook: 10,000 iterations, maximum change 1E-10. | AW6: Change amber inputs, then press F9. Excel iterative calculation is enabled for this workbook: 10,000 iterations, maximum change 1E-10. | AX6: Change amber inputs, then press F9. Excel iterative calculation is enabled for this workbook: 10,000 iterations, maximum change 1E-10. | AY6: Change amber inputs, then press F9. Excel iterative calculation is enabled for this workbook: 10,000 iterations, maximum change 1E-10. | AZ6: Change amber inputs, then press F9. Excel iterative calculation is enabled for this workbook: 10,000 iterations, maximum change 1E-10. | BA6: Change amber inputs, then press F9. Excel iterative calculation is enabled for this workbook: 10,000 iterations, maximum change 1E-10. | BB6: Change amber inputs, then press F9. Excel iterative calculation is enabled for this workbook: 10,000 iterations, maximum change 1E-10. | BC6: Change amber inputs, then press F9. Excel iterative calculation is enabled for this workbook: 10,000 iterations, maximum change 1E-10. | BD6: Change amber inputs, then press F9. Excel iterative calculation is enabled for this workbook: 10,000 iterations, maximum change 1E-10. | BE6: Change amber inputs, then press F9. Excel iterative calculation is enabled for this workbook: 10,000 iterations, maximum change 1E-10. | BF6: Change amber inputs, then press F9. Excel iterative calculation is enabled for this workbook: 10,000 iterations, maximum change 1E-10. | BG6: Change amber inputs, then press F9. Excel iterative calculation is enabled for this workbook: 10,000 iterations, maximum change 1E-10. | BH6: Change amber inputs, then press F9. Excel iterative calculation is enabled for this workbook: 10,000 iterations, maximum change 1E-10. | BI6: Change amber inputs, then press F9. Excel iterative calculation is enabled for this workbook: 10,000 iterations, maximum change 1E-10. | BJ6: Change amber inputs, then press F9. Excel iterative calculation is enabled for this workbook: 10,000 iterations, maximum change 1E-10. | BK6: Change amber inputs, then press F9. Excel iterative calculation is enabled for this workbook: 10,000 iterations, maximum change 1E-10.
B7: Domain height | C7: Domain height | D7: Domain height | E7: Domain height | F7: Domain height | G7: Domain height | H7: Domain height | I7: Domain height | J7: Domain height | K7: Domain height | L7: Domain height | M7: 2 | N7: 2 | O7: 2 | P7: 2 | Q7: m | R7: m | S7: m | T7: m | U7: m | V7: m | X7: y nodes | Y7: y nodes | Z7: y nodes | AA7: y nodes | AB7: y nodes | AC7: y nodes | AD7: y nodes | AE7: y nodes | AF7: y nodes | AG7: y nodes | AH7: y nodes | AJ7: 41 | AP7: Change amber inputs, then press F9. Excel iterative calculation is enabled for this workbook: 10,000 iterations, maximum change 1E-10. | AQ7: Change amber inputs, then press F9. Excel iterative calculation is enabled for this workbook: 10,000 iterations, maximum change 1E-10. | AR7: Change amber inputs, then press F9. Excel iterative calculation is enabled for this workbook: 10,000 iterations, maximum change 1E-10. | AS7: Change amber inputs, then press F9. Excel iterative calculation is enabled for this workbook: 10,000 iterations, maximum change 1E-10. | AT7: Change amber inputs, then press F9. Excel iterative calculation is enabled for this workbook: 10,000 iterations, maximum change 1E-10. | AU7: Change amber inputs, then press F9. Excel iterative calculation is enabled for this workbook: 10,000 iterations, maximum change 1E-10. | AV7: Change amber inputs, then press F9. Excel iterative calculation is enabled for this workbook: 10,000 iterations, maximum change 1E-10. | AW7: Change amber inputs, then press F9. Excel iterative calculation is enabled for this workbook: 10,000 iterations, maximum change 1E-10. | AX7: Change amber inputs, then press F9. Excel iterative calculation is enabled for this workbook: 10,000 iterations, maximum change 1E-10. | AY7: Change amber inputs, then press F9. Excel iterative calculation is enabled for this workbook: 10,000 iterations, maximum change 1E-10. | AZ7: Change amber inputs, then press F9. Excel iterative calculation is enabled for this workbook: 10,000 iterations, maximum change 1E-10. | BA7: Change amber inputs, then press F9. Excel iterative calculation is enabled for this workbook: 10,000 iterations, maximum change 1E-10. | BB7: Change amber inputs, then press F9. Excel iterative calculation is enabled for this workbook: 10,000 iterations, maximum change 1E-10. | BC7: Change amber inputs, then press F9. Excel iterative calculation is enabled for this workbook: 10,000 iterations, maximum change 1E-10. | BD7: Change amber inputs, then press F9. Excel iterative calculation is enabled for this workbook: 10,000 iterations, maximum change 1E-10. | BE7: Change amber inputs, then press F9. Excel iterative calculation is enabled for this workbook: 10,000 iterations, maximum change 1E-10. | BF7: Change amber inputs, then press F9. Excel iterative calculation is enabled for this workbook: 10,000 iterations, maximum change 1E-10. | BG7: Change amber inputs, then press F9. Excel iterative calculation is enabled for this workbook: 10,000 iterations, maximum change 1E-10. | BH7: Change amber inputs, then press F9. Excel iterative calculation is enabled for this workbook: 10,000 iterations, maximum change 1E-10. | BI7: Change amber inputs, then press F9. Excel iterative calculation is enabled for this workbook: 10,000 iterations, maximum change 1E-10. | BJ7: Change amber inputs, then press F9. Excel iterative calculation is enabled for this workbook: 10,000 iterations, maximum change 1E-10. | BK7: Change amber inputs, then press F9. Excel iterative calculation is enabled for this workbook: 10,000 iterations, maximum change 1E-10.
B8: Horizontal velocity | C8: Horizontal velocity | D8: Horizontal velocity | E8: Horizontal velocity | F8: Horizontal velocity | G8: Horizontal velocity | H8: Horizontal velocity | I8: Horizontal velocity | J8: Horizontal velocity | K8: Horizontal velocity | L8: Horizontal velocity | M8: 1 | N8: 1 | O8: 1 | P8: 1 | Q8: m/s | R8: m/s | S8: m/s | T8: m/s | U8: m/s | V8: m/s | X8: dx (m) | Y8: dx (m) | Z8: dx (m) | AA8: dx (m) | AB8: dx (m) | AC8: dx (m) | AD8: dx (m) | AE8: dx (m) | AF8: dx (m) | AG8: dx (m) | AH8: dx (m) | AJ8: =M6/(AJ6-1) -> 0.05 | AP8: Change amber inputs, then press F9. Excel iterative calculation is enabled for this workbook: 10,000 iterations, maximum change 1E-10. | AQ8: Change amber inputs, then press F9. Excel iterative calculation is enabled for this workbook: 10,000 iterations, maximum change 1E-10. | AR8: Change amber inputs, then press F9. Excel iterative calculation is enabled for this workbook: 10,000 iterations, maximum change 1E-10. | AS8: Change amber inputs, then press F9. Excel iterative calculation is enabled for this workbook: 10,000 iterations, maximum change 1E-10. | AT8: Change amber inputs, then press F9. Excel iterative calculation is enabled for this workbook: 10,000 iterations, maximum change 1E-10. | AU8: Change amber inputs, then press F9. Excel iterative calculation is enabled for this workbook: 10,000 iterations, maximum change 1E-10. | AV8: Change amber inputs, then press F9. Excel iterative calculation is enabled for this workbook: 10,000 iterations, maximum change 1E-10. | AW8: Change amber inputs, then press F9. Excel iterative calculation is enabled for this workbook: 10,000 iterations, maximum change 1E-10. | AX8: Change amber inputs, then press F9. Excel iterative calculation is enabled for this workbook: 10,000 iterations, maximum change 1E-10. | AY8: Change amber inputs, then press F9. Excel iterative calculation is enabled for this workbook: 10,000 iterations, maximum change 1E-10. | AZ8: Change amber inputs, then press F9. Excel iterative calculation is enabled for this workbook: 10,000 iterations, maximum change 1E-10. | BA8: Change amber inputs, then press F9. Excel iterative calculation is enabled for this workbook: 10,000 iterations, maximum change 1E-10. | BB8: Change amber inputs, then press F9. Excel iterative calculation is enabled for this workbook: 10,000 iterations, maximum change 1E-10. | BC8: Change amber inputs, then press F9. Excel iterative calculation is enabled for this workbook: 10,000 iterations, maximum change 1E-10. | BD8: Change amber inputs, then press F9. Excel iterative calculation is enabled for this workbook: 10,000 iterations, maximum change 1E-10. | BE8: Change amber inputs, then press F9. Excel iterative calculation is enabled for this workbook: 10,000 iterations, maximum change 1E-10. | BF8: Change amber inputs, then press F9. Excel iterative calculation is enabled for this workbook: 10,000 iterations, maximum change 1E-10. | BG8: Change amber inputs, then press F9. Excel iterative calculation is enabled for this workbook: 10,000 iterations, maximum change 1E-10. | BH8: Change amber inputs, then press F9. Excel iterative calculation is enabled for this workbook: 10,000 iterations, maximum change 1E-10. | BI8: Change amber inputs, then press F9. Excel iterative calculation is enabled for this workbook: 10,000 iterations, maximum change 1E-10. | BJ8: Change amber inputs, then press F9. Excel iterative calculation is enabled for this workbook: 10,000 iterations, maximum change 1E-10. | BK8: Change amber inputs, then press F9. Excel iterative calculation is enabled for this workbook: 10,000 iterations, maximum change 1E-10.
B9: Density | C9: Density | D9: Density | E9: Density | F9: Density | G9: Density | H9: Density | I9: Density | J9: Density | K9: Density | L9: Density | M9: 1 | N9: 1 | O9: 1 | P9: 1 | Q9: kg/m^3 | R9: kg/m^3 | S9: kg/m^3 | T9: kg/m^3 | U9: kg/m^3 | V9: kg/m^3 | X9: dy (m) | Y9: dy (m) | Z9: dy (m) | AA9: dy (m) | AB9: dy (m) | AC9: dy (m) | AD9: dy (m) | AE9: dy (m) | AF9: dy (m) | AG9: dy (m) | AH9: dy (m) | AJ9: =M7/(AJ7-1) -> 0.05 | AP9: The square holds the scalar at its specified value. Velocity remains prescribed across the domain. This model does not calculate pressure, drag or recirculation. | AQ9: The square holds the scalar at its specified value. Velocity remains prescribed across the domain. This model does not calculate pressure, drag or recirculation. | AR9: The square holds the scalar at its specified value. Velocity remains prescribed across the domain. This model does not calculate pressure, drag or recirculation. | AS9: The square holds the scalar at its specified value. Velocity remains prescribed across the domain. This model does not calculate pressure, drag or recirculation. | AT9: The square holds the scalar at its specified value. Velocity remains prescribed across the domain. This model does not calculate pressure, drag or recirculation. | AU9: The square holds the scalar at its specified value. Velocity remains prescribed across the domain. This model does not calculate pressure, drag or recirculation. | AV9: The square holds the scalar at its specified value. Velocity remains prescribed across the domain. This model does not calculate pressure, drag or recirculation. | AW9: The square holds the scalar at its specified value. Velocity remains prescribed across the domain. This model does not calculate pressure, drag or recirculation. | AX9: The square holds the scalar at its specified value. Velocity remains prescribed across the domain. This model does not calculate pressure, drag or recirculation. | AY9: The square holds the scalar at its specified value. Velocity remains prescribed across the domain. This model does not calculate pressure, drag or recirculation. | AZ9: The square holds the scalar at its specified value. Velocity remains prescribed across the domain. This model does not calculate pressure, drag or recirculation. | BA9: The square holds the scalar at its specified value. Velocity remains prescribed across the domain. This model does not calculate pressure, drag or recirculation. | BB9: The square holds the scalar at its specified value. Velocity remains prescribed across the domain. This model does not calculate pressure, drag or recirculation. | BC9: The square holds the scalar at its specified value. Velocity remains prescribed across the domain. This model does not calculate pressure, drag or recirculation. | BD9: The square holds the scalar at its specified value. Velocity remains prescribed across the domain. This model does not calculate pressure, drag or recirculation. | BE9: The square holds the scalar at its specified value. Velocity remains prescribed across the domain. This model does not calculate pressure, drag or recirculation. | BF9: The square holds the scalar at its specified value. Velocity remains prescribed across the domain. This model does not calculate pressure, drag or recirculation. | BG9: The square holds the scalar at its specified value. Velocity remains prescribed across the domain. This model does not calculate pressure, drag or recirculation. | BH9: The square holds the scalar at its specified value. Velocity remains prescribed across the domain. This model does not calculate pressure, drag or recirculation. | BI9: The square holds the scalar at its specified value. Velocity remains prescribed across the domain. This model does not calculate pressure, drag or recirculation. | BJ9: The square holds the scalar at its specified value. Velocity remains prescribed across the domain. This model does not calculate pressure, drag or recirculation. | BK9: The square holds the scalar at its specified value. Velocity remains prescribed across the domain. This model does not calculate pressure, drag or recirculation.
B10: Transport coefficient | C10: Transport coefficient | D10: Transport coefficient | E10: Transport coefficient | F10: Transport coefficient | G10: Transport coefficient | H10: Transport coefficient | I10: Transport coefficient | J10: Transport coefficient | K10: Transport coefficient | L10: Transport coefficient | M10: 0.1 | N10: 0.1 | O10: 0.1 | P10: 0.1 | Q10: kg/(m s) | R10: kg/(m s) | S10: kg/(m s) | T10: kg/(m s) | U10: kg/(m s) | V10: kg/(m s) | X10: D east/west | Y10: D east/west | Z10: D east/west | AA10: D east/west | AB10: D east/west | AC10: D east/west | AD10: D east/west | AE10: D east/west | AF10: D east/west | AG10: D east/west | AH10: D east/west | AJ10: =M10*AJ9/AJ8 -> 0.1 | AP10: The square holds the scalar at its specified value. Velocity remains prescribed across the domain. This model does not calculate pressure, drag or recirculation. | AQ10: The square holds the scalar at its specified value. Velocity remains prescribed across the domain. This model does not calculate pressure, drag or recirculation. | AR10: The square holds the scalar at its specified value. Velocity remains prescribed across the domain. This model does not calculate pressure, drag or recirculation. | AS10: The square holds the scalar at its specified value. Velocity remains prescribed across the domain. This model does not calculate pressure, drag or recirculation. | AT10: The square holds the scalar at its specified value. Velocity remains prescribed across the domain. This model does not calculate pressure, drag or recirculation. | AU10: The square holds the scalar at its specified value. Velocity remains prescribed across the domain. This model does not calculate pressure, drag or recirculation. | AV10: The square holds the scalar at its specified value. Velocity remains prescribed across the domain. This model does not calculate pressure, drag or recirculation. | AW10: The square holds the scalar at its specified value. Velocity remains prescribed across the domain. This model does not calculate pressure, drag or recirculation. | AX10: The square holds the scalar at its specified value. Velocity remains prescribed across the domain. This model does not calculate pressure, drag or recirculation. | AY10: The square holds the scalar at its specified value. Velocity remains prescribed across the domain. This model does not calculate pressure, drag or recirculation. | AZ10: The square holds the scalar at its specified value. Velocity remains prescribed across the domain. This model does not calculate pressure, drag or recirculation. | BA10: The square holds the scalar at its specified value. Velocity remains prescribed across the domain. This model does not calculate pressure, drag or recirculation. | BB10: The square holds the scalar at its specified value. Velocity remains prescribed across the domain. This model does not calculate pressure, drag or recirculation. | BC10: The square holds the scalar at its specified value. Velocity remains prescribed across the domain. This model does not calculate pressure, drag or recirculation. | BD10: The square holds the scalar at its specified value. Velocity remains prescribed across the domain. This model does not calculate pressure, drag or recirculation. | BE10: The square holds the scalar at its specified value. Velocity remains prescribed across the domain. This model does not calculate pressure, drag or recirculation. | BF10: The square holds the scalar at its specified value. Velocity remains prescribed across the domain. This model does not calculate pressure, drag or recirculation. | BG10: The square holds the scalar at its specified value. Velocity remains prescribed across the domain. This model does not calculate pressure, drag or recirculation. | BH10: The square holds the scalar at its specified value. Velocity remains prescribed across the domain. This model does not calculate pressure, drag or recirculation. | BI10: The square holds the scalar at its specified value. Velocity remains prescribed across the domain. This model does not calculate pressure, drag or recirculation. | BJ10: The square holds the scalar at its specified value. Velocity remains prescribed across the domain. This model does not calculate pressure, drag or recirculation. | BK10: The square holds the scalar at its specified value. Velocity remains prescribed across the domain. This model does not calculate pressure, drag or recirculation.
B11: Inlet scalar | C11: Inlet scalar | D11: Inlet scalar | E11: Inlet scalar | F11: Inlet scalar | G11: Inlet scalar | H11: Inlet scalar | I11: Inlet scalar | J11: Inlet scalar | K11: Inlet scalar | L11: Inlet scalar | M11: 1 | N11: 1 | O11: 1 | P11: 1 | Q11: scalar units | R11: scalar units | S11: scalar units | T11: scalar units | U11: scalar units | V11: scalar units | X11: D north/south | Y11: D north/south | Z11: D north/south | AA11: D north/south | AB11: D north/south | AC11: D north/south | AD11: D north/south | AE11: D north/south | AF11: D north/south | AG11: D north/south | AH11: D north/south | AJ11: =M10*AJ8/AJ9 -> 0.1 | AP11: The square holds the scalar at its specified value. Velocity remains prescribed across the domain. This model does not calculate pressure, drag or recirculation. | AQ11: The square holds the scalar at its specified value. Velocity remains prescribed across the domain. This model does not calculate pressure, drag or recirculation. | AR11: The square holds the scalar at its specified value. Velocity remains prescribed across the domain. This model does not calculate pressure, drag or recirculation. | AS11: The square holds the scalar at its specified value. Velocity remains prescribed across the domain. This model does not calculate pressure, drag or recirculation. | AT11: The square holds the scalar at its specified value. Velocity remains prescribed across the domain. This model does not calculate pressure, drag or recirculation. | AU11: The square holds the scalar at its specified value. Velocity remains prescribed across the domain. This model does not calculate pressure, drag or recirculation. | AV11: The square holds the scalar at its specified value. Velocity remains prescribed across the domain. This model does not calculate pressure, drag or recirculation. | AW11: The square holds the scalar at its specified value. Velocity remains prescribed across the domain. This model does not calculate pressure, drag or recirculation. | AX11: The square holds the scalar at its specified value. Velocity remains prescribed across the domain. This model does not calculate pressure, drag or recirculation. | AY11: The square holds the scalar at its specified value. Velocity remains prescribed across the domain. This model does not calculate pressure, drag or recirculation. | AZ11: The square holds the scalar at its specified value. Velocity remains prescribed across the domain. This model does not calculate pressure, drag or recirculation. | BA11: The square holds the scalar at its specified value. Velocity remains prescribed across the domain. This model does not calculate pressure, drag or recirculation. | BB11: The square holds the scalar at its specified value. Velocity remains prescribed across the domain. This model does not calculate pressure, drag or recirculation. | BC11: The square holds the scalar at its specified value. Velocity remains prescribed across the domain. This model does not calculate pressure, drag or recirculation. | BD11: The square holds the scalar at its specified value. Velocity remains prescribed across the domain. This model does not calculate pressure, drag or recirculation. | BE11: The square holds the scalar at its specified value. Velocity remains prescribed across the domain. This model does not calculate pressure, drag or recirculation. | BF11: The square holds the scalar at its specified value. Velocity remains prescribed across the domain. This model does not calculate pressure, drag or recirculation. | BG11: The square holds the scalar at its specified value. Velocity remains prescribed across the domain. This model does not calculate pressure, drag or recirculation. | BH11: The square holds the scalar at its specified value. Velocity remains prescribed across the domain. This model does not calculate pressure, drag or recirculation. | BI11: The square holds the scalar at its specified value. Velocity remains prescribed across the domain. This model does not calculate pressure, drag or recirculation. | BJ11: The square holds the scalar at its specified value. Velocity remains prescribed across the domain. This model does not calculate pressure, drag or recirculation. | BK11: The square holds the scalar at its specified value. Velocity remains prescribed across the domain. This model does not calculate pressure, drag or recirculation.
B12: Square scalar | C12: Square scalar | D12: Square scalar | E12: Square scalar | F12: Square scalar | G12: Square scalar | H12: Square scalar | I12: Square scalar | J12: Square scalar | K12: Square scalar | L12: Square scalar | M12: 0 | N12: 0 | O12: 0 | P12: 0 | Q12: scalar units | R12: scalar units | S12: scalar units | T12: scalar units | U12: scalar units | V12: scalar units | X12: F east/west | Y12: F east/west | Z12: F east/west | AA12: F east/west | AB12: F east/west | AC12: F east/west | AD12: F east/west | AE12: F east/west | AF12: F east/west | AG12: F east/west | AH12: F east/west | AJ12: =M9*M8*AJ9 -> 0.05 | AP12: Blue indicates lower scalar values; red indicates higher values. The white square is the prescribed-scalar region. Field contains the editable equations and numerical values. | AQ12: Blue indicates lower scalar values; red indicates higher values. The white square is the prescribed-scalar region. Field contains the editable equations and numerical values. | AR12: Blue indicates lower scalar values; red indicates higher values. The white square is the prescribed-scalar region. Field contains the editable equations and numerical values. | AS12: Blue indicates lower scalar values; red indicates higher values. The white square is the prescribed-scalar region. Field contains the editable equations and numerical values. | AT12: Blue indicates lower scalar values; red indicates higher values. The white square is the prescribed-scalar region. Field contains the editable equations and numerical values. | AU12: Blue indicates lower scalar values; red indicates higher values. The white square is the prescribed-scalar region. Field contains the editable equations and numerical values. | AV12: Blue indicates lower scalar values; red indicates higher values. The white square is the prescribed-scalar region. Field contains the editable equations and numerical values. | AW12: Blue indicates lower scalar values; red indicates higher values. The white square is the prescribed-scalar region. Field contains the editable equations and numerical values. | AX12: Blue indicates lower scalar values; red indicates higher values. The white square is the prescribed-scalar region. Field contains the editable equations and numerical values. | AY12: Blue indicates lower scalar values; red indicates higher values. The white square is the prescribed-scalar region. Field contains the editable equations and numerical values. | AZ12: Blue indicates lower scalar values; red indicates higher values. The white square is the prescribed-scalar region. Field contains the editable equations and numerical values. | BA12: Blue indicates lower scalar values; red indicates higher values. The white square is the prescribed-scalar region. Field contains the editable equations and numerical values. | BB12: Blue indicates lower scalar values; red indicates higher values. The white square is the prescribed-scalar region. Field contains the editable equations and numerical values. | BC12: Blue indicates lower scalar values; red indicates higher values. The white square is the prescribed-scalar region. Field contains the editable equations and numerical values. | BD12: Blue indicates lower scalar values; red indicates higher values. The white square is the prescribed-scalar region. Field contains the editable equations and numerical values. | BE12: Blue indicates lower scalar values; red indicates higher values. The white square is the prescribed-scalar region. Field contains the editable equations and numerical values. | BF12: Blue indicates lower scalar values; red indicates higher values. The white square is the prescribed-scalar region. Field contains the editable equations and numerical values. | BG12: Blue indicates lower scalar values; red indicates higher values. The white square is the prescribed-scalar region. Field contains the editable equations and numerical values. | BH12: Blue indicates lower scalar values; red indicates higher values. The white square is the prescribed-scalar region. Field contains the editable equations and numerical values. | BI12: Blue indicates lower scalar values; red indicates higher values. The white square is the prescribed-scalar region. Field contains the editable equations and numerical values. | BJ12: Blue indicates lower scalar values; red indicates higher values. The white square is the prescribed-scalar region. Field contains the editable equations and numerical values. | BK12: Blue indicates lower scalar values; red indicates higher values. The white square is the prescribed-scalar region. Field contains the editable equations and numerical values.
B13: Square left x | C13: Square left x | D13: Square left x | E13: Square left x | F13: Square left x | G13: Square left x | H13: Square left x | I13: Square left x | J13: Square left x | K13: Square left x | L13: Square left x | M13: 0.8 | N13: 0.8 | O13: 0.8 | P13: 0.8 | Q13: m | R13: m | S13: m | T13: m | U13: m | V13: m | X13: West weight | Y13: West weight | Z13: West weight | AA13: West weight | AB13: West weight | AC13: West weight | AD13: West weight | AE13: West weight | AF13: West weight | AG13: West weight | AH13: West weight | AJ13: =AJ10+MAX(AJ12,0) -> 0.15 | AP13: Blue indicates lower scalar values; red indicates higher values. The white square is the prescribed-scalar region. Field contains the editable equations and numerical values. | AQ13: Blue indicates lower scalar values; red indicates higher values. The white square is the prescribed-scalar region. Field contains the editable equations and numerical values. | AR13: Blue indicates lower scalar values; red indicates higher values. The white square is the prescribed-scalar region. Field contains the editable equations and numerical values. | AS13: Blue indicates lower scalar values; red indicates higher values. The white square is the prescribed-scalar region. Field contains the editable equations and numerical values. | AT13: Blue indicates lower scalar values; red indicates higher values. The white square is the prescribed-scalar region. Field contains the editable equations and numerical values. | AU13: Blue indicates lower scalar values; red indicates higher values. The white square is the prescribed-scalar region. Field contains the editable equations and numerical values. | AV13: Blue indicates lower scalar values; red indicates higher values. The white square is the prescribed-scalar region. Field contains the editable equations and numerical values. | AW13: Blue indicates lower scalar values; red indicates higher values. The white square is the prescribed-scalar region. Field contains the editable equations and numerical values. | AX13: Blue indicates lower scalar values; red indicates higher values. The white square is the prescribed-scalar region. Field contains the editable equations and numerical values. | AY13: Blue indicates lower scalar values; red indicates higher values. The white square is the prescribed-scalar region. Field contains the editable equations and numerical values. | AZ13: Blue indicates lower scalar values; red indicates higher values. The white square is the prescribed-scalar region. Field contains the editable equations and numerical values. | BA13: Blue indicates lower scalar values; red indicates higher values. The white square is the prescribed-scalar region. Field contains the editable equations and numerical values. | BB13: Blue indicates lower scalar values; red indicates higher values. The white square is the prescribed-scalar region. Field contains the editable equations and numerical values. | BC13: Blue indicates lower scalar values; red indicates higher values. The white square is the prescribed-scalar region. Field contains the editable equations and numerical values. | BD13: Blue indicates lower scalar values; red indicates higher values. The white square is the prescribed-scalar region. Field contains the editable equations and numerical values. | BE13: Blue indicates lower scalar values; red indicates higher values. The white square is the prescribed-scalar region. Field contains the editable equations and numerical values. | BF13: Blue indicates lower scalar values; red indicates higher values. The white square is the prescribed-scalar region. Field contains the editable equations and numerical values. | BG13: Blue indicates lower scalar values; red indicates higher values. The white square is the prescribed-scalar region. Field contains the editable equations and numerical values. | BH13: Blue indicates lower scalar values; red indicates higher values. The white square is the prescribed-scalar region. Field contains the editable equations and numerical values. | BI13: Blue indicates lower scalar values; red indicates higher values. The white square is the prescribed-scalar region. Field contains the editable equations and numerical values. | BJ13: Blue indicates lower scalar values; red indicates higher values. The white square is the prescribed-scalar region. Field contains the editable equations and numerical values. | BK13: Blue indicates lower scalar values; red indicates higher values. The white square is the prescribed-scalar region. Field contains the editable equations and numerical values.
B14: Square bottom y | C14: Square bottom y | D14: Square bottom y | E14: Square bottom y | F14: Square bottom y | G14: Square bottom y | H14: Square bottom y | I14: Square bottom y | J14: Square bottom y | K14: Square bottom y | L14: Square bottom y | M14: 0.75 | N14: 0.75 | O14: 0.75 | P14: 0.75 | Q14: m | R14: m | S14: m | T14: m | U14: m | V14: m | X14: East weight | Y14: East weight | Z14: East weight | AA14: East weight | AB14: East weight | AC14: East weight | AD14: East weight | AE14: East weight | AF14: East weight | AG14: East weight | AH14: East weight | AJ14: =AJ10+MAX(-AJ12,0) -> 0.1 | AP14: Blue indicates lower scalar values; red indicates higher values. The white square is the prescribed-scalar region. Field contains the editable equations and numerical values. | AQ14: Blue indicates lower scalar values; red indicates higher values. The white square is the prescribed-scalar region. Field contains the editable equations and numerical values. | AR14: Blue indicates lower scalar values; red indicates higher values. The white square is the prescribed-scalar region. Field contains the editable equations and numerical values. | AS14: Blue indicates lower scalar values; red indicates higher values. The white square is the prescribed-scalar region. Field contains the editable equations and numerical values. | AT14: Blue indicates lower scalar values; red indicates higher values. The white square is the prescribed-scalar region. Field contains the editable equations and numerical values. | AU14: Blue indicates lower scalar values; red indicates higher values. The white square is the prescribed-scalar region. Field contains the editable equations and numerical values. | AV14: Blue indicates lower scalar values; red indicates higher values. The white square is the prescribed-scalar region. Field contains the editable equations and numerical values. | AW14: Blue indicates lower scalar values; red indicates higher values. The white square is the prescribed-scalar region. Field contains the editable equations and numerical values. | AX14: Blue indicates lower scalar values; red indicates higher values. The white square is the prescribed-scalar region. Field contains the editable equations and numerical values. | AY14: Blue indicates lower scalar values; red indicates higher values. The white square is the prescribed-scalar region. Field contains the editable equations and numerical values. | AZ14: Blue indicates lower scalar values; red indicates higher values. The white square is the prescribed-scalar region. Field contains the editable equations and numerical values. | BA14: Blue indicates lower scalar values; red indicates higher values. The white square is the prescribed-scalar region. Field contains the editable equations and numerical values. | BB14: Blue indicates lower scalar values; red indicates higher values. The white square is the prescribed-scalar region. Field contains the editable equations and numerical values. | BC14: Blue indicates lower scalar values; red indicates higher values. The white square is the prescribed-scalar region. Field contains the editable equations and numerical values. | BD14: Blue indicates lower scalar values; red indicates higher values. The white square is the prescribed-scalar region. Field contains the editable equations and numerical values. | BE14: Blue indicates lower scalar values; red indicates higher values. The white square is the prescribed-scalar region. Field contains the editable equations and numerical values. | BF14: Blue indicates lower scalar values; red indicates higher values. The white square is the prescribed-scalar region. Field contains the editable equations and numerical values. | BG14: Blue indicates lower scalar values; red indicates higher values. The white square is the prescribed-scalar region. Field contains the editable equations and numerical values. | BH14: Blue indicates lower scalar values; red indicates higher values. The white square is the prescribed-scalar region. Field contains the editable equations and numerical values. | BI14: Blue indicates lower scalar values; red indicates higher values. The white square is the prescribed-scalar region. Field contains the editable equations and numerical values. | BJ14: Blue indicates lower scalar values; red indicates higher values. The white square is the prescribed-scalar region. Field contains the editable equations and numerical values. | BK14: Blue indicates lower scalar values; red indicates higher values. The white square is the prescribed-scalar region. Field contains the editable equations and numerical values.
B15: Square side | C15: Square side | D15: Square side | E15: Square side | F15: Square side | G15: Square side | H15: Square side | I15: Square side | J15: Square side | K15: Square side | L15: Square side | M15: 0.5 | N15: 0.5 | O15: 0.5 | P15: 0.5 | Q15: m | R15: m | S15: m | T15: m | U15: m | V15: m | X15: North weight | Y15: North weight | Z15: North weight | AA15: North weight | AB15: North weight | AC15: North weight | AD15: North weight | AE15: North weight | AF15: North weight | AG15: North weight | AH15: North weight | AJ15: =AJ11 -> 0.1 | AP15: Boundary nodes: left inlet scalar; right zero x-gradient; top and bottom zero y-gradient. Square geometry snaps to grid nodes. Keep it strictly inside the domain. | AQ15: Boundary nodes: left inlet scalar; right zero x-gradient; top and bottom zero y-gradient. Square geometry snaps to grid nodes. Keep it strictly inside the domain. | AR15: Boundary nodes: left inlet scalar; right zero x-gradient; top and bottom zero y-gradient. Square geometry snaps to grid nodes. Keep it strictly inside the domain. | AS15: Boundary nodes: left inlet scalar; right zero x-gradient; top and bottom zero y-gradient. Square geometry snaps to grid nodes. Keep it strictly inside the domain. | AT15: Boundary nodes: left inlet scalar; right zero x-gradient; top and bottom zero y-gradient. Square geometry snaps to grid nodes. Keep it strictly inside the domain. | AU15: Boundary nodes: left inlet scalar; right zero x-gradient; top and bottom zero y-gradient. Square geometry snaps to grid nodes. Keep it strictly inside the domain. | AV15: Boundary nodes: left inlet scalar; right zero x-gradient; top and bottom zero y-gradient. Square geometry snaps to grid nodes. Keep it strictly inside the domain. | AW15: Boundary nodes: left inlet scalar; right zero x-gradient; top and bottom zero y-gradient. Square geometry snaps to grid nodes. Keep it strictly inside the domain. | AX15: Boundary nodes: left inlet scalar; right zero x-gradient; top and bottom zero y-gradient. Square geometry snaps to grid nodes. Keep it strictly inside the domain. | AY15: Boundary nodes: left inlet scalar; right zero x-gradient; top and bottom zero y-gradient. Square geometry snaps to grid nodes. Keep it strictly inside the domain. | AZ15: Boundary nodes: left inlet scalar; right zero x-gradient; top and bottom zero y-gradient. Square geometry snaps to grid nodes. Keep it strictly inside the domain. | BA15: Boundary nodes: left inlet scalar; right zero x-gradient; top and bottom zero y-gradient. Square geometry snaps to grid nodes. Keep it strictly inside the domain. | BB15: Boundary nodes: left inlet scalar; right zero x-gradient; top and bottom zero y-gradient. Square geometry snaps to grid nodes. Keep it strictly inside the domain. | BC15: Boundary nodes: left inlet scalar; right zero x-gradient; top and bottom zero y-gradient. Square geometry snaps to grid nodes. Keep it strictly inside the domain. | BD15: Boundary nodes: left inlet scalar; right zero x-gradient; top and bottom zero y-gradient. Square geometry snaps to grid nodes. Keep it strictly inside the domain. | BE15: Boundary nodes: left inlet scalar; right zero x-gradient; top and bottom zero y-gradient. Square geometry snaps to grid nodes. Keep it strictly inside the domain. | BF15: Boundary nodes: left inlet scalar; right zero x-gradient; top and bottom zero y-gradient. Square geometry snaps to grid nodes. Keep it strictly inside the domain. | BG15: Boundary nodes: left inlet scalar; right zero x-gradient; top and bottom zero y-gradient. Square geometry snaps to grid nodes. Keep it strictly inside the domain. | BH15: Boundary nodes: left inlet scalar; right zero x-gradient; top and bottom zero y-gradient. Square geometry snaps to grid nodes. Keep it strictly inside the domain. | BI15: Boundary nodes: left inlet scalar; right zero x-gradient; top and bottom zero y-gradient. Square geometry snaps to grid nodes. Keep it strictly inside the domain. | BJ15: Boundary nodes: left inlet scalar; right zero x-gradient; top and bottom zero y-gradient. Square geometry snaps to grid nodes. Keep it strictly inside the domain. | BK15: Boundary nodes: left inlet scalar; right zero x-gradient; top and bottom zero y-gradient. Square geometry snaps to grid nodes. Keep it strictly inside the domain.
B16: Square enabled | C16: Square enabled | D16: Square enabled | E16: Square enabled | F16: Square enabled | G16: Square enabled | H16: Square enabled | I16: Square enabled | J16: Square enabled | K16: Square enabled | L16: Square enabled | M16: 1 | N16: 1 | O16: 1 | P16: 1 | Q16: 1=yes; 0=no | R16: 1=yes; 0=no | S16: 1=yes; 0=no | T16: 1=yes; 0=no | U16: 1=yes; 0=no | V16: 1=yes; 0=no | X16: South weight | Y16: South weight | Z16: South weight | AA16: South weight | AB16: South weight | AC16: South weight | AD16: South weight | AE16: South weight | AF16: South weight | AG16: South weight | AH16: South weight | AJ16: =AJ11 -> 0.1 | AP16: Boundary nodes: left inlet scalar; right zero x-gradient; top and bottom zero y-gradient. Square geometry snaps to grid nodes. Keep it strictly inside the domain. | AQ16: Boundary nodes: left inlet scalar; right zero x-gradient; top and bottom zero y-gradient. Square geometry snaps to grid nodes. Keep it strictly inside the domain. | AR16: Boundary nodes: left inlet scalar; right zero x-gradient; top and bottom zero y-gradient. Square geometry snaps to grid nodes. Keep it strictly inside the domain. | AS16: Boundary nodes: left inlet scalar; right zero x-gradient; top and bottom zero y-gradient. Square geometry snaps to grid nodes. Keep it strictly inside the domain. | AT16: Boundary nodes: left inlet scalar; right zero x-gradient; top and bottom zero y-gradient. Square geometry snaps to grid nodes. Keep it strictly inside the domain. | AU16: Boundary nodes: left inlet scalar; right zero x-gradient; top and bottom zero y-gradient. Square geometry snaps to grid nodes. Keep it strictly inside the domain. | AV16: Boundary nodes: left inlet scalar; right zero x-gradient; top and bottom zero y-gradient. Square geometry snaps to grid nodes. Keep it strictly inside the domain. | AW16: Boundary nodes: left inlet scalar; right zero x-gradient; top and bottom zero y-gradient. Square geometry snaps to grid nodes. Keep it strictly inside the domain. | AX16: Boundary nodes: left inlet scalar; right zero x-gradient; top and bottom zero y-gradient. Square geometry snaps to grid nodes. Keep it strictly inside the domain. | AY16: Boundary nodes: left inlet scalar; right zero x-gradient; top and bottom zero y-gradient. Square geometry snaps to grid nodes. Keep it strictly inside the domain. | AZ16: Boundary nodes: left inlet scalar; right zero x-gradient; top and bottom zero y-gradient. Square geometry snaps to grid nodes. Keep it strictly inside the domain. | BA16: Boundary nodes: left inlet scalar; right zero x-gradient; top and bottom zero y-gradient. Square geometry snaps to grid nodes. Keep it strictly inside the domain. | BB16: Boundary nodes: left inlet scalar; right zero x-gradient; top and bottom zero y-gradient. Square geometry snaps to grid nodes. Keep it strictly inside the domain. | BC16: Boundary nodes: left inlet scalar; right zero x-gradient; top and bottom zero y-gradient. Square geometry snaps to grid nodes. Keep it strictly inside the domain. | BD16: Boundary nodes: left inlet scalar; right zero x-gradient; top and bottom zero y-gradient. Square geometry snaps to grid nodes. Keep it strictly inside the domain. | BE16: Boundary nodes: left inlet scalar; right zero x-gradient; top and bottom zero y-gradient. Square geometry snaps to grid nodes. Keep it strictly inside the domain. | BF16: Boundary nodes: left inlet scalar; right zero x-gradient; top and bottom zero y-gradient. Square geometry snaps to grid nodes. Keep it strictly inside the domain. | BG16: Boundary nodes: left inlet scalar; right zero x-gradient; top and bottom zero y-gradient. Square geometry snaps to grid nodes. Keep it strictly inside the domain. | BH16: Boundary nodes: left inlet scalar; right zero x-gradient; top and bottom zero y-gradient. Square geometry snaps to grid nodes. Keep it strictly inside the domain. | BI16: Boundary nodes: left inlet scalar; right zero x-gradient; top and bottom zero y-gradient. Square geometry snaps to grid nodes. Keep it strictly inside the domain. | BJ16: Boundary nodes: left inlet scalar; right zero x-gradient; top and bottom zero y-gradient. Square geometry snaps to grid nodes. Keep it strictly inside the domain. | BK16: Boundary nodes: left inlet scalar; right zero x-gradient; top and bottom zero y-gradient. Square geometry snaps to grid nodes. Keep it strictly inside the domain.
B17: Amber cells are editable. Grid size is fixed at 61 x 41. | C17: Amber cells are editable. Grid size is fixed at 61 x 41. | D17: Amber cells are editable. Grid size is fixed at 61 x 41. | E17: Amber cells are editable. Grid size is fixed at 61 x 41. | F17: Amber cells are editable. Grid size is fixed at 61 x 41. | G17: Amber cells are editable. Grid size is fixed at 61 x 41. | H17: Amber cells are editable. Grid size is fixed at 61 x 41. | I17: Amber cells are editable. Grid size is fixed at 61 x 41. | J17: Amber cells are editable. Grid size is fixed at 61 x 41. | K17: Amber cells are editable. Grid size is fixed at 61 x 41. | L17: Amber cells are editable. Grid size is fixed at 61 x 41. | M17: Amber cells are editable. Grid size is fixed at 61 x 41. | N17: Amber cells are editable. Grid size is fixed at 61 x 41. | O17: Amber cells are editable. Grid size is fixed at 61 x 41. | P17: Amber cells are editable. Grid size is fixed at 61 x 41. | Q17: Amber cells are editable. Grid size is fixed at 61 x 41. | R17: Amber cells are editable. Grid size is fixed at 61 x 41. | S17: Amber cells are editable. Grid size is fixed at 61 x 41. | T17: Amber cells are editable. Grid size is fixed at 61 x 41. | U17: Amber cells are editable. Grid size is fixed at 61 x 41. | V17: Amber cells are editable. Grid size is fixed at 61 x 41. | X17: Total weight | Y17: Total weight | Z17: Total weight | AA17: Total weight | AB17: Total weight | AC17: Total weight | AD17: Total weight | AE17: Total weight | AF17: Total weight | AG17: Total weight | AH17: Total weight | AJ17: =SUM(AJ13:AJ16) -> 0.45 | AP17: Boundary nodes: left inlet scalar; right zero x-gradient; top and bottom zero y-gradient. Square geometry snaps to grid nodes. Keep it strictly inside the domain. | AQ17: Boundary nodes: left inlet scalar; right zero x-gradient; top and bottom zero y-gradient. Square geometry snaps to grid nodes. Keep it strictly inside the domain. | AR17: Boundary nodes: left inlet scalar; right zero x-gradient; top and bottom zero y-gradient. Square geometry snaps to grid nodes. Keep it strictly inside the domain. | AS17: Boundary nodes: left inlet scalar; right zero x-gradient; top and bottom zero y-gradient. Square geometry snaps to grid nodes. Keep it strictly inside the domain. | AT17: Boundary nodes: left inlet scalar; right zero x-gradient; top and bottom zero y-gradient. Square geometry snaps to grid nodes. Keep it strictly inside the domain. | AU17: Boundary nodes: left inlet scalar; right zero x-gradient; top and bottom zero y-gradient. Square geometry snaps to grid nodes. Keep it strictly inside the domain. | AV17: Boundary nodes: left inlet scalar; right zero x-gradient; top and bottom zero y-gradient. Square geometry snaps to grid nodes. Keep it strictly inside the domain. | AW17: Boundary nodes: left inlet scalar; right zero x-gradient; top and bottom zero y-gradient. Square geometry snaps to grid nodes. Keep it strictly inside the domain. | AX17: Boundary nodes: left inlet scalar; right zero x-gradient; top and bottom zero y-gradient. Square geometry snaps to grid nodes. Keep it strictly inside the domain. | AY17: Boundary nodes: left inlet scalar; right zero x-gradient; top and bottom zero y-gradient. Square geometry snaps to grid nodes. Keep it strictly inside the domain. | AZ17: Boundary nodes: left inlet scalar; right zero x-gradient; top and bottom zero y-gradient. Square geometry snaps to grid nodes. Keep it strictly inside the domain. | BA17: Boundary nodes: left inlet scalar; right zero x-gradient; top and bottom zero y-gradient. Square geometry snaps to grid nodes. Keep it strictly inside the domain. | BB17: Boundary nodes: left inlet scalar; right zero x-gradient; top and bottom zero y-gradient. Square geometry snaps to grid nodes. Keep it strictly inside the domain. | BC17: Boundary nodes: left inlet scalar; right zero x-gradient; top and bottom zero y-gradient. Square geometry snaps to grid nodes. Keep it strictly inside the domain. | BD17: Boundary nodes: left inlet scalar; right zero x-gradient; top and bottom zero y-gradient. Square geometry snaps to grid nodes. Keep it strictly inside the domain. | BE17: Boundary nodes: left inlet scalar; right zero x-gradient; top and bottom zero y-gradient. Square geometry snaps to grid nodes. Keep it strictly inside the domain. | BF17: Boundary nodes: left inlet scalar; right zero x-gradient; top and bottom zero y-gradient. Square geometry snaps to grid nodes. Keep it strictly inside the domain. | BG17: Boundary nodes: left inlet scalar; right zero x-gradient; top and bottom zero y-gradient. Square geometry snaps to grid nodes. Keep it strictly inside the domain. | BH17: Boundary nodes: left inlet scalar; right zero x-gradient; top and bottom zero y-gradient. Square geometry snaps to grid nodes. Keep it strictly inside the domain. | BI17: Boundary nodes: left inlet scalar; right zero x-gradient; top and bottom zero y-gradient. Square geometry snaps to grid nodes. Keep it strictly inside the domain. | BJ17: Boundary nodes: left inlet scalar; right zero x-gradient; top and bottom zero y-gradient. Square geometry snaps to grid nodes. Keep it strictly inside the domain. | BK17: Boundary nodes: left inlet scalar; right zero x-gradient; top and bottom zero y-gradient. Square geometry snaps to grid nodes. Keep it strictly inside the domain.
B18: Input validity | C18: Input validity | D18: Input validity | E18: Input validity | F18: Input validity | G18: Input validity | H18: Input validity | I18: Input validity | J18: Input validity | K18: Input validity | L18: Input validity | M18: =IF(AND(COUNT(M6:M16)=11,M6>0,M7>0,M8>=0,M9>0,M10>0,M13>0,M14>0,M15>0,M13+M15<M6,M14+M15<M7,OR(M16=0,M16=1)),1,0) -> 1 | Q18: 1 valid; 0 invalid | R18: 1 valid; 0 invalid | S18: 1 valid; 0 invalid | T18: 1 valid; 0 invalid | U18: 1 valid; 0 invalid | V18: 1 valid; 0 invalid | X18: Cell Peclet number | Y18: Cell Peclet number | Z18: Cell Peclet number | AA18: Cell Peclet number | AB18: Cell Peclet number | AC18: Cell Peclet number | AD18: Cell Peclet number | AE18: Cell Peclet number | AF18: Cell Peclet number | AG18: Cell Peclet number | AH18: Cell Peclet number | AJ18: =ABS(AJ12)/AJ10 -> 0.5 | AP18: Boundary nodes: left inlet scalar; right zero x-gradient; top and bottom zero y-gradient. Square geometry snaps to grid nodes. Keep it strictly inside the domain. | AQ18: Boundary nodes: left inlet scalar; right zero x-gradient; top and bottom zero y-gradient. Square geometry snaps to grid nodes. Keep it strictly inside the domain. | AR18: Boundary nodes: left inlet scalar; right zero x-gradient; top and bottom zero y-gradient. Square geometry snaps to grid nodes. Keep it strictly inside the domain. | AS18: Boundary nodes: left inlet scalar; right zero x-gradient; top and bottom zero y-gradient. Square geometry snaps to grid nodes. Keep it strictly inside the domain. | AT18: Boundary nodes: left inlet scalar; right zero x-gradient; top and bottom zero y-gradient. Square geometry snaps to grid nodes. Keep it strictly inside the domain. | AU18: Boundary nodes: left inlet scalar; right zero x-gradient; top and bottom zero y-gradient. Square geometry snaps to grid nodes. Keep it strictly inside the domain. | AV18: Boundary nodes: left inlet scalar; right zero x-gradient; top and bottom zero y-gradient. Square geometry snaps to grid nodes. Keep it strictly inside the domain. | AW18: Boundary nodes: left inlet scalar; right zero x-gradient; top and bottom zero y-gradient. Square geometry snaps to grid nodes. Keep it strictly inside the domain. | AX18: Boundary nodes: left inlet scalar; right zero x-gradient; top and bottom zero y-gradient. Square geometry snaps to grid nodes. Keep it strictly inside the domain. | AY18: Boundary nodes: left inlet scalar; right zero x-gradient; top and bottom zero y-gradient. Square geometry snaps to grid nodes. Keep it strictly inside the domain. | AZ18: Boundary nodes: left inlet scalar; right zero x-gradient; top and bottom zero y-gradient. Square geometry snaps to grid nodes. Keep it strictly inside the domain. | BA18: Boundary nodes: left inlet scalar; right zero x-gradient; top and bottom zero y-gradient. Square geometry snaps to grid nodes. Keep it strictly inside the domain. | BB18: Boundary nodes: left inlet scalar; right zero x-gradient; top and bottom zero y-gradient. Square geometry snaps to grid nodes. Keep it strictly inside the domain. | BC18: Boundary nodes: left inlet scalar; right zero x-gradient; top and bottom zero y-gradient. Square geometry snaps to grid nodes. Keep it strictly inside the domain. | BD18: Boundary nodes: left inlet scalar; right zero x-gradient; top and bottom zero y-gradient. Square geometry snaps to grid nodes. Keep it strictly inside the domain. | BE18: Boundary nodes: left inlet scalar; right zero x-gradient; top and bottom zero y-gradient. Square geometry snaps to grid nodes. Keep it strictly inside the domain. | BF18: Boundary nodes: left inlet scalar; right zero x-gradient; top and bottom zero y-gradient. Square geometry snaps to grid nodes. Keep it strictly inside the domain. | BG18: Boundary nodes: left inlet scalar; right zero x-gradient; top and bottom zero y-gradient. Square geometry snaps to grid nodes. Keep it strictly inside the domain. | BH18: Boundary nodes: left inlet scalar; right zero x-gradient; top and bottom zero y-gradient. Square geometry snaps to grid nodes. Keep it strictly inside the domain. | BI18: Boundary nodes: left inlet scalar; right zero x-gradient; top and bottom zero y-gradient. Square geometry snaps to grid nodes. Keep it strictly inside the domain. | BJ18: Boundary nodes: left inlet scalar; right zero x-gradient; top and bottom zero y-gradient. Square geometry snaps to grid nodes. Keep it strictly inside the domain. | BK18: Boundary nodes: left inlet scalar; right zero x-gradient; top and bottom zero y-gradient. Square geometry snaps to grid nodes. Keep it strictly inside the domain.
B19: =IF(M18=1,"Ready. Allow calculation to finish after each edit. Review the residual on Field before using the result.","Invalid inputs. Use numeric values, positive dimensions/density/diffusion, velocity >= 0, and a square strictly inside the domain. The field is cleared until corrected.") -> Ready. Allow calculation to finish after each edit. Review the residual on Field before using the result.
B22: Top symmetry: zero normal scalar gradient | C22: Top symmetry: zero normal scalar gradient | D22: Top symmetry: zero normal scalar gradient | E22: Top symmetry: zero normal scalar gradient | F22: Top symmetry: zero normal scalar gradient | G22: Top symmetry: zero normal scalar gradient | H22: Top symmetry: zero normal scalar gradient | I22: Top symmetry: zero normal scalar gradient | J22: Top symmetry: zero normal scalar gradient | K22: Top symmetry: zero normal scalar gradient | L22: Top symmetry: zero normal scalar gradient | M22: Top symmetry: zero normal scalar gradient | N22: Top symmetry: zero normal scalar gradient | O22: Top symmetry: zero normal scalar gradient | P22: Top symmetry: zero normal scalar gradient | Q22: Top symmetry: zero normal scalar gradient | R22: Top symmetry: zero normal scalar gradient | S22: Top symmetry: zero normal scalar gradient | T22: Top symmetry: zero normal scalar gradient | U22: Top symmetry: zero normal scalar gradient | V22: Top symmetry: zero normal scalar gradient | W22: Top symmetry: zero normal scalar gradient | X22: Top symmetry: zero normal scalar gradient | Y22: Top symmetry: zero normal scalar gradient | Z22: Top symmetry: zero normal scalar gradient | AA22: Top symmetry: zero normal scalar gradient | AB22: Top symmetry: zero normal scalar gradient | AC22: Top symmetry: zero normal scalar gradient | AD22: Top symmetry: zero normal scalar gradient | AE22: Top symmetry: zero normal scalar gradient | AF22: Top symmetry: zero normal scalar gradient | AG22: Top symmetry: zero normal scalar gradient | AH22: Top symmetry: zero normal scalar gradient | AI22: Top symmetry: zero normal scalar gradient | AJ22: Top symmetry: zero normal scalar gradient | AK22: Top symmetry: zero normal scalar gradient | AL22: Top symmetry: zero normal scalar gradient | AM22: Top symmetry: zero normal scalar gradient | AN22: Top symmetry: zero normal scalar gradient | AO22: Top symmetry: zero normal scalar gradient | AP22: Top symmetry: zero normal scalar gradient | AQ22: Top symmetry: zero normal scalar gradient | AR22: Top symmetry: zero normal scalar gradient | AS22: Top symmetry: zero normal scalar gradient | AT22: Top symmetry: zero normal scalar gradient | AU22: Top symmetry: zero normal scalar gradient | AV22: Top symmetry: zero normal scalar gradient | AW22: Top symmetry: zero normal scalar gradient | AX22: Top symmetry: zero normal scalar gradient | AY22: Top symmetry: zero normal scalar gradient | AZ22: Top symmetry: zero normal scalar gradient | BA22: Top symmetry: zero normal scalar gradient | BB22: Top symmetry: zero normal scalar gradient | BC22: Top symmetry: zero normal scalar gradient | BD22: Top symmetry: zero normal scalar gradient | BE22: Top symmetry: zero normal scalar gradient | BF22: Top symmetry: zero normal scalar gradient | BG22: Top symmetry: zero normal scalar gradient | BH22: Top symmetry: zero normal scalar gradient | BI22: Top symmetry: zero normal scalar gradient | BJ22: Top symmetry: zero normal scalar gradient
B23: =Field!B4 -> 0 | L23: =Field!L4 -> 0.5 | V23: =Field!V4 -> 1 | AF23: =Field!AF4 -> 1.5 | AP23: =Field!AP4 -> 2 | AZ23: =Field!AZ4 -> 2.5 | BJ23: =Field!BJ4 -> 3
A24: =Field!A5 -> 2 | B24: =IF(OR($M$18=0,AND(Model!$M$16=1,Field!B$4>=Model!$M$13-0.000000001,Field!B$4<=Model!$M$13+Model!$M$15+0.000000001,Field!$A5>=Model!$M$14-0.000000001,Field!$A5<=Model!$M$14+Model!$M$15+0.000000001)),"",Field!B5) -> 1 | C24: =IF(OR($M$18=0,AND(Model!$M$16=1,Field!C$4>=Model!$M$13-0.000000001,Field!C$4<=Model!$M$13+Model!$M$15+0.000000001,Field!$A5>=Model!$M$14-0.000000001,Field!$A5<=Model!$M$14+Model!$M$15+0.000000001)),"",Field!C5) -> 0.99991082 | D24: =IF(OR($M$18=0,AND(Model!$M$16=1,Field!D$4>=Model!$M$13-0.000000001,Field!D$4<=Model!$M$13+Model!$M$15+0.000000001,Field!$A5>=Model!$M$14-0.000000001,Field!$A5<=Model!$M$14+Model!$M$15+0.000000001)),"",Field!D5) -> 0.99978093 | E24: =IF(OR($M$18=0,AND(Model!$M$16=1,Field!E$4>=Model!$M$13-0.000000001,Field!E$4<=Model!$M$13+Model!$M$15+0.000000001,Field!$A5>=Model!$M$14-0.000000001,Field!$A5<=Model!$M$14+Model!$M$15+0.000000001)),"",Field!E5) -> 0.99959573 | F24: =IF(OR($M$18=0,AND(Model!$M$16=1,Field!F$4>=Model!$M$13-0.000000001,Field!F$4<=Model!$M$13+Model!$M$15+0.000000001,Field!$A5>=Model!$M$14-0.000000001,Field!$A5<=Model!$M$14+Model!$M$15+0.000000001)),"",Field!F5) -> 0.99933607 | G24: =IF(OR($M$18=0,AND(Model!$M$16=1,Field!G$4>=Model!$M$13-0.000000001,Field!G$4<=Model!$M$13+Model!$M$15+0.000000001,Field!$A5>=Model!$M$14-0.000000001,Field!$A5<=Model!$M$14+Model!$M$15+0.000000001)),"",Field!G5) -> 0.99897714 | H24: =IF(OR($M$18=0,AND(Model!$M$16=1,Field!H$4>=Model!$M$13-0.000000001,Field!H$4<=Model!$M$13+Model!$M$15+0.000000001,Field!$A5>=Model!$M$14-0.000000001,Field!$A5<=Model!$M$14+Model!$M$15+0.000000001)),"",Field!H5) -> 0.99848736 | I24: =IF(OR($M$18=0,AND(Model!$M$16=1,Field!I$4>=Model!$M$13-0.000000001,Field!I$4<=Model!$M$13+Model!$M$15+0.000000001,Field!$A5>=Model!$M$14-0.000000001,Field!$A5<=Model!$M$14+Model!$M$15+0.000000001)),"",Field!I5) -> 0.99782721 | ... BJ24: =IF(OR($M$18=0,AND(Model!$M$16=1,Field!BJ$4>=Model!$M$13-0.000000001,Field!BJ$4<=Model!$M$13+Model!$M$15+0.000000001,Field!$A5>=Model!$M$14-0.000000001,Field!$A5<=Model!$M$14+Model!$M$15+0.000000001)),"",Field!BJ5) -> 0.56418956
B25: =IF(OR($M$18=0,AND(Model!$M$16=1,Field!B$4>=Model!$M$13-0.000000001,Field!B$4<=Model!$M$13+Model!$M$15+0.000000001,Field!$A6>=Model!$M$14-0.000000001,Field!$A6<=Model!$M$14+Model!$M$15+0.000000001)),"",Field!B6) -> 1 | C25: =IF(OR($M$18=0,AND(Model!$M$16=1,Field!C$4>=Model!$M$13-0.000000001,Field!C$4<=Model!$M$13+Model!$M$15+0.000000001,Field!$A6>=Model!$M$14-0.000000001,Field!$A6<=Model!$M$14+Model!$M$15+0.000000001)),"",Field!C6) -> 0.99991082 | D25: =IF(OR($M$18=0,AND(Model!$M$16=1,Field!D$4>=Model!$M$13-0.000000001,Field!D$4<=Model!$M$13+Model!$M$15+0.000000001,Field!$A6>=Model!$M$14-0.000000001,Field!$A6<=Model!$M$14+Model!$M$15+0.000000001)),"",Field!D6) -> 0.99978093 | E25: =IF(OR($M$18=0,AND(Model!$M$16=1,Field!E$4>=Model!$M$13-0.000000001,Field!E$4<=Model!$M$13+Model!$M$15+0.000000001,Field!$A6>=Model!$M$14-0.000000001,Field!$A6<=Model!$M$14+Model!$M$15+0.000000001)),"",Field!E6) -> 0.99959573 | F25: =IF(OR($M$18=0,AND(Model!$M$16=1,Field!F$4>=Model!$M$13-0.000000001,Field!F$4<=Model!$M$13+Model!$M$15+0.000000001,Field!$A6>=Model!$M$14-0.000000001,Field!$A6<=Model!$M$14+Model!$M$15+0.000000001)),"",Field!F6) -> 0.99933607 | G25: =IF(OR($M$18=0,AND(Model!$M$16=1,Field!G$4>=Model!$M$13-0.000000001,Field!G$4<=Model!$M$13+Model!$M$15+0.000000001,Field!$A6>=Model!$M$14-0.000000001,Field!$A6<=Model!$M$14+Model!$M$15+0.000000001)),"",Field!G6) -> 0.99897714 | H25: =IF(OR($M$18=0,AND(Model!$M$16=1,Field!H$4>=Model!$M$13-0.000000001,Field!H$4<=Model!$M$13+Model!$M$15+0.000000001,Field!$A6>=Model!$M$14-0.000000001,Field!$A6<=Model!$M$14+Model!$M$15+0.000000001)),"",Field!H6) -> 0.99848736 | I25: =IF(OR($M$18=0,AND(Model!$M$16=1,Field!I$4>=Model!$M$13-0.000000001,Field!I$4<=Model!$M$13+Model!$M$15+0.000000001,Field!$A6>=Model!$M$14-0.000000001,Field!$A6<=Model!$M$14+Model!$M$15+0.000000001)),"",Field!I6) -> 0.99782721 | ... BJ25: =IF(OR($M$18=0,AND(Model!$M$16=1,Field!BJ$4>=Model!$M$13-0.000000001,Field!BJ$4<=Model!$M$13+Model!$M$15+0.000000001,Field!$A6>=Model!$M$14-0.000000001,Field!$A6<=Model!$M$14+Model!$M$15+0.000000001)),"",Field!BJ6) -> 0.56418956
B26: =IF(OR($M$18=0,AND(Model!$M$16=1,Field!B$4>=Model!$M$13-0.000000001,Field!B$4<=Model!$M$13+Model!$M$15+0.000000001,Field!$A7>=Model!$M$14-0.000000001,Field!$A7<=Model!$M$14+Model!$M$15+0.000000001)),"",Field!B7) -> 1 | C26: =IF(OR($M$18=0,AND(Model!$M$16=1,Field!C$4>=Model!$M$13-0.000000001,Field!C$4<=Model!$M$13+Model!$M$15+0.000000001,Field!$A7>=Model!$M$14-0.000000001,Field!$A7<=Model!$M$14+Model!$M$15+0.000000001)),"",Field!C7) -> 0.99990695 | D26: =IF(OR($M$18=0,AND(Model!$M$16=1,Field!D$4>=Model!$M$13-0.000000001,Field!D$4<=Model!$M$13+Model!$M$15+0.000000001,Field!$A7>=Model!$M$14-0.000000001,Field!$A7<=Model!$M$14+Model!$M$15+0.000000001)),"",Field!D7) -> 0.99977129 | E26: =IF(OR($M$18=0,AND(Model!$M$16=1,Field!E$4>=Model!$M$13-0.000000001,Field!E$4<=Model!$M$13+Model!$M$15+0.000000001,Field!$A7>=Model!$M$14-0.000000001,Field!$A7<=Model!$M$14+Model!$M$15+0.000000001)),"",Field!E7) -> 0.9995776 | F26: =IF(OR($M$18=0,AND(Model!$M$16=1,Field!F$4>=Model!$M$13-0.000000001,Field!F$4<=Model!$M$13+Model!$M$15+0.000000001,Field!$A7>=Model!$M$14-0.000000001,Field!$A7<=Model!$M$14+Model!$M$15+0.000000001)),"",Field!F7) -> 0.9993055 | G26: =IF(OR($M$18=0,AND(Model!$M$16=1,Field!G$4>=Model!$M$13-0.000000001,Field!G$4<=Model!$M$13+Model!$M$15+0.000000001,Field!$A7>=Model!$M$14-0.000000001,Field!$A7<=Model!$M$14+Model!$M$15+0.000000001)),"",Field!G7) -> 0.99892854 | H26: =IF(OR($M$18=0,AND(Model!$M$16=1,Field!H$4>=Model!$M$13-0.000000001,Field!H$4<=Model!$M$13+Model!$M$15+0.000000001,Field!$A7>=Model!$M$14-0.000000001,Field!$A7<=Model!$M$14+Model!$M$15+0.000000001)),"",Field!H7) -> 0.99841285 | I26: =IF(OR($M$18=0,AND(Model!$M$16=1,Field!I$4>=Model!$M$13-0.000000001,Field!I$4<=Model!$M$13+Model!$M$15+0.000000001,Field!$A7>=Model!$M$14-0.000000001,Field!$A7<=Model!$M$14+Model!$M$15+0.000000001)),"",Field!I7) -> 0.99771591 | ... BJ26: =IF(OR($M$18=0,AND(Model!$M$16=1,Field!BJ$4>=Model!$M$13-0.000000001,Field!BJ$4<=Model!$M$13+Model!$M$15+0.000000001,Field!$A7>=Model!$M$14-0.000000001,Field!$A7<=Model!$M$14+Model!$M$15+0.000000001)),"",Field!BJ7) -> 0.56130484
B27: =IF(OR($M$18=0,AND(Model!$M$16=1,Field!B$4>=Model!$M$13-0.000000001,Field!B$4<=Model!$M$13+Model!$M$15+0.000000001,Field!$A8>=Model!$M$14-0.000000001,Field!$A8<=Model!$M$14+Model!$M$15+0.000000001)),"",Field!B8) -> 1 | C27: =IF(OR($M$18=0,AND(Model!$M$16=1,Field!C$4>=Model!$M$13-0.000000001,Field!C$4<=Model!$M$13+Model!$M$15+0.000000001,Field!$A8>=Model!$M$14-0.000000001,Field!$A8<=Model!$M$14+Model!$M$15+0.000000001)),"",Field!C8) -> 0.99989914 | D27: =IF(OR($M$18=0,AND(Model!$M$16=1,Field!D$4>=Model!$M$13-0.000000001,Field!D$4<=Model!$M$13+Model!$M$15+0.000000001,Field!$A8>=Model!$M$14-0.000000001,Field!$A8<=Model!$M$14+Model!$M$15+0.000000001)),"",Field!D8) -> 0.99975187 | E27: =IF(OR($M$18=0,AND(Model!$M$16=1,Field!E$4>=Model!$M$13-0.000000001,Field!E$4<=Model!$M$13+Model!$M$15+0.000000001,Field!$A8>=Model!$M$14-0.000000001,Field!$A8<=Model!$M$14+Model!$M$15+0.000000001)),"",Field!E8) -> 0.99954102 | F27: =IF(OR($M$18=0,AND(Model!$M$16=1,Field!F$4>=Model!$M$13-0.000000001,Field!F$4<=Model!$M$13+Model!$M$15+0.000000001,Field!$A8>=Model!$M$14-0.000000001,Field!$A8<=Model!$M$14+Model!$M$15+0.000000001)),"",Field!F8) -> 0.99924375 | G27: =IF(OR($M$18=0,AND(Model!$M$16=1,Field!G$4>=Model!$M$13-0.000000001,Field!G$4<=Model!$M$13+Model!$M$15+0.000000001,Field!$A8>=Model!$M$14-0.000000001,Field!$A8<=Model!$M$14+Model!$M$15+0.000000001)),"",Field!G8) -> 0.99883017 | H27: =IF(OR($M$18=0,AND(Model!$M$16=1,Field!H$4>=Model!$M$13-0.000000001,Field!H$4<=Model!$M$13+Model!$M$15+0.000000001,Field!$A8>=Model!$M$14-0.000000001,Field!$A8<=Model!$M$14+Model!$M$15+0.000000001)),"",Field!H8) -> 0.99826173 | I27: =IF(OR($M$18=0,AND(Model!$M$16=1,Field!I$4>=Model!$M$13-0.000000001,Field!I$4<=Model!$M$13+Model!$M$15+0.000000001,Field!$A8>=Model!$M$14-0.000000001,Field!$A8<=Model!$M$14+Model!$M$15+0.000000001)),"",Field!I8) -> 0.99748966 | ... BJ27: =IF(OR($M$18=0,AND(Model!$M$16=1,Field!BJ$4>=Model!$M$13-0.000000001,Field!BJ$4<=Model!$M$13+Model!$M$15+0.000000001,Field!$A8>=Model!$M$14-0.000000001,Field!$A8<=Model!$M$14+Model!$M$15+0.000000001)),"",Field!BJ8) -> 0.55560701
B28: =IF(OR($M$18=0,AND(Model!$M$16=1,Field!B$4>=Model!$M$13-0.000000001,Field!B$4<=Model!$M$13+Model!$M$15+0.000000001,Field!$A9>=Model!$M$14-0.000000001,Field!$A9<=Model!$M$14+Model!$M$15+0.000000001)),"",Field!B9) -> 1 | C28: =IF(OR($M$18=0,AND(Model!$M$16=1,Field!C$4>=Model!$M$13-0.000000001,Field!C$4<=Model!$M$13+Model!$M$15+0.000000001,Field!$A9>=Model!$M$14-0.000000001,Field!$A9<=Model!$M$14+Model!$M$15+0.000000001)),"",Field!C9) -> 0.99988731 | D28: =IF(OR($M$18=0,AND(Model!$M$16=1,Field!D$4>=Model!$M$13-0.000000001,Field!D$4<=Model!$M$13+Model!$M$15+0.000000001,Field!$A9>=Model!$M$14-0.000000001,Field!$A9<=Model!$M$14+Model!$M$15+0.000000001)),"",Field!D9) -> 0.99972241 | E28: =IF(OR($M$18=0,AND(Model!$M$16=1,Field!E$4>=Model!$M$13-0.000000001,Field!E$4<=Model!$M$13+Model!$M$15+0.000000001,Field!$A9>=Model!$M$14-0.000000001,Field!$A9<=Model!$M$14+Model!$M$15+0.000000001)),"",Field!E9) -> 0.99948542 | F28: =IF(OR($M$18=0,AND(Model!$M$16=1,Field!F$4>=Model!$M$13-0.000000001,Field!F$4<=Model!$M$13+Model!$M$15+0.000000001,Field!$A9>=Model!$M$14-0.000000001,Field!$A9<=Model!$M$14+Model!$M$15+0.000000001)),"",Field!F9) -> 0.99914968 | G28: =IF(OR($M$18=0,AND(Model!$M$16=1,Field!G$4>=Model!$M$13-0.000000001,Field!G$4<=Model!$M$13+Model!$M$15+0.000000001,Field!$A9>=Model!$M$14-0.000000001,Field!$A9<=Model!$M$14+Model!$M$15+0.000000001)),"",Field!G9) -> 0.99867988 | H28: =IF(OR($M$18=0,AND(Model!$M$16=1,Field!H$4>=Model!$M$13-0.000000001,Field!H$4<=Model!$M$13+Model!$M$15+0.000000001,Field!$A9>=Model!$M$14-0.000000001,Field!$A9<=Model!$M$14+Model!$M$15+0.000000001)),"",Field!H9) -> 0.99803001 | I28: =IF(OR($M$18=0,AND(Model!$M$16=1,Field!I$4>=Model!$M$13-0.000000001,Field!I$4<=Model!$M$13+Model!$M$15+0.000000001,Field!$A9>=Model!$M$14-0.000000001,Field!$A9<=Model!$M$14+Model!$M$15+0.000000001)),"",Field!I9) -> 0.99714132 | ... BJ28: =IF(OR($M$18=0,AND(Model!$M$16=1,Field!BJ$4>=Model!$M$13-0.000000001,Field!BJ$4<=Model!$M$13+Model!$M$15+0.000000001,Field!$A9>=Model!$M$14-0.000000001,Field!$A9<=Model!$M$14+Model!$M$15+0.000000001)),"",Field!BJ9) -> 0.54723777
B29: =IF(OR($M$18=0,AND(Model!$M$16=1,Field!B$4>=Model!$M$13-0.000000001,Field!B$4<=Model!$M$13+Model!$M$15+0.000000001,Field!$A10>=Model!$M$14-0.000000001,Field!$A10<=Model!$M$14+Model!$M$15+0.000000001)),"",Field!B10) -> 1 | C29: =IF(OR($M$18=0,AND(Model!$M$16=1,Field!C$4>=Model!$M$13-0.000000001,Field!C$4<=Model!$M$13+Model!$M$15+0.000000001,Field!$A10>=Model!$M$14-0.000000001,Field!$A10<=Model!$M$14+Model!$M$15+0.000000001)),"",Field!C10) -> 0.99987133 | D29: =IF(OR($M$18=0,AND(Model!$M$16=1,Field!D$4>=Model!$M$13-0.000000001,Field!D$4<=Model!$M$13+Model!$M$15+0.000000001,Field!$A10>=Model!$M$14-0.000000001,Field!$A10<=Model!$M$14+Model!$M$15+0.000000001)),"",Field!D10) -> 0.99968257 | E29: =IF(OR($M$18=0,AND(Model!$M$16=1,Field!E$4>=Model!$M$13-0.000000001,Field!E$4<=Model!$M$13+Model!$M$15+0.000000001,Field!$A10>=Model!$M$14-0.000000001,Field!$A10<=Model!$M$14+Model!$M$15+0.000000001)),"",Field!E10) -> 0.99941009 | F29: =IF(OR($M$18=0,AND(Model!$M$16=1,Field!F$4>=Model!$M$13-0.000000001,Field!F$4<=Model!$M$13+Model!$M$15+0.000000001,Field!$A10>=Model!$M$14-0.000000001,Field!$A10<=Model!$M$14+Model!$M$15+0.000000001)),"",Field!F10) -> 0.99902181 | G29: =IF(OR($M$18=0,AND(Model!$M$16=1,Field!G$4>=Model!$M$13-0.000000001,Field!G$4<=Model!$M$13+Model!$M$15+0.000000001,Field!$A10>=Model!$M$14-0.000000001,Field!$A10<=Model!$M$14+Model!$M$15+0.000000001)),"",Field!G10) -> 0.99847474 | H29: =IF(OR($M$18=0,AND(Model!$M$16=1,Field!H$4>=Model!$M$13-0.000000001,Field!H$4<=Model!$M$13+Model!$M$15+0.000000001,Field!$A10>=Model!$M$14-0.000000001,Field!$A10<=Model!$M$14+Model!$M$15+0.000000001)),"",Field!H10) -> 0.99771218 | I29: =IF(OR($M$18=0,AND(Model!$M$16=1,Field!I$4>=Model!$M$13-0.000000001,Field!I$4<=Model!$M$13+Model!$M$15+0.000000001,Field!$A10>=Model!$M$14-0.000000001,Field!$A10<=Model!$M$14+Model!$M$15+0.000000001)),"",Field!I10) -> 0.99666084 | ... BJ29: =IF(OR($M$18=0,AND(Model!$M$16=1,Field!BJ$4>=Model!$M$13-0.000000001,Field!BJ$4<=Model!$M$13+Model!$M$15+0.000000001,Field!$A10>=Model!$M$14-0.000000001,Field!$A10<=Model!$M$14+Model!$M$15+0.000000001)),"",Field!BJ10) -> 0.53640591
B30: =IF(OR($M$18=0,AND(Model!$M$16=1,Field!B$4>=Model!$M$13-0.000000001,Field!B$4<=Model!$M$13+Model!$M$15+0.000000001,Field!$A11>=Model!$M$14-0.000000001,Field!$A11<=Model!$M$14+Model!$M$15+0.000000001)),"",Field!B11) -> 1 | C30: =IF(OR($M$18=0,AND(Model!$M$16=1,Field!C$4>=Model!$M$13-0.000000001,Field!C$4<=Model!$M$13+Model!$M$15+0.000000001,Field!$A11>=Model!$M$14-0.000000001,Field!$A11<=Model!$M$14+Model!$M$15+0.000000001)),"",Field!C11) -> 0.99985112 | D30: =IF(OR($M$18=0,AND(Model!$M$16=1,Field!D$4>=Model!$M$13-0.000000001,Field!D$4<=Model!$M$13+Model!$M$15+0.000000001,Field!$A11>=Model!$M$14-0.000000001,Field!$A11<=Model!$M$14+Model!$M$15+0.000000001)),"",Field!D11) -> 0.99963208 | E30: =IF(OR($M$18=0,AND(Model!$M$16=1,Field!E$4>=Model!$M$13-0.000000001,Field!E$4<=Model!$M$13+Model!$M$15+0.000000001,Field!$A11>=Model!$M$14-0.000000001,Field!$A11<=Model!$M$14+Model!$M$15+0.000000001)),"",Field!E11) -> 0.99931432 | F30: =IF(OR($M$18=0,AND(Model!$M$16=1,Field!F$4>=Model!$M$13-0.000000001,Field!F$4<=Model!$M$13+Model!$M$15+0.000000001,Field!$A11>=Model!$M$14-0.000000001,Field!$A11<=Model!$M$14+Model!$M$15+0.000000001)),"",Field!F11) -> 0.99885859 | G30: =IF(OR($M$18=0,AND(Model!$M$16=1,Field!G$4>=Model!$M$13-0.000000001,Field!G$4<=Model!$M$13+Model!$M$15+0.000000001,Field!$A11>=Model!$M$14-0.000000001,Field!$A11<=Model!$M$14+Model!$M$15+0.000000001)),"",Field!G11) -> 0.99821154 | H30: =IF(OR($M$18=0,AND(Model!$M$16=1,Field!H$4>=Model!$M$13-0.000000001,Field!H$4<=Model!$M$13+Model!$M$15+0.000000001,Field!$A11>=Model!$M$14-0.000000001,Field!$A11<=Model!$M$14+Model!$M$15+0.000000001)),"",Field!H11) -> 0.99730188 | I30: =IF(OR($M$18=0,AND(Model!$M$16=1,Field!I$4>=Model!$M$13-0.000000001,Field!I$4<=Model!$M$13+Model!$M$15+0.000000001,Field!$A11>=Model!$M$14-0.000000001,Field!$A11<=Model!$M$14+Model!$M$15+0.000000001)),"",Field!I11) -> 0.99603608 | ... BJ30: =IF(OR($M$18=0,AND(Model!$M$16=1,Field!BJ$4>=Model!$M$13-0.000000001,Field!BJ$4<=Model!$M$13+Model!$M$15+0.000000001,Field!$A11>=Model!$M$14-0.000000001,Field!$A11<=Model!$M$14+Model!$M$15+0.000000001)),"",Field!BJ11) -> 0.52338282
B31: =IF(OR($M$18=0,AND(Model!$M$16=1,Field!B$4>=Model!$M$13-0.000000001,Field!B$4<=Model!$M$13+Model!$M$15+0.000000001,Field!$A12>=Model!$M$14-0.000000001,Field!$A12<=Model!$M$14+Model!$M$15+0.000000001)),"",Field!B12) -> 1 | C31: =IF(OR($M$18=0,AND(Model!$M$16=1,Field!C$4>=Model!$M$13-0.000000001,Field!C$4<=Model!$M$13+Model!$M$15+0.000000001,Field!$A12>=Model!$M$14-0.000000001,Field!$A12<=Model!$M$14+Model!$M$15+0.000000001)),"",Field!C12) -> 0.99982663 | D31: =IF(OR($M$18=0,AND(Model!$M$16=1,Field!D$4>=Model!$M$13-0.000000001,Field!D$4<=Model!$M$13+Model!$M$15+0.000000001,Field!$A12>=Model!$M$14-0.000000001,Field!$A12<=Model!$M$14+Model!$M$15+0.000000001)),"",Field!D12) -> 0.99957078 | E31: =IF(OR($M$18=0,AND(Model!$M$16=1,Field!E$4>=Model!$M$13-0.000000001,Field!E$4<=Model!$M$13+Model!$M$15+0.000000001,Field!$A12>=Model!$M$14-0.000000001,Field!$A12<=Model!$M$14+Model!$M$15+0.000000001)),"",Field!E12) -> 0.99919766 | F31: =IF(OR($M$18=0,AND(Model!$M$16=1,Field!F$4>=Model!$M$13-0.000000001,Field!F$4<=Model!$M$13+Model!$M$15+0.000000001,Field!$A12>=Model!$M$14-0.000000001,Field!$A12<=Model!$M$14+Model!$M$15+0.000000001)),"",Field!F12) -> 0.99865881 | G31: =IF(OR($M$18=0,AND(Model!$M$16=1,Field!G$4>=Model!$M$13-0.000000001,Field!G$4<=Model!$M$13+Model!$M$15+0.000000001,Field!$A12>=Model!$M$14-0.000000001,Field!$A12<=Model!$M$14+Model!$M$15+0.000000001)),"",Field!G12) -> 0.99788743 | H31: =IF(OR($M$18=0,AND(Model!$M$16=1,Field!H$4>=Model!$M$13-0.000000001,Field!H$4<=Model!$M$13+Model!$M$15+0.000000001,Field!$A12>=Model!$M$14-0.000000001,Field!$A12<=Model!$M$14+Model!$M$15+0.000000001)),"",Field!H12) -> 0.99679288 | I31: =IF(OR($M$18=0,AND(Model!$M$16=1,Field!I$4>=Model!$M$13-0.000000001,Field!I$4<=Model!$M$13+Model!$M$15+0.000000001,Field!$A12>=Model!$M$14-0.000000001,Field!$A12<=Model!$M$14+Model!$M$15+0.000000001)),"",Field!I12) -> 0.99525434 | ... BJ31: =IF(OR($M$18=0,AND(Model!$M$16=1,Field!BJ$4>=Model!$M$13-0.000000001,Field!BJ$4<=Model!$M$13+Model!$M$15+0.000000001,Field!$A12>=Model!$M$14-0.000000001,Field!$A12<=Model!$M$14+Model!$M$15+0.000000001)),"",Field!BJ12) -> 0.50849644
B32: =IF(OR($M$18=0,AND(Model!$M$16=1,Field!B$4>=Model!$M$13-0.000000001,Field!B$4<=Model!$M$13+Model!$M$15+0.000000001,Field!$A13>=Model!$M$14-0.000000001,Field!$A13<=Model!$M$14+Model!$M$15+0.000000001)),"",Field!B13) -> 1 | C32: =IF(OR($M$18=0,AND(Model!$M$16=1,Field!C$4>=Model!$M$13-0.000000001,Field!C$4<=Model!$M$13+Model!$M$15+0.000000001,Field!$A13>=Model!$M$14-0.000000001,Field!$A13<=Model!$M$14+Model!$M$15+0.000000001)),"",Field!C13) -> 0.99979795 | D32: =IF(OR($M$18=0,AND(Model!$M$16=1,Field!D$4>=Model!$M$13-0.000000001,Field!D$4<=Model!$M$13+Model!$M$15+0.000000001,Field!$A13>=Model!$M$14-0.000000001,Field!$A13<=Model!$M$14+Model!$M$15+0.000000001)),"",Field!D13) -> 0.99949881 | E32: =IF(OR($M$18=0,AND(Model!$M$16=1,Field!E$4>=Model!$M$13-0.000000001,Field!E$4<=Model!$M$13+Model!$M$15+0.000000001,Field!$A13>=Model!$M$14-0.000000001,Field!$A13<=Model!$M$14+Model!$M$15+0.000000001)),"",Field!E13) -> 0.99906018 | F32: =IF(OR($M$18=0,AND(Model!$M$16=1,Field!F$4>=Model!$M$13-0.000000001,Field!F$4<=Model!$M$13+Model!$M$15+0.000000001,Field!$A13>=Model!$M$14-0.000000001,Field!$A13<=Model!$M$14+Model!$M$15+0.000000001)),"",Field!F13) -> 0.99842212 | G32: =IF(OR($M$18=0,AND(Model!$M$16=1,Field!G$4>=Model!$M$13-0.000000001,Field!G$4<=Model!$M$13+Model!$M$15+0.000000001,Field!$A13>=Model!$M$14-0.000000001,Field!$A13<=Model!$M$14+Model!$M$15+0.000000001)),"",Field!G13) -> 0.99750081 | H32: =IF(OR($M$18=0,AND(Model!$M$16=1,Field!H$4>=Model!$M$13-0.000000001,Field!H$4<=Model!$M$13+Model!$M$15+0.000000001,Field!$A13>=Model!$M$14-0.000000001,Field!$A13<=Model!$M$14+Model!$M$15+0.000000001)),"",Field!H13) -> 0.9961806 | I32: =IF(OR($M$18=0,AND(Model!$M$16=1,Field!I$4>=Model!$M$13-0.000000001,Field!I$4<=Model!$M$13+Model!$M$15+0.000000001,Field!$A13>=Model!$M$14-0.000000001,Field!$A13<=Model!$M$14+Model!$M$15+0.000000001)),"",Field!I13) -> 0.99430461 | ... BJ32: =IF(OR($M$18=0,AND(Model!$M$16=1,Field!BJ$4>=Model!$M$13-0.000000001,Field!BJ$4<=Model!$M$13+Model!$M$15+0.000000001,Field!$A13>=Model!$M$14-0.000000001,Field!$A13<=Model!$M$14+Model!$M$15+0.000000001)),"",Field!BJ13) -> 0.49212382
B33: =IF(OR($M$18=0,AND(Model!$M$16=1,Field!B$4>=Model!$M$13-0.000000001,Field!B$4<=Model!$M$13+Model!$M$15+0.000000001,Field!$A14>=Model!$M$14-0.000000001,Field!$A14<=Model!$M$14+Model!$M$15+0.000000001)),"",Field!B14) -> 1 | C33: =IF(OR($M$18=0,AND(Model!$M$16=1,Field!C$4>=Model!$M$13-0.000000001,Field!C$4<=Model!$M$13+Model!$M$15+0.000000001,Field!$A14>=Model!$M$14-0.000000001,Field!$A14<=Model!$M$14+Model!$M$15+0.000000001)),"",Field!C14) -> 0.99976533 | D33: =IF(OR($M$18=0,AND(Model!$M$16=1,Field!D$4>=Model!$M$13-0.000000001,Field!D$4<=Model!$M$13+Model!$M$15+0.000000001,Field!$A14>=Model!$M$14-0.000000001,Field!$A14<=Model!$M$14+Model!$M$15+0.000000001)),"",Field!D14) -> 0.99941677 | E33: =IF(OR($M$18=0,AND(Model!$M$16=1,Field!E$4>=Model!$M$13-0.000000001,Field!E$4<=Model!$M$13+Model!$M$15+0.000000001,Field!$A14>=Model!$M$14-0.000000001,Field!$A14<=Model!$M$14+Model!$M$15+0.000000001)),"",Field!E14) -> 0.99890281 | F33: =IF(OR($M$18=0,AND(Model!$M$16=1,Field!F$4>=Model!$M$13-0.000000001,Field!F$4<=Model!$M$13+Model!$M$15+0.000000001,Field!$A14>=Model!$M$14-0.000000001,Field!$A14<=Model!$M$14+Model!$M$15+0.000000001)),"",Field!F14) -> 0.99814965 | G33: =IF(OR($M$18=0,AND(Model!$M$16=1,Field!G$4>=Model!$M$13-0.000000001,Field!G$4<=Model!$M$13+Model!$M$15+0.000000001,Field!$A14>=Model!$M$14-0.000000001,Field!$A14<=Model!$M$14+Model!$M$15+0.000000001)),"",Field!G14) -> 0.99705243 | H33: =IF(OR($M$18=0,AND(Model!$M$16=1,Field!H$4>=Model!$M$13-0.000000001,Field!H$4<=Model!$M$13+Model!$M$15+0.000000001,Field!$A14>=Model!$M$14-0.000000001,Field!$A14<=Model!$M$14+Model!$M$15+0.000000001)),"",Field!H14) -> 0.995464 | I33: =IF(OR($M$18=0,AND(Model!$M$16=1,Field!I$4>=Model!$M$13-0.000000001,Field!I$4<=Model!$M$13+Model!$M$15+0.000000001,Field!$A14>=Model!$M$14-0.000000001,Field!$A14<=Model!$M$14+Model!$M$15+0.000000001)),"",Field!I14) -> 0.99318081 | ... BJ33: =IF(OR($M$18=0,AND(Model!$M$16=1,Field!BJ$4>=Model!$M$13-0.000000001,Field!BJ$4<=Model!$M$13+Model!$M$15+0.000000001,Field!$A14>=Model!$M$14-0.000000001,Field!$A14<=Model!$M$14+Model!$M$15+0.000000001)),"",Field!BJ14) -> 0.47468222
A34: =Field!A15 -> 1.5 | B34: =IF(OR($M$18=0,AND(Model!$M$16=1,Field!B$4>=Model!$M$13-0.000000001,Field!B$4<=Model!$M$13+Model!$M$15+0.000000001,Field!$A15>=Model!$M$14-0.000000001,Field!$A15<=Model!$M$14+Model!$M$15+0.000000001)),"",Field!B15) -> 1 | C34: =IF(OR($M$18=0,AND(Model!$M$16=1,Field!C$4>=Model!$M$13-0.000000001,Field!C$4<=Model!$M$13+Model!$M$15+0.000000001,Field!$A15>=Model!$M$14-0.000000001,Field!$A15<=Model!$M$14+Model!$M$15+0.000000001)),"",Field!C15) -> 0.99972926 | D34: =IF(OR($M$18=0,AND(Model!$M$16=1,Field!D$4>=Model!$M$13-0.000000001,Field!D$4<=Model!$M$13+Model!$M$15+0.000000001,Field!$A15>=Model!$M$14-0.000000001,Field!$A15<=Model!$M$14+Model!$M$15+0.000000001)),"",Field!D15) -> 0.99932584 | E34: =IF(OR($M$18=0,AND(Model!$M$16=1,Field!E$4>=Model!$M$13-0.000000001,Field!E$4<=Model!$M$13+Model!$M$15+0.000000001,Field!$A15>=Model!$M$14-0.000000001,Field!$A15<=Model!$M$14+Model!$M$15+0.000000001)),"",Field!E15) -> 0.99872768 | F34: =IF(OR($M$18=0,AND(Model!$M$16=1,Field!F$4>=Model!$M$13-0.000000001,Field!F$4<=Model!$M$13+Model!$M$15+0.000000001,Field!$A15>=Model!$M$14-0.000000001,Field!$A15<=Model!$M$14+Model!$M$15+0.000000001)),"",Field!F15) -> 0.99784464 | G34: =IF(OR($M$18=0,AND(Model!$M$16=1,Field!G$4>=Model!$M$13-0.000000001,Field!G$4<=Model!$M$13+Model!$M$15+0.000000001,Field!$A15>=Model!$M$14-0.000000001,Field!$A15<=Model!$M$14+Model!$M$15+0.000000001)),"",Field!G15) -> 0.99654668 | H34: =IF(OR($M$18=0,AND(Model!$M$16=1,Field!H$4>=Model!$M$13-0.000000001,Field!H$4<=Model!$M$13+Model!$M$15+0.000000001,Field!$A15>=Model!$M$14-0.000000001,Field!$A15<=Model!$M$14+Model!$M$15+0.000000001)),"",Field!H15) -> 0.99464794 | I34: =IF(OR($M$18=0,AND(Model!$M$16=1,Field!I$4>=Model!$M$13-0.000000001,Field!I$4<=Model!$M$13+Model!$M$15+0.000000001,Field!$A15>=Model!$M$14-0.000000001,Field!$A15<=Model!$M$14+Model!$M$15+0.000000001)),"",Field!I15) -> 0.99188608 | ... BJ34: =IF(OR($M$18=0,AND(Model!$M$16=1,Field!BJ$4>=Model!$M$13-0.000000001,Field!BJ$4<=Model!$M$13+Model!$M$15+0.000000001,Field!$A15>=Model!$M$14-0.000000001,Field!$A15<=Model!$M$14+Model!$M$15+0.000000001)),"",Field!BJ15) -> 0.45661902
B35: =IF(OR($M$18=0,AND(Model!$M$16=1,Field!B$4>=Model!$M$13-0.000000001,Field!B$4<=Model!$M$13+Model!$M$15+0.000000001,Field!$A16>=Model!$M$14-0.000000001,Field!$A16<=Model!$M$14+Model!$M$15+0.000000001)),"",Field!B16) -> 1 | C35: =IF(OR($M$18=0,AND(Model!$M$16=1,Field!C$4>=Model!$M$13-0.000000001,Field!C$4<=Model!$M$13+Model!$M$15+0.000000001,Field!$A16>=Model!$M$14-0.000000001,Field!$A16<=Model!$M$14+Model!$M$15+0.000000001)),"",Field!C16) -> 0.99969052 | D35: =IF(OR($M$18=0,AND(Model!$M$16=1,Field!D$4>=Model!$M$13-0.000000001,Field!D$4<=Model!$M$13+Model!$M$15+0.000000001,Field!$A16>=Model!$M$14-0.000000001,Field!$A16<=Model!$M$14+Model!$M$15+0.000000001)),"",Field!D16) -> 0.99922793 | E35: =IF(OR($M$18=0,AND(Model!$M$16=1,Field!E$4>=Model!$M$13-0.000000001,Field!E$4<=Model!$M$13+Model!$M$15+0.000000001,Field!$A16>=Model!$M$14-0.000000001,Field!$A16<=Model!$M$14+Model!$M$15+0.000000001)),"",Field!E16) -> 0.99853835 | F35: =IF(OR($M$18=0,AND(Model!$M$16=1,Field!F$4>=Model!$M$13-0.000000001,Field!F$4<=Model!$M$13+Model!$M$15+0.000000001,Field!$A16>=Model!$M$14-0.000000001,Field!$A16<=Model!$M$14+Model!$M$15+0.000000001)),"",Field!F16) -> 0.99751304 | G35: =IF(OR($M$18=0,AND(Model!$M$16=1,Field!G$4>=Model!$M$13-0.000000001,Field!G$4<=Model!$M$13+Model!$M$15+0.000000001,Field!$A16>=Model!$M$14-0.000000001,Field!$A16<=Model!$M$14+Model!$M$15+0.000000001)),"",Field!G16) -> 0.99599271 | H35: =IF(OR($M$18=0,AND(Model!$M$16=1,Field!H$4>=Model!$M$13-0.000000001,Field!H$4<=Model!$M$13+Model!$M$15+0.000000001,Field!$A16>=Model!$M$14-0.000000001,Field!$A16<=Model!$M$14+Model!$M$15+0.000000001)),"",Field!H16) -> 0.99374562 | I35: =IF(OR($M$18=0,AND(Model!$M$16=1,Field!I$4>=Model!$M$13-0.000000001,Field!I$4<=Model!$M$13+Model!$M$15+0.000000001,Field!$A16>=Model!$M$14-0.000000001,Field!$A16<=Model!$M$14+Model!$M$15+0.000000001)),"",Field!I16) -> 0.99043771 | ... BJ35: =IF(OR($M$18=0,AND(Model!$M$16=1,Field!BJ$4>=Model!$M$13-0.000000001,Field!BJ$4<=Model!$M$13+Model!$M$15+0.000000001,Field!$A16>=Model!$M$14-0.000000001,Field!$A16<=Model!$M$14+Model!$M$15+0.000000001)),"",Field!BJ16) -> 0.4384005
B36: =IF(OR($M$18=0,AND(Model!$M$16=1,Field!B$4>=Model!$M$13-0.000000001,Field!B$4<=Model!$M$13+Model!$M$15+0.000000001,Field!$A17>=Model!$M$14-0.000000001,Field!$A17<=Model!$M$14+Model!$M$15+0.000000001)),"",Field!B17) -> 1 | C36: =IF(OR($M$18=0,AND(Model!$M$16=1,Field!C$4>=Model!$M$13-0.000000001,Field!C$4<=Model!$M$13+Model!$M$15+0.000000001,Field!$A17>=Model!$M$14-0.000000001,Field!$A17<=Model!$M$14+Model!$M$15+0.000000001)),"",Field!C17) -> 0.99965016 | D36: =IF(OR($M$18=0,AND(Model!$M$16=1,Field!D$4>=Model!$M$13-0.000000001,Field!D$4<=Model!$M$13+Model!$M$15+0.000000001,Field!$A17>=Model!$M$14-0.000000001,Field!$A17<=Model!$M$14+Model!$M$15+0.000000001)),"",Field!D17) -> 0.9991257 | E36: =IF(OR($M$18=0,AND(Model!$M$16=1,Field!E$4>=Model!$M$13-0.000000001,Field!E$4<=Model!$M$13+Model!$M$15+0.000000001,Field!$A17>=Model!$M$14-0.000000001,Field!$A17<=Model!$M$14+Model!$M$15+0.000000001)),"",Field!E17) -> 0.99833996 | F36: =IF(OR($M$18=0,AND(Model!$M$16=1,Field!F$4>=Model!$M$13-0.000000001,Field!F$4<=Model!$M$13+Model!$M$15+0.000000001,Field!$A17>=Model!$M$14-0.000000001,Field!$A17<=Model!$M$14+Model!$M$15+0.000000001)),"",Field!F17) -> 0.9971638 | G36: =IF(OR($M$18=0,AND(Model!$M$16=1,Field!G$4>=Model!$M$13-0.000000001,Field!G$4<=Model!$M$13+Model!$M$15+0.000000001,Field!$A17>=Model!$M$14-0.000000001,Field!$A17<=Model!$M$14+Model!$M$15+0.000000001)),"",Field!G17) -> 0.99540533 | H36: =IF(OR($M$18=0,AND(Model!$M$16=1,Field!H$4>=Model!$M$13-0.000000001,Field!H$4<=Model!$M$13+Model!$M$15+0.000000001,Field!$A17>=Model!$M$14-0.000000001,Field!$A17<=Model!$M$14+Model!$M$15+0.000000001)),"",Field!H17) -> 0.99278059 | I36: =IF(OR($M$18=0,AND(Model!$M$16=1,Field!I$4>=Model!$M$13-0.000000001,Field!I$4<=Model!$M$13+Model!$M$15+0.000000001,Field!$A17>=Model!$M$14-0.000000001,Field!$A17<=Model!$M$14+Model!$M$15+0.000000001)),"",Field!I17) -> 0.98887176 | ... BJ36: =IF(OR($M$18=0,AND(Model!$M$16=1,Field!BJ$4>=Model!$M$13-0.000000001,Field!BJ$4<=Model!$M$13+Model!$M$15+0.000000001,Field!$A17>=Model!$M$14-0.000000001,Field!$A17<=Model!$M$14+Model!$M$15+0.000000001)),"",Field!BJ17) -> 0.42049987
B37: =IF(OR($M$18=0,AND(Model!$M$16=1,Field!B$4>=Model!$M$13-0.000000001,Field!B$4<=Model!$M$13+Model!$M$15+0.000000001,Field!$A18>=Model!$M$14-0.000000001,Field!$A18<=Model!$M$14+Model!$M$15+0.000000001)),"",Field!B18) -> 1 | C37: =IF(OR($M$18=0,AND(Model!$M$16=1,Field!C$4>=Model!$M$13-0.000000001,Field!C$4<=Model!$M$13+Model!$M$15+0.000000001,Field!$A18>=Model!$M$14-0.000000001,Field!$A18<=Model!$M$14+Model!$M$15+0.000000001)),"",Field!C18) -> 0.99960949 | D37: =IF(OR($M$18=0,AND(Model!$M$16=1,Field!D$4>=Model!$M$13-0.000000001,Field!D$4<=Model!$M$13+Model!$M$15+0.000000001,Field!$A18>=Model!$M$14-0.000000001,Field!$A18<=Model!$M$14+Model!$M$15+0.000000001)),"",Field!D18) -> 0.99902251 | E37: =IF(OR($M$18=0,AND(Model!$M$16=1,Field!E$4>=Model!$M$13-0.000000001,Field!E$4<=Model!$M$13+Model!$M$15+0.000000001,Field!$A18>=Model!$M$14-0.000000001,Field!$A18<=Model!$M$14+Model!$M$15+0.000000001)),"",Field!E18) -> 0.99813914 | F37: =IF(OR($M$18=0,AND(Model!$M$16=1,Field!F$4>=Model!$M$13-0.000000001,Field!F$4<=Model!$M$13+Model!$M$15+0.000000001,Field!$A18>=Model!$M$14-0.000000001,Field!$A18<=Model!$M$14+Model!$M$15+0.000000001)),"",Field!F18) -> 0.99680881 | G37: =IF(OR($M$18=0,AND(Model!$M$16=1,Field!G$4>=Model!$M$13-0.000000001,Field!G$4<=Model!$M$13+Model!$M$15+0.000000001,Field!$A18>=Model!$M$14-0.000000001,Field!$A18<=Model!$M$14+Model!$M$15+0.000000001)),"",Field!G18) -> 0.99480497 | H37: =IF(OR($M$18=0,AND(Model!$M$16=1,Field!H$4>=Model!$M$13-0.000000001,Field!H$4<=Model!$M$13+Model!$M$15+0.000000001,Field!$A18>=Model!$M$14-0.000000001,Field!$A18<=Model!$M$14+Model!$M$15+0.000000001)),"",Field!H18) -> 0.99178729 | I37: =IF(OR($M$18=0,AND(Model!$M$16=1,Field!I$4>=Model!$M$13-0.000000001,Field!I$4<=Model!$M$13+Model!$M$15+0.000000001,Field!$A18>=Model!$M$14-0.000000001,Field!$A18<=Model!$M$14+Model!$M$15+0.000000001)),"",Field!I18) -> 0.98724551 | ... BJ37: =IF(OR($M$18=0,AND(Model!$M$16=1,Field!BJ$4>=Model!$M$13-0.000000001,Field!BJ$4<=Model!$M$13+Model!$M$15+0.000000001,Field!$A18>=Model!$M$14-0.000000001,Field!$A18<=Model!$M$14+Model!$M$15+0.000000001)),"",Field!BJ18) -> 0.40338481
B38: =IF(OR($M$18=0,AND(Model!$M$16=1,Field!B$4>=Model!$M$13-0.000000001,Field!B$4<=Model!$M$13+Model!$M$15+0.000000001,Field!$A19>=Model!$M$14-0.000000001,Field!$A19<=Model!$M$14+Model!$M$15+0.000000001)),"",Field!B19) -> 1 | C38: =IF(OR($M$18=0,AND(Model!$M$16=1,Field!C$4>=Model!$M$13-0.000000001,Field!C$4<=Model!$M$13+Model!$M$15+0.000000001,Field!$A19>=Model!$M$14-0.000000001,Field!$A19<=Model!$M$14+Model!$M$15+0.000000001)),"",Field!C19) -> 0.99957001 | D38: =IF(OR($M$18=0,AND(Model!$M$16=1,Field!D$4>=Model!$M$13-0.000000001,Field!D$4<=Model!$M$13+Model!$M$15+0.000000001,Field!$A19>=Model!$M$14-0.000000001,Field!$A19<=Model!$M$14+Model!$M$15+0.000000001)),"",Field!D19) -> 0.99892225 | E38: =IF(OR($M$18=0,AND(Model!$M$16=1,Field!E$4>=Model!$M$13-0.000000001,Field!E$4<=Model!$M$13+Model!$M$15+0.000000001,Field!$A19>=Model!$M$14-0.000000001,Field!$A19<=Model!$M$14+Model!$M$15+0.000000001)),"",Field!E19) -> 0.99794359 | F38: =IF(OR($M$18=0,AND(Model!$M$16=1,Field!F$4>=Model!$M$13-0.000000001,Field!F$4<=Model!$M$13+Model!$M$15+0.000000001,Field!$A19>=Model!$M$14-0.000000001,Field!$A19<=Model!$M$14+Model!$M$15+0.000000001)),"",Field!F19) -> 0.99646214 | G38: =IF(OR($M$18=0,AND(Model!$M$16=1,Field!G$4>=Model!$M$13-0.000000001,Field!G$4<=Model!$M$13+Model!$M$15+0.000000001,Field!$A19>=Model!$M$14-0.000000001,Field!$A19<=Model!$M$14+Model!$M$15+0.000000001)),"",Field!G19) -> 0.99421654 | H38: =IF(OR($M$18=0,AND(Model!$M$16=1,Field!H$4>=Model!$M$13-0.000000001,Field!H$4<=Model!$M$13+Model!$M$15+0.000000001,Field!$A19>=Model!$M$14-0.000000001,Field!$A19<=Model!$M$14+Model!$M$15+0.000000001)),"",Field!H19) -> 0.99080923 | I38: =IF(OR($M$18=0,AND(Model!$M$16=1,Field!I$4>=Model!$M$13-0.000000001,Field!I$4<=Model!$M$13+Model!$M$15+0.000000001,Field!$A19>=Model!$M$14-0.000000001,Field!$A19<=Model!$M$14+Model!$M$15+0.000000001)),"",Field!I19) -> 0.98563507 | ... BJ38: =IF(OR($M$18=0,AND(Model!$M$16=1,Field!BJ$4>=Model!$M$13-0.000000001,Field!BJ$4<=Model!$M$13+Model!$M$15+0.000000001,Field!$A19>=Model!$M$14-0.000000001,Field!$A19<=Model!$M$14+Model!$M$15+0.000000001)),"",Field!BJ19) -> 0.3875048
B39: =IF(OR($M$18=0,AND(Model!$M$16=1,Field!B$4>=Model!$M$13-0.000000001,Field!B$4<=Model!$M$13+Model!$M$15+0.000000001,Field!$A20>=Model!$M$14-0.000000001,Field!$A20<=Model!$M$14+Model!$M$15+0.000000001)),"",Field!B20) -> 1 | C39: =IF(OR($M$18=0,AND(Model!$M$16=1,Field!C$4>=Model!$M$13-0.000000001,Field!C$4<=Model!$M$13+Model!$M$15+0.000000001,Field!$A20>=Model!$M$14-0.000000001,Field!$A20<=Model!$M$14+Model!$M$15+0.000000001)),"",Field!C20) -> 0.99953332 | D39: =IF(OR($M$18=0,AND(Model!$M$16=1,Field!D$4>=Model!$M$13-0.000000001,Field!D$4<=Model!$M$13+Model!$M$15+0.000000001,Field!$A20>=Model!$M$14-0.000000001,Field!$A20<=Model!$M$14+Model!$M$15+0.000000001)),"",Field!D20) -> 0.99882899 | E39: =IF(OR($M$18=0,AND(Model!$M$16=1,Field!E$4>=Model!$M$13-0.000000001,Field!E$4<=Model!$M$13+Model!$M$15+0.000000001,Field!$A20>=Model!$M$14-0.000000001,Field!$A20<=Model!$M$14+Model!$M$15+0.000000001)),"",Field!E20) -> 0.99776151 | F39: =IF(OR($M$18=0,AND(Model!$M$16=1,Field!F$4>=Model!$M$13-0.000000001,Field!F$4<=Model!$M$13+Model!$M$15+0.000000001,Field!$A20>=Model!$M$14-0.000000001,Field!$A20<=Model!$M$14+Model!$M$15+0.000000001)),"",Field!F20) -> 0.9961389 | G39: =IF(OR($M$18=0,AND(Model!$M$16=1,Field!G$4>=Model!$M$13-0.000000001,Field!G$4<=Model!$M$13+Model!$M$15+0.000000001,Field!$A20>=Model!$M$14-0.000000001,Field!$A20<=Model!$M$14+Model!$M$15+0.000000001)),"",Field!G20) -> 0.99366701 | H39: =IF(OR($M$18=0,AND(Model!$M$16=1,Field!H$4>=Model!$M$13-0.000000001,Field!H$4<=Model!$M$13+Model!$M$15+0.000000001,Field!$A20>=Model!$M$14-0.000000001,Field!$A20<=Model!$M$14+Model!$M$15+0.000000001)),"",Field!H20) -> 0.98989436 | I39: =IF(OR($M$18=0,AND(Model!$M$16=1,Field!I$4>=Model!$M$13-0.000000001,Field!I$4<=Model!$M$13+Model!$M$15+0.000000001,Field!$A20>=Model!$M$14-0.000000001,Field!$A20<=Model!$M$14+Model!$M$15+0.000000001)),"",Field!I20) -> 0.98412644 | ... BJ39: =IF(OR($M$18=0,AND(Model!$M$16=1,Field!BJ$4>=Model!$M$13-0.000000001,Field!BJ$4<=Model!$M$13+Model!$M$15+0.000000001,Field!$A20>=Model!$M$14-0.000000001,Field!$A20<=Model!$M$14+Model!$M$15+0.000000001)),"",Field!BJ20) -> 0.3732789
B40: =IF(OR($M$18=0,AND(Model!$M$16=1,Field!B$4>=Model!$M$13-0.000000001,Field!B$4<=Model!$M$13+Model!$M$15+0.000000001,Field!$A21>=Model!$M$14-0.000000001,Field!$A21<=Model!$M$14+Model!$M$15+0.000000001)),"",Field!B21) -> 1 | C40: =IF(OR($M$18=0,AND(Model!$M$16=1,Field!C$4>=Model!$M$13-0.000000001,Field!C$4<=Model!$M$13+Model!$M$15+0.000000001,Field!$A21>=Model!$M$14-0.000000001,Field!$A21<=Model!$M$14+Model!$M$15+0.000000001)),"",Field!C21) -> 0.99950096 | D40: =IF(OR($M$18=0,AND(Model!$M$16=1,Field!D$4>=Model!$M$13-0.000000001,Field!D$4<=Model!$M$13+Model!$M$15+0.000000001,Field!$A21>=Model!$M$14-0.000000001,Field!$A21<=Model!$M$14+Model!$M$15+0.000000001)),"",Field!D21) -> 0.9987467 | E40: =IF(OR($M$18=0,AND(Model!$M$16=1,Field!E$4>=Model!$M$13-0.000000001,Field!E$4<=Model!$M$13+Model!$M$15+0.000000001,Field!$A21>=Model!$M$14-0.000000001,Field!$A21<=Model!$M$14+Model!$M$15+0.000000001)),"",Field!E21) -> 0.99760083 | F40: =IF(OR($M$18=0,AND(Model!$M$16=1,Field!F$4>=Model!$M$13-0.000000001,Field!F$4<=Model!$M$13+Model!$M$15+0.000000001,Field!$A21>=Model!$M$14-0.000000001,Field!$A21<=Model!$M$14+Model!$M$15+0.000000001)),"",Field!F21) -> 0.99585365 | G40: =IF(OR($M$18=0,AND(Model!$M$16=1,Field!G$4>=Model!$M$13-0.000000001,Field!G$4<=Model!$M$13+Model!$M$15+0.000000001,Field!$A21>=Model!$M$14-0.000000001,Field!$A21<=Model!$M$14+Model!$M$15+0.000000001)),"",Field!G21) -> 0.99318228 | H40: =IF(OR($M$18=0,AND(Model!$M$16=1,Field!H$4>=Model!$M$13-0.000000001,Field!H$4<=Model!$M$13+Model!$M$15+0.000000001,Field!$A21>=Model!$M$14-0.000000001,Field!$A21<=Model!$M$14+Model!$M$15+0.000000001)),"",Field!H21) -> 0.98908846 | I40: =IF(OR($M$18=0,AND(Model!$M$16=1,Field!I$4>=Model!$M$13-0.000000001,Field!I$4<=Model!$M$13+Model!$M$15+0.000000001,Field!$A21>=Model!$M$14-0.000000001,Field!$A21<=Model!$M$14+Model!$M$15+0.000000001)),"",Field!I21) -> 0.98280118 | ... BJ40: =IF(OR($M$18=0,AND(Model!$M$16=1,Field!BJ$4>=Model!$M$13-0.000000001,Field!BJ$4<=Model!$M$13+Model!$M$15+0.000000001,Field!$A21>=Model!$M$14-0.000000001,Field!$A21<=Model!$M$14+Model!$M$15+0.000000001)),"",Field!BJ21) -> 0.36108397
B41: =IF(OR($M$18=0,AND(Model!$M$16=1,Field!B$4>=Model!$M$13-0.000000001,Field!B$4<=Model!$M$13+Model!$M$15+0.000000001,Field!$A22>=Model!$M$14-0.000000001,Field!$A22<=Model!$M$14+Model!$M$15+0.000000001)),"",Field!B22) -> 1 | C41: =IF(OR($M$18=0,AND(Model!$M$16=1,Field!C$4>=Model!$M$13-0.000000001,Field!C$4<=Model!$M$13+Model!$M$15+0.000000001,Field!$A22>=Model!$M$14-0.000000001,Field!$A22<=Model!$M$14+Model!$M$15+0.000000001)),"",Field!C22) -> 0.99947429 | D41: =IF(OR($M$18=0,AND(Model!$M$16=1,Field!D$4>=Model!$M$13-0.000000001,Field!D$4<=Model!$M$13+Model!$M$15+0.000000001,Field!$A22>=Model!$M$14-0.000000001,Field!$A22<=Model!$M$14+Model!$M$15+0.000000001)),"",Field!D22) -> 0.99867891 | E41: =IF(OR($M$18=0,AND(Model!$M$16=1,Field!E$4>=Model!$M$13-0.000000001,Field!E$4<=Model!$M$13+Model!$M$15+0.000000001,Field!$A22>=Model!$M$14-0.000000001,Field!$A22<=Model!$M$14+Model!$M$15+0.000000001)),"",Field!E22) -> 0.99746851 | F41: =IF(OR($M$18=0,AND(Model!$M$16=1,Field!F$4>=Model!$M$13-0.000000001,Field!F$4<=Model!$M$13+Model!$M$15+0.000000001,Field!$A22>=Model!$M$14-0.000000001,Field!$A22<=Model!$M$14+Model!$M$15+0.000000001)),"",Field!F22) -> 0.995619 | G41: =IF(OR($M$18=0,AND(Model!$M$16=1,Field!G$4>=Model!$M$13-0.000000001,Field!G$4<=Model!$M$13+Model!$M$15+0.000000001,Field!$A22>=Model!$M$14-0.000000001,Field!$A22<=Model!$M$14+Model!$M$15+0.000000001)),"",Field!G22) -> 0.99278432 | H41: =IF(OR($M$18=0,AND(Model!$M$16=1,Field!H$4>=Model!$M$13-0.000000001,Field!H$4<=Model!$M$13+Model!$M$15+0.000000001,Field!$A22>=Model!$M$14-0.000000001,Field!$A22<=Model!$M$14+Model!$M$15+0.000000001)),"",Field!H22) -> 0.98842909 | I41: =IF(OR($M$18=0,AND(Model!$M$16=1,Field!I$4>=Model!$M$13-0.000000001,Field!I$4<=Model!$M$13+Model!$M$15+0.000000001,Field!$A22>=Model!$M$14-0.000000001,Field!$A22<=Model!$M$14+Model!$M$15+0.000000001)),"",Field!I22) -> 0.98172316 | ... BJ41: =IF(OR($M$18=0,AND(Model!$M$16=1,Field!BJ$4>=Model!$M$13-0.000000001,Field!BJ$4<=Model!$M$13+Model!$M$15+0.000000001,Field!$A22>=Model!$M$14-0.000000001,Field!$A22<=Model!$M$14+Model!$M$15+0.000000001)),"",Field!BJ22) -> 0.35124418
B42: =IF(OR($M$18=0,AND(Model!$M$16=1,Field!B$4>=Model!$M$13-0.000000001,Field!B$4<=Model!$M$13+Model!$M$15+0.000000001,Field!$A23>=Model!$M$14-0.000000001,Field!$A23<=Model!$M$14+Model!$M$15+0.000000001)),"",Field!B23) -> 1 | C42: =IF(OR($M$18=0,AND(Model!$M$16=1,Field!C$4>=Model!$M$13-0.000000001,Field!C$4<=Model!$M$13+Model!$M$15+0.000000001,Field!$A23>=Model!$M$14-0.000000001,Field!$A23<=Model!$M$14+Model!$M$15+0.000000001)),"",Field!C23) -> 0.99945443 | D42: =IF(OR($M$18=0,AND(Model!$M$16=1,Field!D$4>=Model!$M$13-0.000000001,Field!D$4<=Model!$M$13+Model!$M$15+0.000000001,Field!$A23>=Model!$M$14-0.000000001,Field!$A23<=Model!$M$14+Model!$M$15+0.000000001)),"",Field!D23) -> 0.99862845 | E42: =IF(OR($M$18=0,AND(Model!$M$16=1,Field!E$4>=Model!$M$13-0.000000001,Field!E$4<=Model!$M$13+Model!$M$15+0.000000001,Field!$A23>=Model!$M$14-0.000000001,Field!$A23<=Model!$M$14+Model!$M$15+0.000000001)),"",Field!E23) -> 0.9973701 | F42: =IF(OR($M$18=0,AND(Model!$M$16=1,Field!F$4>=Model!$M$13-0.000000001,Field!F$4<=Model!$M$13+Model!$M$15+0.000000001,Field!$A23>=Model!$M$14-0.000000001,Field!$A23<=Model!$M$14+Model!$M$15+0.000000001)),"",Field!F23) -> 0.99544475 | G42: =IF(OR($M$18=0,AND(Model!$M$16=1,Field!G$4>=Model!$M$13-0.000000001,Field!G$4<=Model!$M$13+Model!$M$15+0.000000001,Field!$A23>=Model!$M$14-0.000000001,Field!$A23<=Model!$M$14+Model!$M$15+0.000000001)),"",Field!G23) -> 0.99248958 | H42: =IF(OR($M$18=0,AND(Model!$M$16=1,Field!H$4>=Model!$M$13-0.000000001,Field!H$4<=Model!$M$13+Model!$M$15+0.000000001,Field!$A23>=Model!$M$14-0.000000001,Field!$A23<=Model!$M$14+Model!$M$15+0.000000001)),"",Field!H23) -> 0.98794282 | I42: =IF(OR($M$18=0,AND(Model!$M$16=1,Field!I$4>=Model!$M$13-0.000000001,Field!I$4<=Model!$M$13+Model!$M$15+0.000000001,Field!$A23>=Model!$M$14-0.000000001,Field!$A23<=Model!$M$14+Model!$M$15+0.000000001)),"",Field!I23) -> 0.98093349 | ... BJ42: =IF(OR($M$18=0,AND(Model!$M$16=1,Field!BJ$4>=Model!$M$13-0.000000001,Field!BJ$4<=Model!$M$13+Model!$M$15+0.000000001,Field!$A23>=Model!$M$14-0.000000001,Field!$A23<=Model!$M$14+Model!$M$15+0.000000001)),"",Field!BJ23) -> 0.34402177
B43: =IF(OR($M$18=0,AND(Model!$M$16=1,Field!B$4>=Model!$M$13-0.000000001,Field!B$4<=Model!$M$13+Model!$M$15+0.000000001,Field!$A24>=Model!$M$14-0.000000001,Field!$A24<=Model!$M$14+Model!$M$15+0.000000001)),"",Field!B24) -> 1 | C43: =IF(OR($M$18=0,AND(Model!$M$16=1,Field!C$4>=Model!$M$13-0.000000001,Field!C$4<=Model!$M$13+Model!$M$15+0.000000001,Field!$A24>=Model!$M$14-0.000000001,Field!$A24<=Model!$M$14+Model!$M$15+0.000000001)),"",Field!C24) -> 0.99944219 | D43: =IF(OR($M$18=0,AND(Model!$M$16=1,Field!D$4>=Model!$M$13-0.000000001,Field!D$4<=Model!$M$13+Model!$M$15+0.000000001,Field!$A24>=Model!$M$14-0.000000001,Field!$A24<=Model!$M$14+Model!$M$15+0.000000001)),"",Field!D24) -> 0.99859736 | E43: =IF(OR($M$18=0,AND(Model!$M$16=1,Field!E$4>=Model!$M$13-0.000000001,Field!E$4<=Model!$M$13+Model!$M$15+0.000000001,Field!$A24>=Model!$M$14-0.000000001,Field!$A24<=Model!$M$14+Model!$M$15+0.000000001)),"",Field!E24) -> 0.99730953 | F43: =IF(OR($M$18=0,AND(Model!$M$16=1,Field!F$4>=Model!$M$13-0.000000001,Field!F$4<=Model!$M$13+Model!$M$15+0.000000001,Field!$A24>=Model!$M$14-0.000000001,Field!$A24<=Model!$M$14+Model!$M$15+0.000000001)),"",Field!F24) -> 0.99533764 | G43: =IF(OR($M$18=0,AND(Model!$M$16=1,Field!G$4>=Model!$M$13-0.000000001,Field!G$4<=Model!$M$13+Model!$M$15+0.000000001,Field!$A24>=Model!$M$14-0.000000001,Field!$A24<=Model!$M$14+Model!$M$15+0.000000001)),"",Field!G24) -> 0.99230883 | H43: =IF(OR($M$18=0,AND(Model!$M$16=1,Field!H$4>=Model!$M$13-0.000000001,Field!H$4<=Model!$M$13+Model!$M$15+0.000000001,Field!$A24>=Model!$M$14-0.000000001,Field!$A24<=Model!$M$14+Model!$M$15+0.000000001)),"",Field!H24) -> 0.98764573 | I43: =IF(OR($M$18=0,AND(Model!$M$16=1,Field!I$4>=Model!$M$13-0.000000001,Field!I$4<=Model!$M$13+Model!$M$15+0.000000001,Field!$A24>=Model!$M$14-0.000000001,Field!$A24<=Model!$M$14+Model!$M$15+0.000000001)),"",Field!I24) -> 0.98045382 | ... BJ43: =IF(OR($M$18=0,AND(Model!$M$16=1,Field!BJ$4>=Model!$M$13-0.000000001,Field!BJ$4<=Model!$M$13+Model!$M$15+0.000000001,Field!$A24>=Model!$M$14-0.000000001,Field!$A24<=Model!$M$14+Model!$M$15+0.000000001)),"",Field!BJ24) -> 0.33960961
A44: =Field!A25 -> 1 | B44: =IF(OR($M$18=0,AND(Model!$M$16=1,Field!B$4>=Model!$M$13-0.000000001,Field!B$4<=Model!$M$13+Model!$M$15+0.000000001,Field!$A25>=Model!$M$14-0.000000001,Field!$A25<=Model!$M$14+Model!$M$15+0.000000001)),"",Field!B25) -> 1 | C44: =IF(OR($M$18=0,AND(Model!$M$16=1,Field!C$4>=Model!$M$13-0.000000001,Field!C$4<=Model!$M$13+Model!$M$15+0.000000001,Field!$A25>=Model!$M$14-0.000000001,Field!$A25<=Model!$M$14+Model!$M$15+0.000000001)),"",Field!C25) -> 0.99943805 | D44: =IF(OR($M$18=0,AND(Model!$M$16=1,Field!D$4>=Model!$M$13-0.000000001,Field!D$4<=Model!$M$13+Model!$M$15+0.000000001,Field!$A25>=Model!$M$14-0.000000001,Field!$A25<=Model!$M$14+Model!$M$15+0.000000001)),"",Field!D25) -> 0.99858686 | E44: =IF(OR($M$18=0,AND(Model!$M$16=1,Field!E$4>=Model!$M$13-0.000000001,Field!E$4<=Model!$M$13+Model!$M$15+0.000000001,Field!$A25>=Model!$M$14-0.000000001,Field!$A25<=Model!$M$14+Model!$M$15+0.000000001)),"",Field!E25) -> 0.99728908 | F44: =IF(OR($M$18=0,AND(Model!$M$16=1,Field!F$4>=Model!$M$13-0.000000001,Field!F$4<=Model!$M$13+Model!$M$15+0.000000001,Field!$A25>=Model!$M$14-0.000000001,Field!$A25<=Model!$M$14+Model!$M$15+0.000000001)),"",Field!F25) -> 0.99530153 | G44: =IF(OR($M$18=0,AND(Model!$M$16=1,Field!G$4>=Model!$M$13-0.000000001,Field!G$4<=Model!$M$13+Model!$M$15+0.000000001,Field!$A25>=Model!$M$14-0.000000001,Field!$A25<=Model!$M$14+Model!$M$15+0.000000001)),"",Field!G25) -> 0.99224797 | H44: =IF(OR($M$18=0,AND(Model!$M$16=1,Field!H$4>=Model!$M$13-0.000000001,Field!H$4<=Model!$M$13+Model!$M$15+0.000000001,Field!$A25>=Model!$M$14-0.000000001,Field!$A25<=Model!$M$14+Model!$M$15+0.000000001)),"",Field!H25) -> 0.98754591 | I44: =IF(OR($M$18=0,AND(Model!$M$16=1,Field!I$4>=Model!$M$13-0.000000001,Field!I$4<=Model!$M$13+Model!$M$15+0.000000001,Field!$A25>=Model!$M$14-0.000000001,Field!$A25<=Model!$M$14+Model!$M$15+0.000000001)),"",Field!I25) -> 0.98029317 | ... BJ44: =IF(OR($M$18=0,AND(Model!$M$16=1,Field!BJ$4>=Model!$M$13-0.000000001,Field!BJ$4<=Model!$M$13+Model!$M$15+0.000000001,Field!$A25>=Model!$M$14-0.000000001,Field!$A25<=Model!$M$14+Model!$M$15+0.000000001)),"",Field!BJ25) -> 0.33812565
B45: =IF(OR($M$18=0,AND(Model!$M$16=1,Field!B$4>=Model!$M$13-0.000000001,Field!B$4<=Model!$M$13+Model!$M$15+0.000000001,Field!$A26>=Model!$M$14-0.000000001,Field!$A26<=Model!$M$14+Model!$M$15+0.000000001)),"",Field!B26) -> 1 | C45: =IF(OR($M$18=0,AND(Model!$M$16=1,Field!C$4>=Model!$M$13-0.000000001,Field!C$4<=Model!$M$13+Model!$M$15+0.000000001,Field!$A26>=Model!$M$14-0.000000001,Field!$A26<=Model!$M$14+Model!$M$15+0.000000001)),"",Field!C26) -> 0.99944219 | D45: =IF(OR($M$18=0,AND(Model!$M$16=1,Field!D$4>=Model!$M$13-0.000000001,Field!D$4<=Model!$M$13+Model!$M$15+0.000000001,Field!$A26>=Model!$M$14-0.000000001,Field!$A26<=Model!$M$14+Model!$M$15+0.000000001)),"",Field!D26) -> 0.99859736 | E45: =IF(OR($M$18=0,AND(Model!$M$16=1,Field!E$4>=Model!$M$13-0.000000001,Field!E$4<=Model!$M$13+Model!$M$15+0.000000001,Field!$A26>=Model!$M$14-0.000000001,Field!$A26<=Model!$M$14+Model!$M$15+0.000000001)),"",Field!E26) -> 0.99730953 | F45: =IF(OR($M$18=0,AND(Model!$M$16=1,Field!F$4>=Model!$M$13-0.000000001,Field!F$4<=Model!$M$13+Model!$M$15+0.000000001,Field!$A26>=Model!$M$14-0.000000001,Field!$A26<=Model!$M$14+Model!$M$15+0.000000001)),"",Field!F26) -> 0.99533764 | G45: =IF(OR($M$18=0,AND(Model!$M$16=1,Field!G$4>=Model!$M$13-0.000000001,Field!G$4<=Model!$M$13+Model!$M$15+0.000000001,Field!$A26>=Model!$M$14-0.000000001,Field!$A26<=Model!$M$14+Model!$M$15+0.000000001)),"",Field!G26) -> 0.99230883 | H45: =IF(OR($M$18=0,AND(Model!$M$16=1,Field!H$4>=Model!$M$13-0.000000001,Field!H$4<=Model!$M$13+Model!$M$15+0.000000001,Field!$A26>=Model!$M$14-0.000000001,Field!$A26<=Model!$M$14+Model!$M$15+0.000000001)),"",Field!H26) -> 0.98764573 | I45: =IF(OR($M$18=0,AND(Model!$M$16=1,Field!I$4>=Model!$M$13-0.000000001,Field!I$4<=Model!$M$13+Model!$M$15+0.000000001,Field!$A26>=Model!$M$14-0.000000001,Field!$A26<=Model!$M$14+Model!$M$15+0.000000001)),"",Field!I26) -> 0.98045382 | ... BJ45: =IF(OR($M$18=0,AND(Model!$M$16=1,Field!BJ$4>=Model!$M$13-0.000000001,Field!BJ$4<=Model!$M$13+Model!$M$15+0.000000001,Field!$A26>=Model!$M$14-0.000000001,Field!$A26<=Model!$M$14+Model!$M$15+0.000000001)),"",Field!BJ26) -> 0.33960961
B46: =IF(OR($M$18=0,AND(Model!$M$16=1,Field!B$4>=Model!$M$13-0.000000001,Field!B$4<=Model!$M$13+Model!$M$15+0.000000001,Field!$A27>=Model!$M$14-0.000000001,Field!$A27<=Model!$M$14+Model!$M$15+0.000000001)),"",Field!B27) -> 1 | C46: =IF(OR($M$18=0,AND(Model!$M$16=1,Field!C$4>=Model!$M$13-0.000000001,Field!C$4<=Model!$M$13+Model!$M$15+0.000000001,Field!$A27>=Model!$M$14-0.000000001,Field!$A27<=Model!$M$14+Model!$M$15+0.000000001)),"",Field!C27) -> 0.99945443 | D46: =IF(OR($M$18=0,AND(Model!$M$16=1,Field!D$4>=Model!$M$13-0.000000001,Field!D$4<=Model!$M$13+Model!$M$15+0.000000001,Field!$A27>=Model!$M$14-0.000000001,Field!$A27<=Model!$M$14+Model!$M$15+0.000000001)),"",Field!D27) -> 0.99862845 | E46: =IF(OR($M$18=0,AND(Model!$M$16=1,Field!E$4>=Model!$M$13-0.000000001,Field!E$4<=Model!$M$13+Model!$M$15+0.000000001,Field!$A27>=Model!$M$14-0.000000001,Field!$A27<=Model!$M$14+Model!$M$15+0.000000001)),"",Field!E27) -> 0.9973701 | F46: =IF(OR($M$18=0,AND(Model!$M$16=1,Field!F$4>=Model!$M$13-0.000000001,Field!F$4<=Model!$M$13+Model!$M$15+0.000000001,Field!$A27>=Model!$M$14-0.000000001,Field!$A27<=Model!$M$14+Model!$M$15+0.000000001)),"",Field!F27) -> 0.99544475 | G46: =IF(OR($M$18=0,AND(Model!$M$16=1,Field!G$4>=Model!$M$13-0.000000001,Field!G$4<=Model!$M$13+Model!$M$15+0.000000001,Field!$A27>=Model!$M$14-0.000000001,Field!$A27<=Model!$M$14+Model!$M$15+0.000000001)),"",Field!G27) -> 0.99248958 | H46: =IF(OR($M$18=0,AND(Model!$M$16=1,Field!H$4>=Model!$M$13-0.000000001,Field!H$4<=Model!$M$13+Model!$M$15+0.000000001,Field!$A27>=Model!$M$14-0.000000001,Field!$A27<=Model!$M$14+Model!$M$15+0.000000001)),"",Field!H27) -> 0.98794282 | I46: =IF(OR($M$18=0,AND(Model!$M$16=1,Field!I$4>=Model!$M$13-0.000000001,Field!I$4<=Model!$M$13+Model!$M$15+0.000000001,Field!$A27>=Model!$M$14-0.000000001,Field!$A27<=Model!$M$14+Model!$M$15+0.000000001)),"",Field!I27) -> 0.98093349 | ... BJ46: =IF(OR($M$18=0,AND(Model!$M$16=1,Field!BJ$4>=Model!$M$13-0.000000001,Field!BJ$4<=Model!$M$13+Model!$M$15+0.000000001,Field!$A27>=Model!$M$14-0.000000001,Field!$A27<=Model!$M$14+Model!$M$15+0.000000001)),"",Field!BJ27) -> 0.34402177
B47: =IF(OR($M$18=0,AND(Model!$M$16=1,Field!B$4>=Model!$M$13-0.000000001,Field!B$4<=Model!$M$13+Model!$M$15+0.000000001,Field!$A28>=Model!$M$14-0.000000001,Field!$A28<=Model!$M$14+Model!$M$15+0.000000001)),"",Field!B28) -> 1 | C47: =IF(OR($M$18=0,AND(Model!$M$16=1,Field!C$4>=Model!$M$13-0.000000001,Field!C$4<=Model!$M$13+Model!$M$15+0.000000001,Field!$A28>=Model!$M$14-0.000000001,Field!$A28<=Model!$M$14+Model!$M$15+0.000000001)),"",Field!C28) -> 0.99947429 | D47: =IF(OR($M$18=0,AND(Model!$M$16=1,Field!D$4>=Model!$M$13-0.000000001,Field!D$4<=Model!$M$13+Model!$M$15+0.000000001,Field!$A28>=Model!$M$14-0.000000001,Field!$A28<=Model!$M$14+Model!$M$15+0.000000001)),"",Field!D28) -> 0.99867891 | E47: =IF(OR($M$18=0,AND(Model!$M$16=1,Field!E$4>=Model!$M$13-0.000000001,Field!E$4<=Model!$M$13+Model!$M$15+0.000000001,Field!$A28>=Model!$M$14-0.000000001,Field!$A28<=Model!$M$14+Model!$M$15+0.000000001)),"",Field!E28) -> 0.99746851 | F47: =IF(OR($M$18=0,AND(Model!$M$16=1,Field!F$4>=Model!$M$13-0.000000001,Field!F$4<=Model!$M$13+Model!$M$15+0.000000001,Field!$A28>=Model!$M$14-0.000000001,Field!$A28<=Model!$M$14+Model!$M$15+0.000000001)),"",Field!F28) -> 0.995619 | G47: =IF(OR($M$18=0,AND(Model!$M$16=1,Field!G$4>=Model!$M$13-0.000000001,Field!G$4<=Model!$M$13+Model!$M$15+0.000000001,Field!$A28>=Model!$M$14-0.000000001,Field!$A28<=Model!$M$14+Model!$M$15+0.000000001)),"",Field!G28) -> 0.99278432 | H47: =IF(OR($M$18=0,AND(Model!$M$16=1,Field!H$4>=Model!$M$13-0.000000001,Field!H$4<=Model!$M$13+Model!$M$15+0.000000001,Field!$A28>=Model!$M$14-0.000000001,Field!$A28<=Model!$M$14+Model!$M$15+0.000000001)),"",Field!H28) -> 0.98842909 | I47: =IF(OR($M$18=0,AND(Model!$M$16=1,Field!I$4>=Model!$M$13-0.000000001,Field!I$4<=Model!$M$13+Model!$M$15+0.000000001,Field!$A28>=Model!$M$14-0.000000001,Field!$A28<=Model!$M$14+Model!$M$15+0.000000001)),"",Field!I28) -> 0.98172316 | ... BJ47: =IF(OR($M$18=0,AND(Model!$M$16=1,Field!BJ$4>=Model!$M$13-0.000000001,Field!BJ$4<=Model!$M$13+Model!$M$15+0.000000001,Field!$A28>=Model!$M$14-0.000000001,Field!$A28<=Model!$M$14+Model!$M$15+0.000000001)),"",Field!BJ28) -> 0.35124418
B48: =IF(OR($M$18=0,AND(Model!$M$16=1,Field!B$4>=Model!$M$13-0.000000001,Field!B$4<=Model!$M$13+Model!$M$15+0.000000001,Field!$A29>=Model!$M$14-0.000000001,Field!$A29<=Model!$M$14+Model!$M$15+0.000000001)),"",Field!B29) -> 1 | C48: =IF(OR($M$18=0,AND(Model!$M$16=1,Field!C$4>=Model!$M$13-0.000000001,Field!C$4<=Model!$M$13+Model!$M$15+0.000000001,Field!$A29>=Model!$M$14-0.000000001,Field!$A29<=Model!$M$14+Model!$M$15+0.000000001)),"",Field!C29) -> 0.99950096 | D48: =IF(OR($M$18=0,AND(Model!$M$16=1,Field!D$4>=Model!$M$13-0.000000001,Field!D$4<=Model!$M$13+Model!$M$15+0.000000001,Field!$A29>=Model!$M$14-0.000000001,Field!$A29<=Model!$M$14+Model!$M$15+0.000000001)),"",Field!D29) -> 0.9987467 | E48: =IF(OR($M$18=0,AND(Model!$M$16=1,Field!E$4>=Model!$M$13-0.000000001,Field!E$4<=Model!$M$13+Model!$M$15+0.000000001,Field!$A29>=Model!$M$14-0.000000001,Field!$A29<=Model!$M$14+Model!$M$15+0.000000001)),"",Field!E29) -> 0.99760083 | F48: =IF(OR($M$18=0,AND(Model!$M$16=1,Field!F$4>=Model!$M$13-0.000000001,Field!F$4<=Model!$M$13+Model!$M$15+0.000000001,Field!$A29>=Model!$M$14-0.000000001,Field!$A29<=Model!$M$14+Model!$M$15+0.000000001)),"",Field!F29) -> 0.99585365 | G48: =IF(OR($M$18=0,AND(Model!$M$16=1,Field!G$4>=Model!$M$13-0.000000001,Field!G$4<=Model!$M$13+Model!$M$15+0.000000001,Field!$A29>=Model!$M$14-0.000000001,Field!$A29<=Model!$M$14+Model!$M$15+0.000000001)),"",Field!G29) -> 0.99318228 | H48: =IF(OR($M$18=0,AND(Model!$M$16=1,Field!H$4>=Model!$M$13-0.000000001,Field!H$4<=Model!$M$13+Model!$M$15+0.000000001,Field!$A29>=Model!$M$14-0.000000001,Field!$A29<=Model!$M$14+Model!$M$15+0.000000001)),"",Field!H29) -> 0.98908846 | I48: =IF(OR($M$18=0,AND(Model!$M$16=1,Field!I$4>=Model!$M$13-0.000000001,Field!I$4<=Model!$M$13+Model!$M$15+0.000000001,Field!$A29>=Model!$M$14-0.000000001,Field!$A29<=Model!$M$14+Model!$M$15+0.000000001)),"",Field!I29) -> 0.98280118 | ... BJ48: =IF(OR($M$18=0,AND(Model!$M$16=1,Field!BJ$4>=Model!$M$13-0.000000001,Field!BJ$4<=Model!$M$13+Model!$M$15+0.000000001,Field!$A29>=Model!$M$14-0.000000001,Field!$A29<=Model!$M$14+Model!$M$15+0.000000001)),"",Field!BJ29) -> 0.36108397
B49: =IF(OR($M$18=0,AND(Model!$M$16=1,Field!B$4>=Model!$M$13-0.000000001,Field!B$4<=Model!$M$13+Model!$M$15+0.000000001,Field!$A30>=Model!$M$14-0.000000001,Field!$A30<=Model!$M$14+Model!$M$15+0.000000001)),"",Field!B30) -> 1 | C49: =IF(OR($M$18=0,AND(Model!$M$16=1,Field!C$4>=Model!$M$13-0.000000001,Field!C$4<=Model!$M$13+Model!$M$15+0.000000001,Field!$A30>=Model!$M$14-0.000000001,Field!$A30<=Model!$M$14+Model!$M$15+0.000000001)),"",Field!C30) -> 0.99953332 | D49: =IF(OR($M$18=0,AND(Model!$M$16=1,Field!D$4>=Model!$M$13-0.000000001,Field!D$4<=Model!$M$13+Model!$M$15+0.000000001,Field!$A30>=Model!$M$14-0.000000001,Field!$A30<=Model!$M$14+Model!$M$15+0.000000001)),"",Field!D30) -> 0.99882899 | E49: =IF(OR($M$18=0,AND(Model!$M$16=1,Field!E$4>=Model!$M$13-0.000000001,Field!E$4<=Model!$M$13+Model!$M$15+0.000000001,Field!$A30>=Model!$M$14-0.000000001,Field!$A30<=Model!$M$14+Model!$M$15+0.000000001)),"",Field!E30) -> 0.99776151 | F49: =IF(OR($M$18=0,AND(Model!$M$16=1,Field!F$4>=Model!$M$13-0.000000001,Field!F$4<=Model!$M$13+Model!$M$15+0.000000001,Field!$A30>=Model!$M$14-0.000000001,Field!$A30<=Model!$M$14+Model!$M$15+0.000000001)),"",Field!F30) -> 0.9961389 | G49: =IF(OR($M$18=0,AND(Model!$M$16=1,Field!G$4>=Model!$M$13-0.000000001,Field!G$4<=Model!$M$13+Model!$M$15+0.000000001,Field!$A30>=Model!$M$14-0.000000001,Field!$A30<=Model!$M$14+Model!$M$15+0.000000001)),"",Field!G30) -> 0.99366701 | H49: =IF(OR($M$18=0,AND(Model!$M$16=1,Field!H$4>=Model!$M$13-0.000000001,Field!H$4<=Model!$M$13+Model!$M$15+0.000000001,Field!$A30>=Model!$M$14-0.000000001,Field!$A30<=Model!$M$14+Model!$M$15+0.000000001)),"",Field!H30) -> 0.98989436 | I49: =IF(OR($M$18=0,AND(Model!$M$16=1,Field!I$4>=Model!$M$13-0.000000001,Field!I$4<=Model!$M$13+Model!$M$15+0.000000001,Field!$A30>=Model!$M$14-0.000000001,Field!$A30<=Model!$M$14+Model!$M$15+0.000000001)),"",Field!I30) -> 0.98412644 | ... BJ49: =IF(OR($M$18=0,AND(Model!$M$16=1,Field!BJ$4>=Model!$M$13-0.000000001,Field!BJ$4<=Model!$M$13+Model!$M$15+0.000000001,Field!$A30>=Model!$M$14-0.000000001,Field!$A30<=Model!$M$14+Model!$M$15+0.000000001)),"",Field!BJ30) -> 0.3732789
B50: =IF(OR($M$18=0,AND(Model!$M$16=1,Field!B$4>=Model!$M$13-0.000000001,Field!B$4<=Model!$M$13+Model!$M$15+0.000000001,Field!$A31>=Model!$M$14-0.000000001,Field!$A31<=Model!$M$14+Model!$M$15+0.000000001)),"",Field!B31) -> 1 | C50: =IF(OR($M$18=0,AND(Model!$M$16=1,Field!C$4>=Model!$M$13-0.000000001,Field!C$4<=Model!$M$13+Model!$M$15+0.000000001,Field!$A31>=Model!$M$14-0.000000001,Field!$A31<=Model!$M$14+Model!$M$15+0.000000001)),"",Field!C31) -> 0.99957001 | D50: =IF(OR($M$18=0,AND(Model!$M$16=1,Field!D$4>=Model!$M$13-0.000000001,Field!D$4<=Model!$M$13+Model!$M$15+0.000000001,Field!$A31>=Model!$M$14-0.000000001,Field!$A31<=Model!$M$14+Model!$M$15+0.000000001)),"",Field!D31) -> 0.99892225 | E50: =IF(OR($M$18=0,AND(Model!$M$16=1,Field!E$4>=Model!$M$13-0.000000001,Field!E$4<=Model!$M$13+Model!$M$15+0.000000001,Field!$A31>=Model!$M$14-0.000000001,Field!$A31<=Model!$M$14+Model!$M$15+0.000000001)),"",Field!E31) -> 0.99794359 | F50: =IF(OR($M$18=0,AND(Model!$M$16=1,Field!F$4>=Model!$M$13-0.000000001,Field!F$4<=Model!$M$13+Model!$M$15+0.000000001,Field!$A31>=Model!$M$14-0.000000001,Field!$A31<=Model!$M$14+Model!$M$15+0.000000001)),"",Field!F31) -> 0.99646214 | G50: =IF(OR($M$18=0,AND(Model!$M$16=1,Field!G$4>=Model!$M$13-0.000000001,Field!G$4<=Model!$M$13+Model!$M$15+0.000000001,Field!$A31>=Model!$M$14-0.000000001,Field!$A31<=Model!$M$14+Model!$M$15+0.000000001)),"",Field!G31) -> 0.99421654 | H50: =IF(OR($M$18=0,AND(Model!$M$16=1,Field!H$4>=Model!$M$13-0.000000001,Field!H$4<=Model!$M$13+Model!$M$15+0.000000001,Field!$A31>=Model!$M$14-0.000000001,Field!$A31<=Model!$M$14+Model!$M$15+0.000000001)),"",Field!H31) -> 0.99080923 | I50: =IF(OR($M$18=0,AND(Model!$M$16=1,Field!I$4>=Model!$M$13-0.000000001,Field!I$4<=Model!$M$13+Model!$M$15+0.000000001,Field!$A31>=Model!$M$14-0.000000001,Field!$A31<=Model!$M$14+Model!$M$15+0.000000001)),"",Field!I31) -> 0.98563507 | ... BJ50: =IF(OR($M$18=0,AND(Model!$M$16=1,Field!BJ$4>=Model!$M$13-0.000000001,Field!BJ$4<=Model!$M$13+Model!$M$15+0.000000001,Field!$A31>=Model!$M$14-0.000000001,Field!$A31<=Model!$M$14+Model!$M$15+0.000000001)),"",Field!BJ31) -> 0.3875048
B51: =IF(OR($M$18=0,AND(Model!$M$16=1,Field!B$4>=Model!$M$13-0.000000001,Field!B$4<=Model!$M$13+Model!$M$15+0.000000001,Field!$A32>=Model!$M$14-0.000000001,Field!$A32<=Model!$M$14+Model!$M$15+0.000000001)),"",Field!B32) -> 1 | C51: =IF(OR($M$18=0,AND(Model!$M$16=1,Field!C$4>=Model!$M$13-0.000000001,Field!C$4<=Model!$M$13+Model!$M$15+0.000000001,Field!$A32>=Model!$M$14-0.000000001,Field!$A32<=Model!$M$14+Model!$M$15+0.000000001)),"",Field!C32) -> 0.99960949 | D51: =IF(OR($M$18=0,AND(Model!$M$16=1,Field!D$4>=Model!$M$13-0.000000001,Field!D$4<=Model!$M$13+Model!$M$15+0.000000001,Field!$A32>=Model!$M$14-0.000000001,Field!$A32<=Model!$M$14+Model!$M$15+0.000000001)),"",Field!D32) -> 0.99902251 | E51: =IF(OR($M$18=0,AND(Model!$M$16=1,Field!E$4>=Model!$M$13-0.000000001,Field!E$4<=Model!$M$13+Model!$M$15+0.000000001,Field!$A32>=Model!$M$14-0.000000001,Field!$A32<=Model!$M$14+Model!$M$15+0.000000001)),"",Field!E32) -> 0.99813914 | F51: =IF(OR($M$18=0,AND(Model!$M$16=1,Field!F$4>=Model!$M$13-0.000000001,Field!F$4<=Model!$M$13+Model!$M$15+0.000000001,Field!$A32>=Model!$M$14-0.000000001,Field!$A32<=Model!$M$14+Model!$M$15+0.000000001)),"",Field!F32) -> 0.99680881 | G51: =IF(OR($M$18=0,AND(Model!$M$16=1,Field!G$4>=Model!$M$13-0.000000001,Field!G$4<=Model!$M$13+Model!$M$15+0.000000001,Field!$A32>=Model!$M$14-0.000000001,Field!$A32<=Model!$M$14+Model!$M$15+0.000000001)),"",Field!G32) -> 0.99480497 | H51: =IF(OR($M$18=0,AND(Model!$M$16=1,Field!H$4>=Model!$M$13-0.000000001,Field!H$4<=Model!$M$13+Model!$M$15+0.000000001,Field!$A32>=Model!$M$14-0.000000001,Field!$A32<=Model!$M$14+Model!$M$15+0.000000001)),"",Field!H32) -> 0.99178729 | I51: =IF(OR($M$18=0,AND(Model!$M$16=1,Field!I$4>=Model!$M$13-0.000000001,Field!I$4<=Model!$M$13+Model!$M$15+0.000000001,Field!$A32>=Model!$M$14-0.000000001,Field!$A32<=Model!$M$14+Model!$M$15+0.000000001)),"",Field!I32) -> 0.98724551 | ... BJ51: =IF(OR($M$18=0,AND(Model!$M$16=1,Field!BJ$4>=Model!$M$13-0.000000001,Field!BJ$4<=Model!$M$13+Model!$M$15+0.000000001,Field!$A32>=Model!$M$14-0.000000001,Field!$A32<=Model!$M$14+Model!$M$15+0.000000001)),"",Field!BJ32) -> 0.40338481
B52: =IF(OR($M$18=0,AND(Model!$M$16=1,Field!B$4>=Model!$M$13-0.000000001,Field!B$4<=Model!$M$13+Model!$M$15+0.000000001,Field!$A33>=Model!$M$14-0.000000001,Field!$A33<=Model!$M$14+Model!$M$15+0.000000001)),"",Field!B33) -> 1 | C52: =IF(OR($M$18=0,AND(Model!$M$16=1,Field!C$4>=Model!$M$13-0.000000001,Field!C$4<=Model!$M$13+Model!$M$15+0.000000001,Field!$A33>=Model!$M$14-0.000000001,Field!$A33<=Model!$M$14+Model!$M$15+0.000000001)),"",Field!C33) -> 0.99965016 | D52: =IF(OR($M$18=0,AND(Model!$M$16=1,Field!D$4>=Model!$M$13-0.000000001,Field!D$4<=Model!$M$13+Model!$M$15+0.000000001,Field!$A33>=Model!$M$14-0.000000001,Field!$A33<=Model!$M$14+Model!$M$15+0.000000001)),"",Field!D33) -> 0.9991257 | E52: =IF(OR($M$18=0,AND(Model!$M$16=1,Field!E$4>=Model!$M$13-0.000000001,Field!E$4<=Model!$M$13+Model!$M$15+0.000000001,Field!$A33>=Model!$M$14-0.000000001,Field!$A33<=Model!$M$14+Model!$M$15+0.000000001)),"",Field!E33) -> 0.99833996 | F52: =IF(OR($M$18=0,AND(Model!$M$16=1,Field!F$4>=Model!$M$13-0.000000001,Field!F$4<=Model!$M$13+Model!$M$15+0.000000001,Field!$A33>=Model!$M$14-0.000000001,Field!$A33<=Model!$M$14+Model!$M$15+0.000000001)),"",Field!F33) -> 0.9971638 | G52: =IF(OR($M$18=0,AND(Model!$M$16=1,Field!G$4>=Model!$M$13-0.000000001,Field!G$4<=Model!$M$13+Model!$M$15+0.000000001,Field!$A33>=Model!$M$14-0.000000001,Field!$A33<=Model!$M$14+Model!$M$15+0.000000001)),"",Field!G33) -> 0.99540533 | H52: =IF(OR($M$18=0,AND(Model!$M$16=1,Field!H$4>=Model!$M$13-0.000000001,Field!H$4<=Model!$M$13+Model!$M$15+0.000000001,Field!$A33>=Model!$M$14-0.000000001,Field!$A33<=Model!$M$14+Model!$M$15+0.000000001)),"",Field!H33) -> 0.99278059 | I52: =IF(OR($M$18=0,AND(Model!$M$16=1,Field!I$4>=Model!$M$13-0.000000001,Field!I$4<=Model!$M$13+Model!$M$15+0.000000001,Field!$A33>=Model!$M$14-0.000000001,Field!$A33<=Model!$M$14+Model!$M$15+0.000000001)),"",Field!I33) -> 0.98887176 | ... BJ52: =IF(OR($M$18=0,AND(Model!$M$16=1,Field!BJ$4>=Model!$M$13-0.000000001,Field!BJ$4<=Model!$M$13+Model!$M$15+0.000000001,Field!$A33>=Model!$M$14-0.000000001,Field!$A33<=Model!$M$14+Model!$M$15+0.000000001)),"",Field!BJ33) -> 0.42049987
B53: =IF(OR($M$18=0,AND(Model!$M$16=1,Field!B$4>=Model!$M$13-0.000000001,Field!B$4<=Model!$M$13+Model!$M$15+0.000000001,Field!$A34>=Model!$M$14-0.000000001,Field!$A34<=Model!$M$14+Model!$M$15+0.000000001)),"",Field!B34) -> 1 | C53: =IF(OR($M$18=0,AND(Model!$M$16=1,Field!C$4>=Model!$M$13-0.000000001,Field!C$4<=Model!$M$13+Model!$M$15+0.000000001,Field!$A34>=Model!$M$14-0.000000001,Field!$A34<=Model!$M$14+Model!$M$15+0.000000001)),"",Field!C34) -> 0.99969052 | D53: =IF(OR($M$18=0,AND(Model!$M$16=1,Field!D$4>=Model!$M$13-0.000000001,Field!D$4<=Model!$M$13+Model!$M$15+0.000000001,Field!$A34>=Model!$M$14-0.000000001,Field!$A34<=Model!$M$14+Model!$M$15+0.000000001)),"",Field!D34) -> 0.99922793 | E53: =IF(OR($M$18=0,AND(Model!$M$16=1,Field!E$4>=Model!$M$13-0.000000001,Field!E$4<=Model!$M$13+Model!$M$15+0.000000001,Field!$A34>=Model!$M$14-0.000000001,Field!$A34<=Model!$M$14+Model!$M$15+0.000000001)),"",Field!E34) -> 0.99853835 | F53: =IF(OR($M$18=0,AND(Model!$M$16=1,Field!F$4>=Model!$M$13-0.000000001,Field!F$4<=Model!$M$13+Model!$M$15+0.000000001,Field!$A34>=Model!$M$14-0.000000001,Field!$A34<=Model!$M$14+Model!$M$15+0.000000001)),"",Field!F34) -> 0.99751304 | G53: =IF(OR($M$18=0,AND(Model!$M$16=1,Field!G$4>=Model!$M$13-0.000000001,Field!G$4<=Model!$M$13+Model!$M$15+0.000000001,Field!$A34>=Model!$M$14-0.000000001,Field!$A34<=Model!$M$14+Model!$M$15+0.000000001)),"",Field!G34) -> 0.99599271 | H53: =IF(OR($M$18=0,AND(Model!$M$16=1,Field!H$4>=Model!$M$13-0.000000001,Field!H$4<=Model!$M$13+Model!$M$15+0.000000001,Field!$A34>=Model!$M$14-0.000000001,Field!$A34<=Model!$M$14+Model!$M$15+0.000000001)),"",Field!H34) -> 0.99374562 | I53: =IF(OR($M$18=0,AND(Model!$M$16=1,Field!I$4>=Model!$M$13-0.000000001,Field!I$4<=Model!$M$13+Model!$M$15+0.000000001,Field!$A34>=Model!$M$14-0.000000001,Field!$A34<=Model!$M$14+Model!$M$15+0.000000001)),"",Field!I34) -> 0.99043771 | ... BJ53: =IF(OR($M$18=0,AND(Model!$M$16=1,Field!BJ$4>=Model!$M$13-0.000000001,Field!BJ$4<=Model!$M$13+Model!$M$15+0.000000001,Field!$A34>=Model!$M$14-0.000000001,Field!$A34<=Model!$M$14+Model!$M$15+0.000000001)),"",Field!BJ34) -> 0.4384005
A54: =Field!A35 -> 0.5 | B54: =IF(OR($M$18=0,AND(Model!$M$16=1,Field!B$4>=Model!$M$13-0.000000001,Field!B$4<=Model!$M$13+Model!$M$15+0.000000001,Field!$A35>=Model!$M$14-0.000000001,Field!$A35<=Model!$M$14+Model!$M$15+0.000000001)),"",Field!B35) -> 1 | C54: =IF(OR($M$18=0,AND(Model!$M$16=1,Field!C$4>=Model!$M$13-0.000000001,Field!C$4<=Model!$M$13+Model!$M$15+0.000000001,Field!$A35>=Model!$M$14-0.000000001,Field!$A35<=Model!$M$14+Model!$M$15+0.000000001)),"",Field!C35) -> 0.99972926 | D54: =IF(OR($M$18=0,AND(Model!$M$16=1,Field!D$4>=Model!$M$13-0.000000001,Field!D$4<=Model!$M$13+Model!$M$15+0.000000001,Field!$A35>=Model!$M$14-0.000000001,Field!$A35<=Model!$M$14+Model!$M$15+0.000000001)),"",Field!D35) -> 0.99932584 | E54: =IF(OR($M$18=0,AND(Model!$M$16=1,Field!E$4>=Model!$M$13-0.000000001,Field!E$4<=Model!$M$13+Model!$M$15+0.000000001,Field!$A35>=Model!$M$14-0.000000001,Field!$A35<=Model!$M$14+Model!$M$15+0.000000001)),"",Field!E35) -> 0.99872768 | F54: =IF(OR($M$18=0,AND(Model!$M$16=1,Field!F$4>=Model!$M$13-0.000000001,Field!F$4<=Model!$M$13+Model!$M$15+0.000000001,Field!$A35>=Model!$M$14-0.000000001,Field!$A35<=Model!$M$14+Model!$M$15+0.000000001)),"",Field!F35) -> 0.99784464 | G54: =IF(OR($M$18=0,AND(Model!$M$16=1,Field!G$4>=Model!$M$13-0.000000001,Field!G$4<=Model!$M$13+Model!$M$15+0.000000001,Field!$A35>=Model!$M$14-0.000000001,Field!$A35<=Model!$M$14+Model!$M$15+0.000000001)),"",Field!G35) -> 0.99654668 | H54: =IF(OR($M$18=0,AND(Model!$M$16=1,Field!H$4>=Model!$M$13-0.000000001,Field!H$4<=Model!$M$13+Model!$M$15+0.000000001,Field!$A35>=Model!$M$14-0.000000001,Field!$A35<=Model!$M$14+Model!$M$15+0.000000001)),"",Field!H35) -> 0.99464794 | I54: =IF(OR($M$18=0,AND(Model!$M$16=1,Field!I$4>=Model!$M$13-0.000000001,Field!I$4<=Model!$M$13+Model!$M$15+0.000000001,Field!$A35>=Model!$M$14-0.000000001,Field!$A35<=Model!$M$14+Model!$M$15+0.000000001)),"",Field!I35) -> 0.99188608 | ... BJ54: =IF(OR($M$18=0,AND(Model!$M$16=1,Field!BJ$4>=Model!$M$13-0.000000001,Field!BJ$4<=Model!$M$13+Model!$M$15+0.000000001,Field!$A35>=Model!$M$14-0.000000001,Field!$A35<=Model!$M$14+Model!$M$15+0.000000001)),"",Field!BJ35) -> 0.45661902
B55: =IF(OR($M$18=0,AND(Model!$M$16=1,Field!B$4>=Model!$M$13-0.000000001,Field!B$4<=Model!$M$13+Model!$M$15+0.000000001,Field!$A36>=Model!$M$14-0.000000001,Field!$A36<=Model!$M$14+Model!$M$15+0.000000001)),"",Field!B36) -> 1 | C55: =IF(OR($M$18=0,AND(Model!$M$16=1,Field!C$4>=Model!$M$13-0.000000001,Field!C$4<=Model!$M$13+Model!$M$15+0.000000001,Field!$A36>=Model!$M$14-0.000000001,Field!$A36<=Model!$M$14+Model!$M$15+0.000000001)),"",Field!C36) -> 0.99976533 | D55: =IF(OR($M$18=0,AND(Model!$M$16=1,Field!D$4>=Model!$M$13-0.000000001,Field!D$4<=Model!$M$13+Model!$M$15+0.000000001,Field!$A36>=Model!$M$14-0.000000001,Field!$A36<=Model!$M$14+Model!$M$15+0.000000001)),"",Field!D36) -> 0.99941677 | E55: =IF(OR($M$18=0,AND(Model!$M$16=1,Field!E$4>=Model!$M$13-0.000000001,Field!E$4<=Model!$M$13+Model!$M$15+0.000000001,Field!$A36>=Model!$M$14-0.000000001,Field!$A36<=Model!$M$14+Model!$M$15+0.000000001)),"",Field!E36) -> 0.99890281 | F55: =IF(OR($M$18=0,AND(Model!$M$16=1,Field!F$4>=Model!$M$13-0.000000001,Field!F$4<=Model!$M$13+Model!$M$15+0.000000001,Field!$A36>=Model!$M$14-0.000000001,Field!$A36<=Model!$M$14+Model!$M$15+0.000000001)),"",Field!F36) -> 0.99814965 | G55: =IF(OR($M$18=0,AND(Model!$M$16=1,Field!G$4>=Model!$M$13-0.000000001,Field!G$4<=Model!$M$13+Model!$M$15+0.000000001,Field!$A36>=Model!$M$14-0.000000001,Field!$A36<=Model!$M$14+Model!$M$15+0.000000001)),"",Field!G36) -> 0.99705243 | H55: =IF(OR($M$18=0,AND(Model!$M$16=1,Field!H$4>=Model!$M$13-0.000000001,Field!H$4<=Model!$M$13+Model!$M$15+0.000000001,Field!$A36>=Model!$M$14-0.000000001,Field!$A36<=Model!$M$14+Model!$M$15+0.000000001)),"",Field!H36) -> 0.995464 | I55: =IF(OR($M$18=0,AND(Model!$M$16=1,Field!I$4>=Model!$M$13-0.000000001,Field!I$4<=Model!$M$13+Model!$M$15+0.000000001,Field!$A36>=Model!$M$14-0.000000001,Field!$A36<=Model!$M$14+Model!$M$15+0.000000001)),"",Field!I36) -> 0.99318081 | ... BJ55: =IF(OR($M$18=0,AND(Model!$M$16=1,Field!BJ$4>=Model!$M$13-0.000000001,Field!BJ$4<=Model!$M$13+Model!$M$15+0.000000001,Field!$A36>=Model!$M$14-0.000000001,Field!$A36<=Model!$M$14+Model!$M$15+0.000000001)),"",Field!BJ36) -> 0.47468222
B56: =IF(OR($M$18=0,AND(Model!$M$16=1,Field!B$4>=Model!$M$13-0.000000001,Field!B$4<=Model!$M$13+Model!$M$15+0.000000001,Field!$A37>=Model!$M$14-0.000000001,Field!$A37<=Model!$M$14+Model!$M$15+0.000000001)),"",Field!B37) -> 1 | C56: =IF(OR($M$18=0,AND(Model!$M$16=1,Field!C$4>=Model!$M$13-0.000000001,Field!C$4<=Model!$M$13+Model!$M$15+0.000000001,Field!$A37>=Model!$M$14-0.000000001,Field!$A37<=Model!$M$14+Model!$M$15+0.000000001)),"",Field!C37) -> 0.99979795 | D56: =IF(OR($M$18=0,AND(Model!$M$16=1,Field!D$4>=Model!$M$13-0.000000001,Field!D$4<=Model!$M$13+Model!$M$15+0.000000001,Field!$A37>=Model!$M$14-0.000000001,Field!$A37<=Model!$M$14+Model!$M$15+0.000000001)),"",Field!D37) -> 0.99949881 | E56: =IF(OR($M$18=0,AND(Model!$M$16=1,Field!E$4>=Model!$M$13-0.000000001,Field!E$4<=Model!$M$13+Model!$M$15+0.000000001,Field!$A37>=Model!$M$14-0.000000001,Field!$A37<=Model!$M$14+Model!$M$15+0.000000001)),"",Field!E37) -> 0.99906018 | F56: =IF(OR($M$18=0,AND(Model!$M$16=1,Field!F$4>=Model!$M$13-0.000000001,Field!F$4<=Model!$M$13+Model!$M$15+0.000000001,Field!$A37>=Model!$M$14-0.000000001,Field!$A37<=Model!$M$14+Model!$M$15+0.000000001)),"",Field!F37) -> 0.99842212 | G56: =IF(OR($M$18=0,AND(Model!$M$16=1,Field!G$4>=Model!$M$13-0.000000001,Field!G$4<=Model!$M$13+Model!$M$15+0.000000001,Field!$A37>=Model!$M$14-0.000000001,Field!$A37<=Model!$M$14+Model!$M$15+0.000000001)),"",Field!G37) -> 0.99750081 | H56: =IF(OR($M$18=0,AND(Model!$M$16=1,Field!H$4>=Model!$M$13-0.000000001,Field!H$4<=Model!$M$13+Model!$M$15+0.000000001,Field!$A37>=Model!$M$14-0.000000001,Field!$A37<=Model!$M$14+Model!$M$15+0.000000001)),"",Field!H37) -> 0.9961806 | I56: =IF(OR($M$18=0,AND(Model!$M$16=1,Field!I$4>=Model!$M$13-0.000000001,Field!I$4<=Model!$M$13+Model!$M$15+0.000000001,Field!$A37>=Model!$M$14-0.000000001,Field!$A37<=Model!$M$14+Model!$M$15+0.000000001)),"",Field!I37) -> 0.99430461 | ... BJ56: =IF(OR($M$18=0,AND(Model!$M$16=1,Field!BJ$4>=Model!$M$13-0.000000001,Field!BJ$4<=Model!$M$13+Model!$M$15+0.000000001,Field!$A37>=Model!$M$14-0.000000001,Field!$A37<=Model!$M$14+Model!$M$15+0.000000001)),"",Field!BJ37) -> 0.49212382
B57: =IF(OR($M$18=0,AND(Model!$M$16=1,Field!B$4>=Model!$M$13-0.000000001,Field!B$4<=Model!$M$13+Model!$M$15+0.000000001,Field!$A38>=Model!$M$14-0.000000001,Field!$A38<=Model!$M$14+Model!$M$15+0.000000001)),"",Field!B38) -> 1 | C57: =IF(OR($M$18=0,AND(Model!$M$16=1,Field!C$4>=Model!$M$13-0.000000001,Field!C$4<=Model!$M$13+Model!$M$15+0.000000001,Field!$A38>=Model!$M$14-0.000000001,Field!$A38<=Model!$M$14+Model!$M$15+0.000000001)),"",Field!C38) -> 0.99982663 | D57: =IF(OR($M$18=0,AND(Model!$M$16=1,Field!D$4>=Model!$M$13-0.000000001,Field!D$4<=Model!$M$13+Model!$M$15+0.000000001,Field!$A38>=Model!$M$14-0.000000001,Field!$A38<=Model!$M$14+Model!$M$15+0.000000001)),"",Field!D38) -> 0.99957078 | E57: =IF(OR($M$18=0,AND(Model!$M$16=1,Field!E$4>=Model!$M$13-0.000000001,Field!E$4<=Model!$M$13+Model!$M$15+0.000000001,Field!$A38>=Model!$M$14-0.000000001,Field!$A38<=Model!$M$14+Model!$M$15+0.000000001)),"",Field!E38) -> 0.99919766 | F57: =IF(OR($M$18=0,AND(Model!$M$16=1,Field!F$4>=Model!$M$13-0.000000001,Field!F$4<=Model!$M$13+Model!$M$15+0.000000001,Field!$A38>=Model!$M$14-0.000000001,Field!$A38<=Model!$M$14+Model!$M$15+0.000000001)),"",Field!F38) -> 0.99865881 | G57: =IF(OR($M$18=0,AND(Model!$M$16=1,Field!G$4>=Model!$M$13-0.000000001,Field!G$4<=Model!$M$13+Model!$M$15+0.000000001,Field!$A38>=Model!$M$14-0.000000001,Field!$A38<=Model!$M$14+Model!$M$15+0.000000001)),"",Field!G38) -> 0.99788743 | H57: =IF(OR($M$18=0,AND(Model!$M$16=1,Field!H$4>=Model!$M$13-0.000000001,Field!H$4<=Model!$M$13+Model!$M$15+0.000000001,Field!$A38>=Model!$M$14-0.000000001,Field!$A38<=Model!$M$14+Model!$M$15+0.000000001)),"",Field!H38) -> 0.99679288 | I57: =IF(OR($M$18=0,AND(Model!$M$16=1,Field!I$4>=Model!$M$13-0.000000001,Field!I$4<=Model!$M$13+Model!$M$15+0.000000001,Field!$A38>=Model!$M$14-0.000000001,Field!$A38<=Model!$M$14+Model!$M$15+0.000000001)),"",Field!I38) -> 0.99525434 | ... BJ57: =IF(OR($M$18=0,AND(Model!$M$16=1,Field!BJ$4>=Model!$M$13-0.000000001,Field!BJ$4<=Model!$M$13+Model!$M$15+0.000000001,Field!$A38>=Model!$M$14-0.000000001,Field!$A38<=Model!$M$14+Model!$M$15+0.000000001)),"",Field!BJ38) -> 0.50849644
B58: =IF(OR($M$18=0,AND(Model!$M$16=1,Field!B$4>=Model!$M$13-0.000000001,Field!B$4<=Model!$M$13+Model!$M$15+0.000000001,Field!$A39>=Model!$M$14-0.000000001,Field!$A39<=Model!$M$14+Model!$M$15+0.000000001)),"",Field!B39) -> 1 | C58: =IF(OR($M$18=0,AND(Model!$M$16=1,Field!C$4>=Model!$M$13-0.000000001,Field!C$4<=Model!$M$13+Model!$M$15+0.000000001,Field!$A39>=Model!$M$14-0.000000001,Field!$A39<=Model!$M$14+Model!$M$15+0.000000001)),"",Field!C39) -> 0.99985112 | D58: =IF(OR($M$18=0,AND(Model!$M$16=1,Field!D$4>=Model!$M$13-0.000000001,Field!D$4<=Model!$M$13+Model!$M$15+0.000000001,Field!$A39>=Model!$M$14-0.000000001,Field!$A39<=Model!$M$14+Model!$M$15+0.000000001)),"",Field!D39) -> 0.99963208 | E58: =IF(OR($M$18=0,AND(Model!$M$16=1,Field!E$4>=Model!$M$13-0.000000001,Field!E$4<=Model!$M$13+Model!$M$15+0.000000001,Field!$A39>=Model!$M$14-0.000000001,Field!$A39<=Model!$M$14+Model!$M$15+0.000000001)),"",Field!E39) -> 0.99931432 | F58: =IF(OR($M$18=0,AND(Model!$M$16=1,Field!F$4>=Model!$M$13-0.000000001,Field!F$4<=Model!$M$13+Model!$M$15+0.000000001,Field!$A39>=Model!$M$14-0.000000001,Field!$A39<=Model!$M$14+Model!$M$15+0.000000001)),"",Field!F39) -> 0.99885859 | G58: =IF(OR($M$18=0,AND(Model!$M$16=1,Field!G$4>=Model!$M$13-0.000000001,Field!G$4<=Model!$M$13+Model!$M$15+0.000000001,Field!$A39>=Model!$M$14-0.000000001,Field!$A39<=Model!$M$14+Model!$M$15+0.000000001)),"",Field!G39) -> 0.99821154 | H58: =IF(OR($M$18=0,AND(Model!$M$16=1,Field!H$4>=Model!$M$13-0.000000001,Field!H$4<=Model!$M$13+Model!$M$15+0.000000001,Field!$A39>=Model!$M$14-0.000000001,Field!$A39<=Model!$M$14+Model!$M$15+0.000000001)),"",Field!H39) -> 0.99730188 | I58: =IF(OR($M$18=0,AND(Model!$M$16=1,Field!I$4>=Model!$M$13-0.000000001,Field!I$4<=Model!$M$13+Model!$M$15+0.000000001,Field!$A39>=Model!$M$14-0.000000001,Field!$A39<=Model!$M$14+Model!$M$15+0.000000001)),"",Field!I39) -> 0.99603608 | ... BJ58: =IF(OR($M$18=0,AND(Model!$M$16=1,Field!BJ$4>=Model!$M$13-0.000000001,Field!BJ$4<=Model!$M$13+Model!$M$15+0.000000001,Field!$A39>=Model!$M$14-0.000000001,Field!$A39<=Model!$M$14+Model!$M$15+0.000000001)),"",Field!BJ39) -> 0.52338282
B59: =IF(OR($M$18=0,AND(Model!$M$16=1,Field!B$4>=Model!$M$13-0.000000001,Field!B$4<=Model!$M$13+Model!$M$15+0.000000001,Field!$A40>=Model!$M$14-0.000000001,Field!$A40<=Model!$M$14+Model!$M$15+0.000000001)),"",Field!B40) -> 1 | C59: =IF(OR($M$18=0,AND(Model!$M$16=1,Field!C$4>=Model!$M$13-0.000000001,Field!C$4<=Model!$M$13+Model!$M$15+0.000000001,Field!$A40>=Model!$M$14-0.000000001,Field!$A40<=Model!$M$14+Model!$M$15+0.000000001)),"",Field!C40) -> 0.99987133 | D59: =IF(OR($M$18=0,AND(Model!$M$16=1,Field!D$4>=Model!$M$13-0.000000001,Field!D$4<=Model!$M$13+Model!$M$15+0.000000001,Field!$A40>=Model!$M$14-0.000000001,Field!$A40<=Model!$M$14+Model!$M$15+0.000000001)),"",Field!D40) -> 0.99968257 | E59: =IF(OR($M$18=0,AND(Model!$M$16=1,Field!E$4>=Model!$M$13-0.000000001,Field!E$4<=Model!$M$13+Model!$M$15+0.000000001,Field!$A40>=Model!$M$14-0.000000001,Field!$A40<=Model!$M$14+Model!$M$15+0.000000001)),"",Field!E40) -> 0.99941009 | F59: =IF(OR($M$18=0,AND(Model!$M$16=1,Field!F$4>=Model!$M$13-0.000000001,Field!F$4<=Model!$M$13+Model!$M$15+0.000000001,Field!$A40>=Model!$M$14-0.000000001,Field!$A40<=Model!$M$14+Model!$M$15+0.000000001)),"",Field!F40) -> 0.99902181 | G59: =IF(OR($M$18=0,AND(Model!$M$16=1,Field!G$4>=Model!$M$13-0.000000001,Field!G$4<=Model!$M$13+Model!$M$15+0.000000001,Field!$A40>=Model!$M$14-0.000000001,Field!$A40<=Model!$M$14+Model!$M$15+0.000000001)),"",Field!G40) -> 0.99847474 | H59: =IF(OR($M$18=0,AND(Model!$M$16=1,Field!H$4>=Model!$M$13-0.000000001,Field!H$4<=Model!$M$13+Model!$M$15+0.000000001,Field!$A40>=Model!$M$14-0.000000001,Field!$A40<=Model!$M$14+Model!$M$15+0.000000001)),"",Field!H40) -> 0.99771218 | I59: =IF(OR($M$18=0,AND(Model!$M$16=1,Field!I$4>=Model!$M$13-0.000000001,Field!I$4<=Model!$M$13+Model!$M$15+0.000000001,Field!$A40>=Model!$M$14-0.000000001,Field!$A40<=Model!$M$14+Model!$M$15+0.000000001)),"",Field!I40) -> 0.99666084 | ... BJ59: =IF(OR($M$18=0,AND(Model!$M$16=1,Field!BJ$4>=Model!$M$13-0.000000001,Field!BJ$4<=Model!$M$13+Model!$M$15+0.000000001,Field!$A40>=Model!$M$14-0.000000001,Field!$A40<=Model!$M$14+Model!$M$15+0.000000001)),"",Field!BJ40) -> 0.53640591
B60: =IF(OR($M$18=0,AND(Model!$M$16=1,Field!B$4>=Model!$M$13-0.000000001,Field!B$4<=Model!$M$13+Model!$M$15+0.000000001,Field!$A41>=Model!$M$14-0.000000001,Field!$A41<=Model!$M$14+Model!$M$15+0.000000001)),"",Field!B41) -> 1 | C60: =IF(OR($M$18=0,AND(Model!$M$16=1,Field!C$4>=Model!$M$13-0.000000001,Field!C$4<=Model!$M$13+Model!$M$15+0.000000001,Field!$A41>=Model!$M$14-0.000000001,Field!$A41<=Model!$M$14+Model!$M$15+0.000000001)),"",Field!C41) -> 0.99988731 | D60: =IF(OR($M$18=0,AND(Model!$M$16=1,Field!D$4>=Model!$M$13-0.000000001,Field!D$4<=Model!$M$13+Model!$M$15+0.000000001,Field!$A41>=Model!$M$14-0.000000001,Field!$A41<=Model!$M$14+Model!$M$15+0.000000001)),"",Field!D41) -> 0.99972241 | E60: =IF(OR($M$18=0,AND(Model!$M$16=1,Field!E$4>=Model!$M$13-0.000000001,Field!E$4<=Model!$M$13+Model!$M$15+0.000000001,Field!$A41>=Model!$M$14-0.000000001,Field!$A41<=Model!$M$14+Model!$M$15+0.000000001)),"",Field!E41) -> 0.99948542 | F60: =IF(OR($M$18=0,AND(Model!$M$16=1,Field!F$4>=Model!$M$13-0.000000001,Field!F$4<=Model!$M$13+Model!$M$15+0.000000001,Field!$A41>=Model!$M$14-0.000000001,Field!$A41<=Model!$M$14+Model!$M$15+0.000000001)),"",Field!F41) -> 0.99914968 | G60: =IF(OR($M$18=0,AND(Model!$M$16=1,Field!G$4>=Model!$M$13-0.000000001,Field!G$4<=Model!$M$13+Model!$M$15+0.000000001,Field!$A41>=Model!$M$14-0.000000001,Field!$A41<=Model!$M$14+Model!$M$15+0.000000001)),"",Field!G41) -> 0.99867988 | H60: =IF(OR($M$18=0,AND(Model!$M$16=1,Field!H$4>=Model!$M$13-0.000000001,Field!H$4<=Model!$M$13+Model!$M$15+0.000000001,Field!$A41>=Model!$M$14-0.000000001,Field!$A41<=Model!$M$14+Model!$M$15+0.000000001)),"",Field!H41) -> 0.99803001 | I60: =IF(OR($M$18=0,AND(Model!$M$16=1,Field!I$4>=Model!$M$13-0.000000001,Field!I$4<=Model!$M$13+Model!$M$15+0.000000001,Field!$A41>=Model!$M$14-0.000000001,Field!$A41<=Model!$M$14+Model!$M$15+0.000000001)),"",Field!I41) -> 0.99714132 | ... BJ60: =IF(OR($M$18=0,AND(Model!$M$16=1,Field!BJ$4>=Model!$M$13-0.000000001,Field!BJ$4<=Model!$M$13+Model!$M$15+0.000000001,Field!$A41>=Model!$M$14-0.000000001,Field!$A41<=Model!$M$14+Model!$M$15+0.000000001)),"",Field!BJ41) -> 0.54723777
B61: =IF(OR($M$18=0,AND(Model!$M$16=1,Field!B$4>=Model!$M$13-0.000000001,Field!B$4<=Model!$M$13+Model!$M$15+0.000000001,Field!$A42>=Model!$M$14-0.000000001,Field!$A42<=Model!$M$14+Model!$M$15+0.000000001)),"",Field!B42) -> 1 | C61: =IF(OR($M$18=0,AND(Model!$M$16=1,Field!C$4>=Model!$M$13-0.000000001,Field!C$4<=Model!$M$13+Model!$M$15+0.000000001,Field!$A42>=Model!$M$14-0.000000001,Field!$A42<=Model!$M$14+Model!$M$15+0.000000001)),"",Field!C42) -> 0.99989914 | D61: =IF(OR($M$18=0,AND(Model!$M$16=1,Field!D$4>=Model!$M$13-0.000000001,Field!D$4<=Model!$M$13+Model!$M$15+0.000000001,Field!$A42>=Model!$M$14-0.000000001,Field!$A42<=Model!$M$14+Model!$M$15+0.000000001)),"",Field!D42) -> 0.99975187 | E61: =IF(OR($M$18=0,AND(Model!$M$16=1,Field!E$4>=Model!$M$13-0.000000001,Field!E$4<=Model!$M$13+Model!$M$15+0.000000001,Field!$A42>=Model!$M$14-0.000000001,Field!$A42<=Model!$M$14+Model!$M$15+0.000000001)),"",Field!E42) -> 0.99954102 | F61: =IF(OR($M$18=0,AND(Model!$M$16=1,Field!F$4>=Model!$M$13-0.000000001,Field!F$4<=Model!$M$13+Model!$M$15+0.000000001,Field!$A42>=Model!$M$14-0.000000001,Field!$A42<=Model!$M$14+Model!$M$15+0.000000001)),"",Field!F42) -> 0.99924375 | G61: =IF(OR($M$18=0,AND(Model!$M$16=1,Field!G$4>=Model!$M$13-0.000000001,Field!G$4<=Model!$M$13+Model!$M$15+0.000000001,Field!$A42>=Model!$M$14-0.000000001,Field!$A42<=Model!$M$14+Model!$M$15+0.000000001)),"",Field!G42) -> 0.99883017 | H61: =IF(OR($M$18=0,AND(Model!$M$16=1,Field!H$4>=Model!$M$13-0.000000001,Field!H$4<=Model!$M$13+Model!$M$15+0.000000001,Field!$A42>=Model!$M$14-0.000000001,Field!$A42<=Model!$M$14+Model!$M$15+0.000000001)),"",Field!H42) -> 0.99826173 | I61: =IF(OR($M$18=0,AND(Model!$M$16=1,Field!I$4>=Model!$M$13-0.000000001,Field!I$4<=Model!$M$13+Model!$M$15+0.000000001,Field!$A42>=Model!$M$14-0.000000001,Field!$A42<=Model!$M$14+Model!$M$15+0.000000001)),"",Field!I42) -> 0.99748966 | ... BJ61: =IF(OR($M$18=0,AND(Model!$M$16=1,Field!BJ$4>=Model!$M$13-0.000000001,Field!BJ$4<=Model!$M$13+Model!$M$15+0.000000001,Field!$A42>=Model!$M$14-0.000000001,Field!$A42<=Model!$M$14+Model!$M$15+0.000000001)),"",Field!BJ42) -> 0.55560701
B62: =IF(OR($M$18=0,AND(Model!$M$16=1,Field!B$4>=Model!$M$13-0.000000001,Field!B$4<=Model!$M$13+Model!$M$15+0.000000001,Field!$A43>=Model!$M$14-0.000000001,Field!$A43<=Model!$M$14+Model!$M$15+0.000000001)),"",Field!B43) -> 1 | C62: =IF(OR($M$18=0,AND(Model!$M$16=1,Field!C$4>=Model!$M$13-0.000000001,Field!C$4<=Model!$M$13+Model!$M$15+0.000000001,Field!$A43>=Model!$M$14-0.000000001,Field!$A43<=Model!$M$14+Model!$M$15+0.000000001)),"",Field!C43) -> 0.99990695 | D62: =IF(OR($M$18=0,AND(Model!$M$16=1,Field!D$4>=Model!$M$13-0.000000001,Field!D$4<=Model!$M$13+Model!$M$15+0.000000001,Field!$A43>=Model!$M$14-0.000000001,Field!$A43<=Model!$M$14+Model!$M$15+0.000000001)),"",Field!D43) -> 0.99977129 | E62: =IF(OR($M$18=0,AND(Model!$M$16=1,Field!E$4>=Model!$M$13-0.000000001,Field!E$4<=Model!$M$13+Model!$M$15+0.000000001,Field!$A43>=Model!$M$14-0.000000001,Field!$A43<=Model!$M$14+Model!$M$15+0.000000001)),"",Field!E43) -> 0.9995776 | F62: =IF(OR($M$18=0,AND(Model!$M$16=1,Field!F$4>=Model!$M$13-0.000000001,Field!F$4<=Model!$M$13+Model!$M$15+0.000000001,Field!$A43>=Model!$M$14-0.000000001,Field!$A43<=Model!$M$14+Model!$M$15+0.000000001)),"",Field!F43) -> 0.9993055 | G62: =IF(OR($M$18=0,AND(Model!$M$16=1,Field!G$4>=Model!$M$13-0.000000001,Field!G$4<=Model!$M$13+Model!$M$15+0.000000001,Field!$A43>=Model!$M$14-0.000000001,Field!$A43<=Model!$M$14+Model!$M$15+0.000000001)),"",Field!G43) -> 0.99892854 | H62: =IF(OR($M$18=0,AND(Model!$M$16=1,Field!H$4>=Model!$M$13-0.000000001,Field!H$4<=Model!$M$13+Model!$M$15+0.000000001,Field!$A43>=Model!$M$14-0.000000001,Field!$A43<=Model!$M$14+Model!$M$15+0.000000001)),"",Field!H43) -> 0.99841285 | I62: =IF(OR($M$18=0,AND(Model!$M$16=1,Field!I$4>=Model!$M$13-0.000000001,Field!I$4<=Model!$M$13+Model!$M$15+0.000000001,Field!$A43>=Model!$M$14-0.000000001,Field!$A43<=Model!$M$14+Model!$M$15+0.000000001)),"",Field!I43) -> 0.99771591 | ... BJ62: =IF(OR($M$18=0,AND(Model!$M$16=1,Field!BJ$4>=Model!$M$13-0.000000001,Field!BJ$4<=Model!$M$13+Model!$M$15+0.000000001,Field!$A43>=Model!$M$14-0.000000001,Field!$A43<=Model!$M$14+Model!$M$15+0.000000001)),"",Field!BJ43) -> 0.56130484
B63: =IF(OR($M$18=0,AND(Model!$M$16=1,Field!B$4>=Model!$M$13-0.000000001,Field!B$4<=Model!$M$13+Model!$M$15+0.000000001,Field!$A44>=Model!$M$14-0.000000001,Field!$A44<=Model!$M$14+Model!$M$15+0.000000001)),"",Field!B44) -> 1 | C63: =IF(OR($M$18=0,AND(Model!$M$16=1,Field!C$4>=Model!$M$13-0.000000001,Field!C$4<=Model!$M$13+Model!$M$15+0.000000001,Field!$A44>=Model!$M$14-0.000000001,Field!$A44<=Model!$M$14+Model!$M$15+0.000000001)),"",Field!C44) -> 0.99991082 | D63: =IF(OR($M$18=0,AND(Model!$M$16=1,Field!D$4>=Model!$M$13-0.000000001,Field!D$4<=Model!$M$13+Model!$M$15+0.000000001,Field!$A44>=Model!$M$14-0.000000001,Field!$A44<=Model!$M$14+Model!$M$15+0.000000001)),"",Field!D44) -> 0.99978093 | E63: =IF(OR($M$18=0,AND(Model!$M$16=1,Field!E$4>=Model!$M$13-0.000000001,Field!E$4<=Model!$M$13+Model!$M$15+0.000000001,Field!$A44>=Model!$M$14-0.000000001,Field!$A44<=Model!$M$14+Model!$M$15+0.000000001)),"",Field!E44) -> 0.99959573 | F63: =IF(OR($M$18=0,AND(Model!$M$16=1,Field!F$4>=Model!$M$13-0.000000001,Field!F$4<=Model!$M$13+Model!$M$15+0.000000001,Field!$A44>=Model!$M$14-0.000000001,Field!$A44<=Model!$M$14+Model!$M$15+0.000000001)),"",Field!F44) -> 0.99933607 | G63: =IF(OR($M$18=0,AND(Model!$M$16=1,Field!G$4>=Model!$M$13-0.000000001,Field!G$4<=Model!$M$13+Model!$M$15+0.000000001,Field!$A44>=Model!$M$14-0.000000001,Field!$A44<=Model!$M$14+Model!$M$15+0.000000001)),"",Field!G44) -> 0.99897714 | H63: =IF(OR($M$18=0,AND(Model!$M$16=1,Field!H$4>=Model!$M$13-0.000000001,Field!H$4<=Model!$M$13+Model!$M$15+0.000000001,Field!$A44>=Model!$M$14-0.000000001,Field!$A44<=Model!$M$14+Model!$M$15+0.000000001)),"",Field!H44) -> 0.99848736 | I63: =IF(OR($M$18=0,AND(Model!$M$16=1,Field!I$4>=Model!$M$13-0.000000001,Field!I$4<=Model!$M$13+Model!$M$15+0.000000001,Field!$A44>=Model!$M$14-0.000000001,Field!$A44<=Model!$M$14+Model!$M$15+0.000000001)),"",Field!I44) -> 0.99782721 | ... BJ63: =IF(OR($M$18=0,AND(Model!$M$16=1,Field!BJ$4>=Model!$M$13-0.000000001,Field!BJ$4<=Model!$M$13+Model!$M$15+0.000000001,Field!$A44>=Model!$M$14-0.000000001,Field!$A44<=Model!$M$14+Model!$M$15+0.000000001)),"",Field!BJ44) -> 0.56418956
A64: =Field!A45 -> 0 | B64: =IF(OR($M$18=0,AND(Model!$M$16=1,Field!B$4>=Model!$M$13-0.000000001,Field!B$4<=Model!$M$13+Model!$M$15+0.000000001,Field!$A45>=Model!$M$14-0.000000001,Field!$A45<=Model!$M$14+Model!$M$15+0.000000001)),"",Field!B45) -> 1 | C64: =IF(OR($M$18=0,AND(Model!$M$16=1,Field!C$4>=Model!$M$13-0.000000001,Field!C$4<=Model!$M$13+Model!$M$15+0.000000001,Field!$A45>=Model!$M$14-0.000000001,Field!$A45<=Model!$M$14+Model!$M$15+0.000000001)),"",Field!C45) -> 0.99991082 | D64: =IF(OR($M$18=0,AND(Model!$M$16=1,Field!D$4>=Model!$M$13-0.000000001,Field!D$4<=Model!$M$13+Model!$M$15+0.000000001,Field!$A45>=Model!$M$14-0.000000001,Field!$A45<=Model!$M$14+Model!$M$15+0.000000001)),"",Field!D45) -> 0.99978093 | E64: =IF(OR($M$18=0,AND(Model!$M$16=1,Field!E$4>=Model!$M$13-0.000000001,Field!E$4<=Model!$M$13+Model!$M$15+0.000000001,Field!$A45>=Model!$M$14-0.000000001,Field!$A45<=Model!$M$14+Model!$M$15+0.000000001)),"",Field!E45) -> 0.99959573 | F64: =IF(OR($M$18=0,AND(Model!$M$16=1,Field!F$4>=Model!$M$13-0.000000001,Field!F$4<=Model!$M$13+Model!$M$15+0.000000001,Field!$A45>=Model!$M$14-0.000000001,Field!$A45<=Model!$M$14+Model!$M$15+0.000000001)),"",Field!F45) -> 0.99933607 | G64: =IF(OR($M$18=0,AND(Model!$M$16=1,Field!G$4>=Model!$M$13-0.000000001,Field!G$4<=Model!$M$13+Model!$M$15+0.000000001,Field!$A45>=Model!$M$14-0.000000001,Field!$A45<=Model!$M$14+Model!$M$15+0.000000001)),"",Field!G45) -> 0.99897714 | H64: =IF(OR($M$18=0,AND(Model!$M$16=1,Field!H$4>=Model!$M$13-0.000000001,Field!H$4<=Model!$M$13+Model!$M$15+0.000000001,Field!$A45>=Model!$M$14-0.000000001,Field!$A45<=Model!$M$14+Model!$M$15+0.000000001)),"",Field!H45) -> 0.99848736 | I64: =IF(OR($M$18=0,AND(Model!$M$16=1,Field!I$4>=Model!$M$13-0.000000001,Field!I$4<=Model!$M$13+Model!$M$15+0.000000001,Field!$A45>=Model!$M$14-0.000000001,Field!$A45<=Model!$M$14+Model!$M$15+0.000000001)),"",Field!I45) -> 0.99782721 | ... BJ64: =IF(OR($M$18=0,AND(Model!$M$16=1,Field!BJ$4>=Model!$M$13-0.000000001,Field!BJ$4<=Model!$M$13+Model!$M$15+0.000000001,Field!$A45>=Model!$M$14-0.000000001,Field!$A45<=Model!$M$14+Model!$M$15+0.000000001)),"",Field!BJ45) -> 0.56418956
B66: Bottom symmetry: zero normal scalar gradient. x increases left to right; y increases upward. | C66: Bottom symmetry: zero normal scalar gradient. x increases left to right; y increases upward. | D66: Bottom symmetry: zero normal scalar gradient. x increases left to right; y increases upward. | E66: Bottom symmetry: zero normal scalar gradient. x increases left to right; y increases upward. | F66: Bottom symmetry: zero normal scalar gradient. x increases left to right; y increases upward. | G66: Bottom symmetry: zero normal scalar gradient. x increases left to right; y increases upward. | H66: Bottom symmetry: zero normal scalar gradient. x increases left to right; y increases upward. | I66: Bottom symmetry: zero normal scalar gradient. x increases left to right; y increases upward. | J66: Bottom symmetry: zero normal scalar gradient. x increases left to right; y increases upward. | K66: Bottom symmetry: zero normal scalar gradient. x increases left to right; y increases upward. | L66: Bottom symmetry: zero normal scalar gradient. x increases left to right; y increases upward. | M66: Bottom symmetry: zero normal scalar gradient. x increases left to right; y increases upward. | N66: Bottom symmetry: zero normal scalar gradient. x increases left to right; y increases upward. | O66: Bottom symmetry: zero normal scalar gradient. x increases left to right; y increases upward. | P66: Bottom symmetry: zero normal scalar gradient. x increases left to right; y increases upward. | Q66: Bottom symmetry: zero normal scalar gradient. x increases left to right; y increases upward. | R66: Bottom symmetry: zero normal scalar gradient. x increases left to right; y increases upward. | S66: Bottom symmetry: zero normal scalar gradient. x increases left to right; y increases upward. | T66: Bottom symmetry: zero normal scalar gradient. x increases left to right; y increases upward. | U66: Bottom symmetry: zero normal scalar gradient. x increases left to right; y increases upward. | V66: Bottom symmetry: zero normal scalar gradient. x increases left to right; y increases upward. | W66: Bottom symmetry: zero normal scalar gradient. x increases left to right; y increases upward. | X66: Bottom symmetry: zero normal scalar gradient. x increases left to right; y increases upward. | Y66: Bottom symmetry: zero normal scalar gradient. x increases left to right; y increases upward. | Z66: Bottom symmetry: zero normal scalar gradient. x increases left to right; y increases upward. | AA66: Bottom symmetry: zero normal scalar gradient. x increases left to right; y increases upward. | AB66: Bottom symmetry: zero normal scalar gradient. x increases left to right; y increases upward. | AC66: Bottom symmetry: zero normal scalar gradient. x increases left to right; y increases upward. | AD66: Bottom symmetry: zero normal scalar gradient. x increases left to right; y increases upward. | AE66: Bottom symmetry: zero normal scalar gradient. x increases left to right; y increases upward. | AF66: Bottom symmetry: zero normal scalar gradient. x increases left to right; y increases upward. | AG66: Bottom symmetry: zero normal scalar gradient. x increases left to right; y increases upward. | AH66: Bottom symmetry: zero normal scalar gradient. x increases left to right; y increases upward. | AI66: Bottom symmetry: zero normal scalar gradient. x increases left to right; y increases upward. | AJ66: Bottom symmetry: zero normal scalar gradient. x increases left to right; y increases upward. | AK66: Bottom symmetry: zero normal scalar gradient. x increases left to right; y increases upward. | AL66: Bottom symmetry: zero normal scalar gradient. x increases left to right; y increases upward. | AM66: Bottom symmetry: zero normal scalar gradient. x increases left to right; y increases upward. | AN66: Bottom symmetry: zero normal scalar gradient. x increases left to right; y increases upward. | AO66: Bottom symmetry: zero normal scalar gradient. x increases left to right; y increases upward. | AP66: Bottom symmetry: zero normal scalar gradient. x increases left to right; y increases upward. | AQ66: Bottom symmetry: zero normal scalar gradient. x increases left to right; y increases upward. | AR66: Bottom symmetry: zero normal scalar gradient. x increases left to right; y increases upward. | AS66: Bottom symmetry: zero normal scalar gradient. x increases left to right; y increases upward. | AT66: Bottom symmetry: zero normal scalar gradient. x increases left to right; y increases upward. | AU66: Bottom symmetry: zero normal scalar gradient. x increases left to right; y increases upward. | AV66: Bottom symmetry: zero normal scalar gradient. x increases left to right; y increases upward. | AW66: Bottom symmetry: zero normal scalar gradient. x increases left to right; y increases upward. | AX66: Bottom symmetry: zero normal scalar gradient. x increases left to right; y increases upward. | AY66: Bottom symmetry: zero normal scalar gradient. x increases left to right; y increases upward. | AZ66: Bottom symmetry: zero normal scalar gradient. x increases left to right; y increases upward. | BA66: Bottom symmetry: zero normal scalar gradient. x increases left to right; y increases upward. | BB66: Bottom symmetry: zero normal scalar gradient. x increases left to right; y increases upward. | BC66: Bottom symmetry: zero normal scalar gradient. x increases left to right; y increases upward. | BD66: Bottom symmetry: zero normal scalar gradient. x increases left to right; y increases upward. | BE66: Bottom symmetry: zero normal scalar gradient. x increases left to right; y increases upward. | BF66: Bottom symmetry: zero normal scalar gradient. x increases left to right; y increases upward. | BG66: Bottom symmetry: zero normal scalar gradient. x increases left to right; y increases upward. | BH66: Bottom symmetry: zero normal scalar gradient. x increases left to right; y increases upward. | BI66: Bottom symmetry: zero normal scalar gradient. x increases left to right; y increases upward. | BJ66: Bottom symmetry: zero normal scalar gradient. x increases left to right; y increases upward.
B68: Method: rho u d(phi)/dx = Gamma [d2(phi)/dx2 + d2(phi)/dy2]. Positive-x first-order upwind advection and centered diffusion on a uniform nodal grid. | C68: Method: rho u d(phi)/dx = Gamma [d2(phi)/dx2 + d2(phi)/dy2]. Positive-x first-order upwind advection and centered diffusion on a uniform nodal grid. | D68: Method: rho u d(phi)/dx = Gamma [d2(phi)/dx2 + d2(phi)/dy2]. Positive-x first-order upwind advection and centered diffusion on a uniform nodal grid. | E68: Method: rho u d(phi)/dx = Gamma [d2(phi)/dx2 + d2(phi)/dy2]. Positive-x first-order upwind advection and centered diffusion on a uniform nodal grid. | F68: Method: rho u d(phi)/dx = Gamma [d2(phi)/dx2 + d2(phi)/dy2]. Positive-x first-order upwind advection and centered diffusion on a uniform nodal grid. | G68: Method: rho u d(phi)/dx = Gamma [d2(phi)/dx2 + d2(phi)/dy2]. Positive-x first-order upwind advection and centered diffusion on a uniform nodal grid. | H68: Method: rho u d(phi)/dx = Gamma [d2(phi)/dx2 + d2(phi)/dy2]. Positive-x first-order upwind advection and centered diffusion on a uniform nodal grid. | I68: Method: rho u d(phi)/dx = Gamma [d2(phi)/dx2 + d2(phi)/dy2]. Positive-x first-order upwind advection and centered diffusion on a uniform nodal grid. | J68: Method: rho u d(phi)/dx = Gamma [d2(phi)/dx2 + d2(phi)/dy2]. Positive-x first-order upwind advection and centered diffusion on a uniform nodal grid. | K68: Method: rho u d(phi)/dx = Gamma [d2(phi)/dx2 + d2(phi)/dy2]. Positive-x first-order upwind advection and centered diffusion on a uniform nodal grid. | L68: Method: rho u d(phi)/dx = Gamma [d2(phi)/dx2 + d2(phi)/dy2]. Positive-x first-order upwind advection and centered diffusion on a uniform nodal grid. | M68: Method: rho u d(phi)/dx = Gamma [d2(phi)/dx2 + d2(phi)/dy2]. Positive-x first-order upwind advection and centered diffusion on a uniform nodal grid. | N68: Method: rho u d(phi)/dx = Gamma [d2(phi)/dx2 + d2(phi)/dy2]. Positive-x first-order upwind advection and centered diffusion on a uniform nodal grid. | O68: Method: rho u d(phi)/dx = Gamma [d2(phi)/dx2 + d2(phi)/dy2]. Positive-x first-order upwind advection and centered diffusion on a uniform nodal grid. | P68: Method: rho u d(phi)/dx = Gamma [d2(phi)/dx2 + d2(phi)/dy2]. Positive-x first-order upwind advection and centered diffusion on a uniform nodal grid. | Q68: Method: rho u d(phi)/dx = Gamma [d2(phi)/dx2 + d2(phi)/dy2]. Positive-x first-order upwind advection and centered diffusion on a uniform nodal grid. | R68: Method: rho u d(phi)/dx = Gamma [d2(phi)/dx2 + d2(phi)/dy2]. Positive-x first-order upwind advection and centered diffusion on a uniform nodal grid. | S68: Method: rho u d(phi)/dx = Gamma [d2(phi)/dx2 + d2(phi)/dy2]. Positive-x first-order upwind advection and centered diffusion on a uniform nodal grid. | T68: Method: rho u d(phi)/dx = Gamma [d2(phi)/dx2 + d2(phi)/dy2]. Positive-x first-order upwind advection and centered diffusion on a uniform nodal grid. | U68: Method: rho u d(phi)/dx = Gamma [d2(phi)/dx2 + d2(phi)/dy2]. Positive-x first-order upwind advection and centered diffusion on a uniform nodal grid. | V68: Method: rho u d(phi)/dx = Gamma [d2(phi)/dx2 + d2(phi)/dy2]. Positive-x first-order upwind advection and centered diffusion on a uniform nodal grid. | W68: Method: rho u d(phi)/dx = Gamma [d2(phi)/dx2 + d2(phi)/dy2]. Positive-x first-order upwind advection and centered diffusion on a uniform nodal grid. | X68: Method: rho u d(phi)/dx = Gamma [d2(phi)/dx2 + d2(phi)/dy2]. Positive-x first-order upwind advection and centered diffusion on a uniform nodal grid. | Y68: Method: rho u d(phi)/dx = Gamma [d2(phi)/dx2 + d2(phi)/dy2]. Positive-x first-order upwind advection and centered diffusion on a uniform nodal grid. | Z68: Method: rho u d(phi)/dx = Gamma [d2(phi)/dx2 + d2(phi)/dy2]. Positive-x first-order upwind advection and centered diffusion on a uniform nodal grid. | AA68: Method: rho u d(phi)/dx = Gamma [d2(phi)/dx2 + d2(phi)/dy2]. Positive-x first-order upwind advection and centered diffusion on a uniform nodal grid. | AB68: Method: rho u d(phi)/dx = Gamma [d2(phi)/dx2 + d2(phi)/dy2]. Positive-x first-order upwind advection and centered diffusion on a uniform nodal grid. | AC68: Method: rho u d(phi)/dx = Gamma [d2(phi)/dx2 + d2(phi)/dy2]. Positive-x first-order upwind advection and centered diffusion on a uniform nodal grid. | AD68: Method: rho u d(phi)/dx = Gamma [d2(phi)/dx2 + d2(phi)/dy2]. Positive-x first-order upwind advection and centered diffusion on a uniform nodal grid. | AE68: Method: rho u d(phi)/dx = Gamma [d2(phi)/dx2 + d2(phi)/dy2]. Positive-x first-order upwind advection and centered diffusion on a uniform nodal grid. | AF68: Method: rho u d(phi)/dx = Gamma [d2(phi)/dx2 + d2(phi)/dy2]. Positive-x first-order upwind advection and centered diffusion on a uniform nodal grid. | AG68: Method: rho u d(phi)/dx = Gamma [d2(phi)/dx2 + d2(phi)/dy2]. Positive-x first-order upwind advection and centered diffusion on a uniform nodal grid. | AH68: Method: rho u d(phi)/dx = Gamma [d2(phi)/dx2 + d2(phi)/dy2]. Positive-x first-order upwind advection and centered diffusion on a uniform nodal grid. | AI68: Method: rho u d(phi)/dx = Gamma [d2(phi)/dx2 + d2(phi)/dy2]. Positive-x first-order upwind advection and centered diffusion on a uniform nodal grid. | AJ68: Method: rho u d(phi)/dx = Gamma [d2(phi)/dx2 + d2(phi)/dy2]. Positive-x first-order upwind advection and centered diffusion on a uniform nodal grid. | AK68: Method: rho u d(phi)/dx = Gamma [d2(phi)/dx2 + d2(phi)/dy2]. Positive-x first-order upwind advection and centered diffusion on a uniform nodal grid. | AL68: Method: rho u d(phi)/dx = Gamma [d2(phi)/dx2 + d2(phi)/dy2]. Positive-x first-order upwind advection and centered diffusion on a uniform nodal grid. | AM68: Method: rho u d(phi)/dx = Gamma [d2(phi)/dx2 + d2(phi)/dy2]. Positive-x first-order upwind advection and centered diffusion on a uniform nodal grid. | AN68: Method: rho u d(phi)/dx = Gamma [d2(phi)/dx2 + d2(phi)/dy2]. Positive-x first-order upwind advection and centered diffusion on a uniform nodal grid. | AO68: Method: rho u d(phi)/dx = Gamma [d2(phi)/dx2 + d2(phi)/dy2]. Positive-x first-order upwind advection and centered diffusion on a uniform nodal grid. | AP68: Method: rho u d(phi)/dx = Gamma [d2(phi)/dx2 + d2(phi)/dy2]. Positive-x first-order upwind advection and centered diffusion on a uniform nodal grid. | AQ68: Method: rho u d(phi)/dx = Gamma [d2(phi)/dx2 + d2(phi)/dy2]. Positive-x first-order upwind advection and centered diffusion on a uniform nodal grid. | AR68: Method: rho u d(phi)/dx = Gamma [d2(phi)/dx2 + d2(phi)/dy2]. Positive-x first-order upwind advection and centered diffusion on a uniform nodal grid. | AS68: Method: rho u d(phi)/dx = Gamma [d2(phi)/dx2 + d2(phi)/dy2]. Positive-x first-order upwind advection and centered diffusion on a uniform nodal grid. | AT68: Method: rho u d(phi)/dx = Gamma [d2(phi)/dx2 + d2(phi)/dy2]. Positive-x first-order upwind advection and centered diffusion on a uniform nodal grid. | AU68: Method: rho u d(phi)/dx = Gamma [d2(phi)/dx2 + d2(phi)/dy2]. Positive-x first-order upwind advection and centered diffusion on a uniform nodal grid. | AV68: Method: rho u d(phi)/dx = Gamma [d2(phi)/dx2 + d2(phi)/dy2]. Positive-x first-order upwind advection and centered diffusion on a uniform nodal grid. | AW68: Method: rho u d(phi)/dx = Gamma [d2(phi)/dx2 + d2(phi)/dy2]. Positive-x first-order upwind advection and centered diffusion on a uniform nodal grid. | AX68: Method: rho u d(phi)/dx = Gamma [d2(phi)/dx2 + d2(phi)/dy2]. Positive-x first-order upwind advection and centered diffusion on a uniform nodal grid. | AY68: Method: rho u d(phi)/dx = Gamma [d2(phi)/dx2 + d2(phi)/dy2]. Positive-x first-order upwind advection and centered diffusion on a uniform nodal grid. | AZ68: Method: rho u d(phi)/dx = Gamma [d2(phi)/dx2 + d2(phi)/dy2]. Positive-x first-order upwind advection and centered diffusion on a uniform nodal grid. | BA68: Method: rho u d(phi)/dx = Gamma [d2(phi)/dx2 + d2(phi)/dy2]. Positive-x first-order upwind advection and centered diffusion on a uniform nodal grid. | BB68: Method: rho u d(phi)/dx = Gamma [d2(phi)/dx2 + d2(phi)/dy2]. Positive-x first-order upwind advection and centered diffusion on a uniform nodal grid. | BC68: Method: rho u d(phi)/dx = Gamma [d2(phi)/dx2 + d2(phi)/dy2]. Positive-x first-order upwind advection and centered diffusion on a uniform nodal grid. | BD68: Method: rho u d(phi)/dx = Gamma [d2(phi)/dx2 + d2(phi)/dy2]. Positive-x first-order upwind advection and centered diffusion on a uniform nodal grid. | BE68: Method: rho u d(phi)/dx = Gamma [d2(phi)/dx2 + d2(phi)/dy2]. Positive-x first-order upwind advection and centered diffusion on a uniform nodal grid. | BF68: Method: rho u d(phi)/dx = Gamma [d2(phi)/dx2 + d2(phi)/dy2]. Positive-x first-order upwind advection and centered diffusion on a uniform nodal grid. | BG68: Method: rho u d(phi)/dx = Gamma [d2(phi)/dx2 + d2(phi)/dy2]. Positive-x first-order upwind advection and centered diffusion on a uniform nodal grid. | BH68: Method: rho u d(phi)/dx = Gamma [d2(phi)/dx2 + d2(phi)/dy2]. Positive-x first-order upwind advection and centered diffusion on a uniform nodal grid. | BI68: Method: rho u d(phi)/dx = Gamma [d2(phi)/dx2 + d2(phi)/dy2]. Positive-x first-order upwind advection and centered diffusion on a uniform nodal grid. | BJ68: Method: rho u d(phi)/dx = Gamma [d2(phi)/dx2 + d2(phi)/dy2]. Positive-x first-order upwind advection and centered diffusion on a uniform nodal grid. | BK68: Method: rho u d(phi)/dx = Gamma [d2(phi)/dx2 + d2(phi)/dy2]. Positive-x first-order upwind advection and centered diffusion on a uniform nodal grid.
B69: Method: rho u d(phi)/dx = Gamma [d2(phi)/dx2 + d2(phi)/dy2]. Positive-x first-order upwind advection and centered diffusion on a uniform nodal grid. | C69: Method: rho u d(phi)/dx = Gamma [d2(phi)/dx2 + d2(phi)/dy2]. Positive-x first-order upwind advection and centered diffusion on a uniform nodal grid. | D69: Method: rho u d(phi)/dx = Gamma [d2(phi)/dx2 + d2(phi)/dy2]. Positive-x first-order upwind advection and centered diffusion on a uniform nodal grid. | E69: Method: rho u d(phi)/dx = Gamma [d2(phi)/dx2 + d2(phi)/dy2]. Positive-x first-order upwind advection and centered diffusion on a uniform nodal grid. | F69: Method: rho u d(phi)/dx = Gamma [d2(phi)/dx2 + d2(phi)/dy2]. Positive-x first-order upwind advection and centered diffusion on a uniform nodal grid. | G69: Method: rho u d(phi)/dx = Gamma [d2(phi)/dx2 + d2(phi)/dy2]. Positive-x first-order upwind advection and centered diffusion on a uniform nodal grid. | H69: Method: rho u d(phi)/dx = Gamma [d2(phi)/dx2 + d2(phi)/dy2]. Positive-x first-order upwind advection and centered diffusion on a uniform nodal grid. | I69: Method: rho u d(phi)/dx = Gamma [d2(phi)/dx2 + d2(phi)/dy2]. Positive-x first-order upwind advection and centered diffusion on a uniform nodal grid. | J69: Method: rho u d(phi)/dx = Gamma [d2(phi)/dx2 + d2(phi)/dy2]. Positive-x first-order upwind advection and centered diffusion on a uniform nodal grid. | K69: Method: rho u d(phi)/dx = Gamma [d2(phi)/dx2 + d2(phi)/dy2]. Positive-x first-order upwind advection and centered diffusion on a uniform nodal grid. | L69: Method: rho u d(phi)/dx = Gamma [d2(phi)/dx2 + d2(phi)/dy2]. Positive-x first-order upwind advection and centered diffusion on a uniform nodal grid. | M69: Method: rho u d(phi)/dx = Gamma [d2(phi)/dx2 + d2(phi)/dy2]. Positive-x first-order upwind advection and centered diffusion on a uniform nodal grid. | N69: Method: rho u d(phi)/dx = Gamma [d2(phi)/dx2 + d2(phi)/dy2]. Positive-x first-order upwind advection and centered diffusion on a uniform nodal grid. | O69: Method: rho u d(phi)/dx = Gamma [d2(phi)/dx2 + d2(phi)/dy2]. Positive-x first-order upwind advection and centered diffusion on a uniform nodal grid. | P69: Method: rho u d(phi)/dx = Gamma [d2(phi)/dx2 + d2(phi)/dy2]. Positive-x first-order upwind advection and centered diffusion on a uniform nodal grid. | Q69: Method: rho u d(phi)/dx = Gamma [d2(phi)/dx2 + d2(phi)/dy2]. Positive-x first-order upwind advection and centered diffusion on a uniform nodal grid. | R69: Method: rho u d(phi)/dx = Gamma [d2(phi)/dx2 + d2(phi)/dy2]. Positive-x first-order upwind advection and centered diffusion on a uniform nodal grid. | S69: Method: rho u d(phi)/dx = Gamma [d2(phi)/dx2 + d2(phi)/dy2]. Positive-x first-order upwind advection and centered diffusion on a uniform nodal grid. | T69: Method: rho u d(phi)/dx = Gamma [d2(phi)/dx2 + d2(phi)/dy2]. Positive-x first-order upwind advection and centered diffusion on a uniform nodal grid. | U69: Method: rho u d(phi)/dx = Gamma [d2(phi)/dx2 + d2(phi)/dy2]. Positive-x first-order upwind advection and centered diffusion on a uniform nodal grid. | V69: Method: rho u d(phi)/dx = Gamma [d2(phi)/dx2 + d2(phi)/dy2]. Positive-x first-order upwind advection and centered diffusion on a uniform nodal grid. | W69: Method: rho u d(phi)/dx = Gamma [d2(phi)/dx2 + d2(phi)/dy2]. Positive-x first-order upwind advection and centered diffusion on a uniform nodal grid. | X69: Method: rho u d(phi)/dx = Gamma [d2(phi)/dx2 + d2(phi)/dy2]. Positive-x first-order upwind advection and centered diffusion on a uniform nodal grid. | Y69: Method: rho u d(phi)/dx = Gamma [d2(phi)/dx2 + d2(phi)/dy2]. Positive-x first-order upwind advection and centered diffusion on a uniform nodal grid. | Z69: Method: rho u d(phi)/dx = Gamma [d2(phi)/dx2 + d2(phi)/dy2]. Positive-x first-order upwind advection and centered diffusion on a uniform nodal grid. | AA69: Method: rho u d(phi)/dx = Gamma [d2(phi)/dx2 + d2(phi)/dy2]. Positive-x first-order upwind advection and centered diffusion on a uniform nodal grid. | AB69: Method: rho u d(phi)/dx = Gamma [d2(phi)/dx2 + d2(phi)/dy2]. Positive-x first-order upwind advection and centered diffusion on a uniform nodal grid. | AC69: Method: rho u d(phi)/dx = Gamma [d2(phi)/dx2 + d2(phi)/dy2]. Positive-x first-order upwind advection and centered diffusion on a uniform nodal grid. | AD69: Method: rho u d(phi)/dx = Gamma [d2(phi)/dx2 + d2(phi)/dy2]. Positive-x first-order upwind advection and centered diffusion on a uniform nodal grid. | AE69: Method: rho u d(phi)/dx = Gamma [d2(phi)/dx2 + d2(phi)/dy2]. Positive-x first-order upwind advection and centered diffusion on a uniform nodal grid. | AF69: Method: rho u d(phi)/dx = Gamma [d2(phi)/dx2 + d2(phi)/dy2]. Positive-x first-order upwind advection and centered diffusion on a uniform nodal grid. | AG69: Method: rho u d(phi)/dx = Gamma [d2(phi)/dx2 + d2(phi)/dy2]. Positive-x first-order upwind advection and centered diffusion on a uniform nodal grid. | AH69: Method: rho u d(phi)/dx = Gamma [d2(phi)/dx2 + d2(phi)/dy2]. Positive-x first-order upwind advection and centered diffusion on a uniform nodal grid. | AI69: Method: rho u d(phi)/dx = Gamma [d2(phi)/dx2 + d2(phi)/dy2]. Positive-x first-order upwind advection and centered diffusion on a uniform nodal grid. | AJ69: Method: rho u d(phi)/dx = Gamma [d2(phi)/dx2 + d2(phi)/dy2]. Positive-x first-order upwind advection and centered diffusion on a uniform nodal grid. | AK69: Method: rho u d(phi)/dx = Gamma [d2(phi)/dx2 + d2(phi)/dy2]. Positive-x first-order upwind advection and centered diffusion on a uniform nodal grid. | AL69: Method: rho u d(phi)/dx = Gamma [d2(phi)/dx2 + d2(phi)/dy2]. Positive-x first-order upwind advection and centered diffusion on a uniform nodal grid. | AM69: Method: rho u d(phi)/dx = Gamma [d2(phi)/dx2 + d2(phi)/dy2]. Positive-x first-order upwind advection and centered diffusion on a uniform nodal grid. | AN69: Method: rho u d(phi)/dx = Gamma [d2(phi)/dx2 + d2(phi)/dy2]. Positive-x first-order upwind advection and centered diffusion on a uniform nodal grid. | AO69: Method: rho u d(phi)/dx = Gamma [d2(phi)/dx2 + d2(phi)/dy2]. Positive-x first-order upwind advection and centered diffusion on a uniform nodal grid. | AP69: Method: rho u d(phi)/dx = Gamma [d2(phi)/dx2 + d2(phi)/dy2]. Positive-x first-order upwind advection and centered diffusion on a uniform nodal grid. | AQ69: Method: rho u d(phi)/dx = Gamma [d2(phi)/dx2 + d2(phi)/dy2]. Positive-x first-order upwind advection and centered diffusion on a uniform nodal grid. | AR69: Method: rho u d(phi)/dx = Gamma [d2(phi)/dx2 + d2(phi)/dy2]. Positive-x first-order upwind advection and centered diffusion on a uniform nodal grid. | AS69: Method: rho u d(phi)/dx = Gamma [d2(phi)/dx2 + d2(phi)/dy2]. Positive-x first-order upwind advection and centered diffusion on a uniform nodal grid. | AT69: Method: rho u d(phi)/dx = Gamma [d2(phi)/dx2 + d2(phi)/dy2]. Positive-x first-order upwind advection and centered diffusion on a uniform nodal grid. | AU69: Method: rho u d(phi)/dx = Gamma [d2(phi)/dx2 + d2(phi)/dy2]. Positive-x first-order upwind advection and centered diffusion on a uniform nodal grid. | AV69: Method: rho u d(phi)/dx = Gamma [d2(phi)/dx2 + d2(phi)/dy2]. Positive-x first-order upwind advection and centered diffusion on a uniform nodal grid. | AW69: Method: rho u d(phi)/dx = Gamma [d2(phi)/dx2 + d2(phi)/dy2]. Positive-x first-order upwind advection and centered diffusion on a uniform nodal grid. | AX69: Method: rho u d(phi)/dx = Gamma [d2(phi)/dx2 + d2(phi)/dy2]. Positive-x first-order upwind advection and centered diffusion on a uniform nodal grid. | AY69: Method: rho u d(phi)/dx = Gamma [d2(phi)/dx2 + d2(phi)/dy2]. Positive-x first-order upwind advection and centered diffusion on a uniform nodal grid. | AZ69: Method: rho u d(phi)/dx = Gamma [d2(phi)/dx2 + d2(phi)/dy2]. Positive-x first-order upwind advection and centered diffusion on a uniform nodal grid. | BA69: Method: rho u d(phi)/dx = Gamma [d2(phi)/dx2 + d2(phi)/dy2]. Positive-x first-order upwind advection and centered diffusion on a uniform nodal grid. | BB69: Method: rho u d(phi)/dx = Gamma [d2(phi)/dx2 + d2(phi)/dy2]. Positive-x first-order upwind advection and centered diffusion on a uniform nodal grid. | BC69: Method: rho u d(phi)/dx = Gamma [d2(phi)/dx2 + d2(phi)/dy2]. Positive-x first-order upwind advection and centered diffusion on a uniform nodal grid. | BD69: Method: rho u d(phi)/dx = Gamma [d2(phi)/dx2 + d2(phi)/dy2]. Positive-x first-order upwind advection and centered diffusion on a uniform nodal grid. | BE69: Method: rho u d(phi)/dx = Gamma [d2(phi)/dx2 + d2(phi)/dy2]. Positive-x first-order upwind advection and centered diffusion on a uniform nodal grid. | BF69: Method: rho u d(phi)/dx = Gamma [d2(phi)/dx2 + d2(phi)/dy2]. Positive-x first-order upwind advection and centered diffusion on a uniform nodal grid. | BG69: Method: rho u d(phi)/dx = Gamma [d2(phi)/dx2 + d2(phi)/dy2]. Positive-x first-order upwind advection and centered diffusion on a uniform nodal grid. | BH69: Method: rho u d(phi)/dx = Gamma [d2(phi)/dx2 + d2(phi)/dy2]. Positive-x first-order upwind advection and centered diffusion on a uniform nodal grid. | BI69: Method: rho u d(phi)/dx = Gamma [d2(phi)/dx2 + d2(phi)/dy2]. Positive-x first-order upwind advection and centered diffusion on a uniform nodal grid. | BJ69: Method: rho u d(phi)/dx = Gamma [d2(phi)/dx2 + d2(phi)/dy2]. Positive-x first-order upwind advection and centered diffusion on a uniform nodal grid. | BK69: Method: rho u d(phi)/dx = Gamma [d2(phi)/dx2 + d2(phi)/dy2]. Positive-x first-order upwind advection and centered diffusion on a uniform nodal grid.
B70: Source: user-supplied CFDbyHand screenshots. Visible rho, u, Gamma and spacing are reproduced. Domain size and square geometry are reconstruction assumptions. | C70: Source: user-supplied CFDbyHand screenshots. Visible rho, u, Gamma and spacing are reproduced. Domain size and square geometry are reconstruction assumptions. | D70: Source: user-supplied CFDbyHand screenshots. Visible rho, u, Gamma and spacing are reproduced. Domain size and square geometry are reconstruction assumptions. | E70: Source: user-supplied CFDbyHand screenshots. Visible rho, u, Gamma and spacing are reproduced. Domain size and square geometry are reconstruction assumptions. | F70: Source: user-supplied CFDbyHand screenshots. Visible rho, u, Gamma and spacing are reproduced. Domain size and square geometry are reconstruction assumptions. | G70: Source: user-supplied CFDbyHand screenshots. Visible rho, u, Gamma and spacing are reproduced. Domain size and square geometry are reconstruction assumptions. | H70: Source: user-supplied CFDbyHand screenshots. Visible rho, u, Gamma and spacing are reproduced. Domain size and square geometry are reconstruction assumptions. | I70: Source: user-supplied CFDbyHand screenshots. Visible rho, u, Gamma and spacing are reproduced. Domain size and square geometry are reconstruction assumptions. | J70: Source: user-supplied CFDbyHand screenshots. Visible rho, u, Gamma and spacing are reproduced. Domain size and square geometry are reconstruction assumptions. | K70: Source: user-supplied CFDbyHand screenshots. Visible rho, u, Gamma and spacing are reproduced. Domain size and square geometry are reconstruction assumptions. | L70: Source: user-supplied CFDbyHand screenshots. Visible rho, u, Gamma and spacing are reproduced. Domain size and square geometry are reconstruction assumptions. | M70: Source: user-supplied CFDbyHand screenshots. Visible rho, u, Gamma and spacing are reproduced. Domain size and square geometry are reconstruction assumptions. | N70: Source: user-supplied CFDbyHand screenshots. Visible rho, u, Gamma and spacing are reproduced. Domain size and square geometry are reconstruction assumptions. | O70: Source: user-supplied CFDbyHand screenshots. Visible rho, u, Gamma and spacing are reproduced. Domain size and square geometry are reconstruction assumptions. | P70: Source: user-supplied CFDbyHand screenshots. Visible rho, u, Gamma and spacing are reproduced. Domain size and square geometry are reconstruction assumptions. | Q70: Source: user-supplied CFDbyHand screenshots. Visible rho, u, Gamma and spacing are reproduced. Domain size and square geometry are reconstruction assumptions. | R70: Source: user-supplied CFDbyHand screenshots. Visible rho, u, Gamma and spacing are reproduced. Domain size and square geometry are reconstruction assumptions. | S70: Source: user-supplied CFDbyHand screenshots. Visible rho, u, Gamma and spacing are reproduced. Domain size and square geometry are reconstruction assumptions. | T70: Source: user-supplied CFDbyHand screenshots. Visible rho, u, Gamma and spacing are reproduced. Domain size and square geometry are reconstruction assumptions. | U70: Source: user-supplied CFDbyHand screenshots. Visible rho, u, Gamma and spacing are reproduced. Domain size and square geometry are reconstruction assumptions. | V70: Source: user-supplied CFDbyHand screenshots. Visible rho, u, Gamma and spacing are reproduced. Domain size and square geometry are reconstruction assumptions. | W70: Source: user-supplied CFDbyHand screenshots. Visible rho, u, Gamma and spacing are reproduced. Domain size and square geometry are reconstruction assumptions. | X70: Source: user-supplied CFDbyHand screenshots. Visible rho, u, Gamma and spacing are reproduced. Domain size and square geometry are reconstruction assumptions. | Y70: Source: user-supplied CFDbyHand screenshots. Visible rho, u, Gamma and spacing are reproduced. Domain size and square geometry are reconstruction assumptions. | Z70: Source: user-supplied CFDbyHand screenshots. Visible rho, u, Gamma and spacing are reproduced. Domain size and square geometry are reconstruction assumptions. | AA70: Source: user-supplied CFDbyHand screenshots. Visible rho, u, Gamma and spacing are reproduced. Domain size and square geometry are reconstruction assumptions. | AB70: Source: user-supplied CFDbyHand screenshots. Visible rho, u, Gamma and spacing are reproduced. Domain size and square geometry are reconstruction assumptions. | AC70: Source: user-supplied CFDbyHand screenshots. Visible rho, u, Gamma and spacing are reproduced. Domain size and square geometry are reconstruction assumptions. | AD70: Source: user-supplied CFDbyHand screenshots. Visible rho, u, Gamma and spacing are reproduced. Domain size and square geometry are reconstruction assumptions. | AE70: Source: user-supplied CFDbyHand screenshots. Visible rho, u, Gamma and spacing are reproduced. Domain size and square geometry are reconstruction assumptions. | AF70: Source: user-supplied CFDbyHand screenshots. Visible rho, u, Gamma and spacing are reproduced. Domain size and square geometry are reconstruction assumptions. | AG70: Source: user-supplied CFDbyHand screenshots. Visible rho, u, Gamma and spacing are reproduced. Domain size and square geometry are reconstruction assumptions. | AH70: Source: user-supplied CFDbyHand screenshots. Visible rho, u, Gamma and spacing are reproduced. Domain size and square geometry are reconstruction assumptions. | AI70: Source: user-supplied CFDbyHand screenshots. Visible rho, u, Gamma and spacing are reproduced. Domain size and square geometry are reconstruction assumptions. | AJ70: Source: user-supplied CFDbyHand screenshots. Visible rho, u, Gamma and spacing are reproduced. Domain size and square geometry are reconstruction assumptions. | AK70: Source: user-supplied CFDbyHand screenshots. Visible rho, u, Gamma and spacing are reproduced. Domain size and square geometry are reconstruction assumptions. | AL70: Source: user-supplied CFDbyHand screenshots. Visible rho, u, Gamma and spacing are reproduced. Domain size and square geometry are reconstruction assumptions. | AM70: Source: user-supplied CFDbyHand screenshots. Visible rho, u, Gamma and spacing are reproduced. Domain size and square geometry are reconstruction assumptions. | AN70: Source: user-supplied CFDbyHand screenshots. Visible rho, u, Gamma and spacing are reproduced. Domain size and square geometry are reconstruction assumptions. | AO70: Source: user-supplied CFDbyHand screenshots. Visible rho, u, Gamma and spacing are reproduced. Domain size and square geometry are reconstruction assumptions. | AP70: Source: user-supplied CFDbyHand screenshots. Visible rho, u, Gamma and spacing are reproduced. Domain size and square geometry are reconstruction assumptions. | AQ70: Source: user-supplied CFDbyHand screenshots. Visible rho, u, Gamma and spacing are reproduced. Domain size and square geometry are reconstruction assumptions. | AR70: Source: user-supplied CFDbyHand screenshots. Visible rho, u, Gamma and spacing are reproduced. Domain size and square geometry are reconstruction assumptions. | AS70: Source: user-supplied CFDbyHand screenshots. Visible rho, u, Gamma and spacing are reproduced. Domain size and square geometry are reconstruction assumptions. | AT70: Source: user-supplied CFDbyHand screenshots. Visible rho, u, Gamma and spacing are reproduced. Domain size and square geometry are reconstruction assumptions. | AU70: Source: user-supplied CFDbyHand screenshots. Visible rho, u, Gamma and spacing are reproduced. Domain size and square geometry are reconstruction assumptions. | AV70: Source: user-supplied CFDbyHand screenshots. Visible rho, u, Gamma and spacing are reproduced. Domain size and square geometry are reconstruction assumptions. | AW70: Source: user-supplied CFDbyHand screenshots. Visible rho, u, Gamma and spacing are reproduced. Domain size and square geometry are reconstruction assumptions. | AX70: Source: user-supplied CFDbyHand screenshots. Visible rho, u, Gamma and spacing are reproduced. Domain size and square geometry are reconstruction assumptions. | AY70: Source: user-supplied CFDbyHand screenshots. Visible rho, u, Gamma and spacing are reproduced. Domain size and square geometry are reconstruction assumptions. | AZ70: Source: user-supplied CFDbyHand screenshots. Visible rho, u, Gamma and spacing are reproduced. Domain size and square geometry are reconstruction assumptions. | BA70: Source: user-supplied CFDbyHand screenshots. Visible rho, u, Gamma and spacing are reproduced. Domain size and square geometry are reconstruction assumptions. | BB70: Source: user-supplied CFDbyHand screenshots. Visible rho, u, Gamma and spacing are reproduced. Domain size and square geometry are reconstruction assumptions. | BC70: Source: user-supplied CFDbyHand screenshots. Visible rho, u, Gamma and spacing are reproduced. Domain size and square geometry are reconstruction assumptions. | BD70: Source: user-supplied CFDbyHand screenshots. Visible rho, u, Gamma and spacing are reproduced. Domain size and square geometry are reconstruction assumptions. | BE70: Source: user-supplied CFDbyHand screenshots. Visible rho, u, Gamma and spacing are reproduced. Domain size and square geometry are reconstruction assumptions. | BF70: Source: user-supplied CFDbyHand screenshots. Visible rho, u, Gamma and spacing are reproduced. Domain size and square geometry are reconstruction assumptions. | BG70: Source: user-supplied CFDbyHand screenshots. Visible rho, u, Gamma and spacing are reproduced. Domain size and square geometry are reconstruction assumptions. | BH70: Source: user-supplied CFDbyHand screenshots. Visible rho, u, Gamma and spacing are reproduced. Domain size and square geometry are reconstruction assumptions. | BI70: Source: user-supplied CFDbyHand screenshots. Visible rho, u, Gamma and spacing are reproduced. Domain size and square geometry are reconstruction assumptions. | BJ70: Source: user-supplied CFDbyHand screenshots. Visible rho, u, Gamma and spacing are reproduced. Domain size and square geometry are reconstruction assumptions. | BK70: Source: user-supplied CFDbyHand screenshots. Visible rho, u, Gamma and spacing are reproduced. Domain size and square geometry are reconstruction assumptions.
