Workbook

Sheet Model
B2: Square-body scalar transport | C2: Square-body scalar transport | D2: Square-body scalar transport | E2: Square-body scalar transport | F2: Square-body scalar transport | G2: Square-body scalar transport | H2: Square-body scalar transport | I2: Square-body scalar transport | J2: Square-body scalar transport | K2: Square-body scalar transport | L2: Square-body scalar transport | M2: Square-body scalar transport | N2: Square-body scalar transport | O2: Square-body scalar transport | P2: Square-body scalar transport | Q2: Square-body scalar transport | R2: Square-body scalar transport | S2: Square-body scalar transport | T2: Square-body scalar transport | U2: Square-body scalar transport | V2: Square-body scalar transport | W2: Square-body scalar transport | X2: Square-body scalar transport | Y2: Square-body scalar transport | Z2: Square-body scalar transport | AA2: Square-body scalar transport | AB2: Square-body scalar transport | AC2: Square-body scalar transport | AD2: Square-body scalar transport | AE2: Square-body scalar transport | AF2: Square-body scalar transport | AG2: Square-body scalar transport | AH2: Square-body scalar transport | AI2: Square-body scalar transport | AJ2: Square-body scalar transport | AK2: Square-body scalar transport | AL2: Square-body scalar transport | AM2: Square-body scalar transport | AN2: Square-body scalar transport | AO2: Square-body scalar transport | AP2: Square-body scalar transport | AQ2: Square-body scalar transport | AR2: Square-body scalar transport | AS2: Square-body scalar transport | AT2: Square-body scalar transport | AU2: Square-body scalar transport | AV2: Square-body scalar transport | AW2: Square-body scalar transport | AX2: Square-body scalar transport | AY2: Square-body scalar transport | AZ2: Square-body scalar transport | BA2: Square-body scalar transport | BB2: Square-body scalar transport | BC2: Square-body scalar transport | BD2: Square-body scalar transport | BE2: Square-body scalar transport | BF2: Square-body scalar transport | BG2: Square-body scalar transport | BH2: Square-body scalar transport | BI2: Square-body scalar transport | BJ2: Square-body scalar transport | BK2: Square-body scalar transport
B3: Square-body scalar transport | C3: Square-body scalar transport | D3: Square-body scalar transport | E3: Square-body scalar transport | F3: Square-body scalar transport | G3: Square-body scalar transport | H3: Square-body scalar transport | I3: Square-body scalar transport | J3: Square-body scalar transport | K3: Square-body scalar transport | L3: Square-body scalar transport | M3: Square-body scalar transport | N3: Square-body scalar transport | O3: Square-body scalar transport | P3: Square-body scalar transport | Q3: Square-body scalar transport | R3: Square-body scalar transport | S3: Square-body scalar transport | T3: Square-body scalar transport | U3: Square-body scalar transport | V3: Square-body scalar transport | W3: Square-body scalar transport | X3: Square-body scalar transport | Y3: Square-body scalar transport | Z3: Square-body scalar transport | AA3: Square-body scalar transport | AB3: Square-body scalar transport | AC3: Square-body scalar transport | AD3: Square-body scalar transport | AE3: Square-body scalar transport | AF3: Square-body scalar transport | AG3: Square-body scalar transport | AH3: Square-body scalar transport | AI3: Square-body scalar transport | AJ3: Square-body scalar transport | AK3: Square-body scalar transport | AL3: Square-body scalar transport | AM3: Square-body scalar transport | AN3: Square-body scalar transport | AO3: Square-body scalar transport | AP3: Square-body scalar transport | AQ3: Square-body scalar transport | AR3: Square-body scalar transport | AS3: Square-body scalar transport | AT3: Square-body scalar transport | AU3: Square-body scalar transport | AV3: Square-body scalar transport | AW3: Square-body scalar transport | AX3: Square-body scalar transport | AY3: Square-body scalar transport | AZ3: Square-body scalar transport | BA3: Square-body scalar transport | BB3: Square-body scalar transport | BC3: Square-body scalar transport | BD3: Square-body scalar transport | BE3: Square-body scalar transport | BF3: Square-body scalar transport | BG3: Square-body scalar transport | BH3: Square-body scalar transport | BI3: Square-body scalar transport | BJ3: Square-body scalar transport | BK3: Square-body scalar transport
B4: Excel replica of the supplied CFDbyHand example. Prescribed horizontal velocity; first-order upwind transport. | C4: Excel replica of the supplied CFDbyHand example. Prescribed horizontal velocity; first-order upwind transport. | D4: Excel replica of the supplied CFDbyHand example. Prescribed horizontal velocity; first-order upwind transport. | E4: Excel replica of the supplied CFDbyHand example. Prescribed horizontal velocity; first-order upwind transport. | F4: Excel replica of the supplied CFDbyHand example. Prescribed horizontal velocity; first-order upwind transport. | G4: Excel replica of the supplied CFDbyHand example. Prescribed horizontal velocity; first-order upwind transport. | H4: Excel replica of the supplied CFDbyHand example. Prescribed horizontal velocity; first-order upwind transport. | I4: Excel replica of the supplied CFDbyHand example. Prescribed horizontal velocity; first-order upwind transport. | J4: Excel replica of the supplied CFDbyHand example. Prescribed horizontal velocity; first-order upwind transport. | K4: Excel replica of the supplied CFDbyHand example. Prescribed horizontal velocity; first-order upwind transport. | L4: Excel replica of the supplied CFDbyHand example. Prescribed horizontal velocity; first-order upwind transport. | M4: Excel replica of the supplied CFDbyHand example. Prescribed horizontal velocity; first-order upwind transport. | N4: Excel replica of the supplied CFDbyHand example. Prescribed horizontal velocity; first-order upwind transport. | O4: Excel replica of the supplied CFDbyHand example. Prescribed horizontal velocity; first-order upwind transport. | P4: Excel replica of the supplied CFDbyHand example. Prescribed horizontal velocity; first-order upwind transport. | Q4: Excel replica of the supplied CFDbyHand example. Prescribed horizontal velocity; first-order upwind transport. | R4: Excel replica of the supplied CFDbyHand example. Prescribed horizontal velocity; first-order upwind transport. | S4: Excel replica of the supplied CFDbyHand example. Prescribed horizontal velocity; first-order upwind transport. | T4: Excel replica of the supplied CFDbyHand example. Prescribed horizontal velocity; first-order upwind transport. | U4: Excel replica of the supplied CFDbyHand example. Prescribed horizontal velocity; first-order upwind transport. | V4: Excel replica of the supplied CFDbyHand example. Prescribed horizontal velocity; first-order upwind transport. | W4: Excel replica of the supplied CFDbyHand example. Prescribed horizontal velocity; first-order upwind transport. | X4: Excel replica of the supplied CFDbyHand example. Prescribed horizontal velocity; first-order upwind transport. | Y4: Excel replica of the supplied CFDbyHand example. Prescribed horizontal velocity; first-order upwind transport. | Z4: Excel replica of the supplied CFDbyHand example. Prescribed horizontal velocity; first-order upwind transport. | AA4: Excel replica of the supplied CFDbyHand example. Prescribed horizontal velocity; first-order upwind transport. | AB4: Excel replica of the supplied CFDbyHand example. Prescribed horizontal velocity; first-order upwind transport. | AC4: Excel replica of the supplied CFDbyHand example. Prescribed horizontal velocity; first-order upwind transport. | AD4: Excel replica of the supplied CFDbyHand example. Prescribed horizontal velocity; first-order upwind transport. | AE4: Excel replica of the supplied CFDbyHand example. Prescribed horizontal velocity; first-order upwind transport. | AF4: Excel replica of the supplied CFDbyHand example. Prescribed horizontal velocity; first-order upwind transport. | AG4: Excel replica of the supplied CFDbyHand example. Prescribed horizontal velocity; first-order upwind transport. | AH4: Excel replica of the supplied CFDbyHand example. Prescribed horizontal velocity; first-order upwind transport. | AI4: Excel replica of the supplied CFDbyHand example. Prescribed horizontal velocity; first-order upwind transport. | AJ4: Excel replica of the supplied CFDbyHand example. Prescribed horizontal velocity; first-order upwind transport. | AK4: Excel replica of the supplied CFDbyHand example. Prescribed horizontal velocity; first-order upwind transport. | AL4: Excel replica of the supplied CFDbyHand example. Prescribed horizontal velocity; first-order upwind transport. | AM4: Excel replica of the supplied CFDbyHand example. Prescribed horizontal velocity; first-order upwind transport. | AN4: Excel replica of the supplied CFDbyHand example. Prescribed horizontal velocity; first-order upwind transport. | AO4: Excel replica of the supplied CFDbyHand example. Prescribed horizontal velocity; first-order upwind transport. | AP4: Excel replica of the supplied CFDbyHand example. Prescribed horizontal velocity; first-order upwind transport. | AQ4: Excel replica of the supplied CFDbyHand example. Prescribed horizontal velocity; first-order upwind transport. | AR4: Excel replica of the supplied CFDbyHand example. Prescribed horizontal velocity; first-order upwind transport. | AS4: Excel replica of the supplied CFDbyHand example. Prescribed horizontal velocity; first-order upwind transport. | AT4: Excel replica of the supplied CFDbyHand example. Prescribed horizontal velocity; first-order upwind transport. | AU4: Excel replica of the supplied CFDbyHand example. Prescribed horizontal velocity; first-order upwind transport. | AV4: Excel replica of the supplied CFDbyHand example. Prescribed horizontal velocity; first-order upwind transport. | AW4: Excel replica of the supplied CFDbyHand example. Prescribed horizontal velocity; first-order upwind transport. | AX4: Excel replica of the supplied CFDbyHand example. Prescribed horizontal velocity; first-order upwind transport. | AY4: Excel replica of the supplied CFDbyHand example. Prescribed horizontal velocity; first-order upwind transport. | AZ4: Excel replica of the supplied CFDbyHand example. Prescribed horizontal velocity; first-order upwind transport. | BA4: Excel replica of the supplied CFDbyHand example. Prescribed horizontal velocity; first-order upwind transport. | BB4: Excel replica of the supplied CFDbyHand example. Prescribed horizontal velocity; first-order upwind transport. | BC4: Excel replica of the supplied CFDbyHand example. Prescribed horizontal velocity; first-order upwind transport. | BD4: Excel replica of the supplied CFDbyHand example. Prescribed horizontal velocity; first-order upwind transport. | BE4: Excel replica of the supplied CFDbyHand example. Prescribed horizontal velocity; first-order upwind transport. | BF4: Excel replica of the supplied CFDbyHand example. Prescribed horizontal velocity; first-order upwind transport. | BG4: Excel replica of the supplied CFDbyHand example. Prescribed horizontal velocity; first-order upwind transport. | BH4: Excel replica of the supplied CFDbyHand example. Prescribed horizontal velocity; first-order upwind transport. | BI4: Excel replica of the supplied CFDbyHand example. Prescribed horizontal velocity; first-order upwind transport. | BJ4: Excel replica of the supplied CFDbyHand example. Prescribed horizontal velocity; first-order upwind transport. | BK4: Excel replica of the supplied CFDbyHand example. Prescribed horizontal velocity; first-order upwind transport.
B5: Editable inputs | C5: Editable inputs | D5: Editable inputs | E5: Editable inputs | F5: Editable inputs | G5: Editable inputs | H5: Editable inputs | I5: Editable inputs | J5: Editable inputs | K5: Editable inputs | L5: Editable inputs | M5: Editable inputs | N5: Editable inputs | O5: Editable inputs | P5: Editable inputs | Q5: Editable inputs | R5: Editable inputs | S5: Editable inputs | T5: Editable inputs | U5: Editable inputs | V5: Editable inputs | X5: Grid and coefficients | Y5: Grid and coefficients | Z5: Grid and coefficients | AA5: Grid and coefficients | AB5: Grid and coefficients | AC5: Grid and coefficients | AD5: Grid and coefficients | AE5: Grid and coefficients | AF5: Grid and coefficients | AG5: Grid and coefficients | AH5: Grid and coefficients | AI5: Grid and coefficients | AJ5: Grid and coefficients | AK5: Grid and coefficients | AL5: Grid and coefficients | AM5: Grid and coefficients | AN5: Grid and coefficients | AP5: Using the workbook | AQ5: Using the workbook | AR5: Using the workbook | AS5: Using the workbook | AT5: Using the workbook | AU5: Using the workbook | AV5: Using the workbook | AW5: Using the workbook | AX5: Using the workbook | AY5: Using the workbook | AZ5: Using the workbook | BA5: Using the workbook | BB5: Using the workbook | BC5: Using the workbook | BD5: Using the workbook | BE5: Using the workbook | BF5: Using the workbook | BG5: Using the workbook | BH5: Using the workbook | BI5: Using the workbook | BJ5: Using the workbook | BK5: Using the workbook
B6: Domain length | C6: Domain length | D6: Domain length | E6: Domain length | F6: Domain length | G6: Domain length | H6: Domain length | I6: Domain length | J6: Domain length | K6: Domain length | L6: Domain length | M6: 3 | N6: 3 | O6: 3 | P6: 3 | Q6: m | R6: m | S6: m | T6: m | U6: m | V6: m | X6: x nodes | Y6: x nodes | Z6: x nodes | AA6: x nodes | AB6: x nodes | AC6: x nodes | AD6: x nodes | AE6: x nodes | AF6: x nodes | AG6: x nodes | AH6: x nodes | AJ6: 61 | AP6: Change amber inputs, then press F9. Excel iterative calculation is enabled for this workbook: 10,000 iterations, maximum change 1E-10. | AQ6: Change amber inputs, then press F9. Excel iterative calculation is enabled for this workbook: 10,000 iterations, maximum change 1E-10. | AR6: Change amber inputs, then press F9. Excel iterative calculation is enabled for this workbook: 10,000 iterations, maximum change 1E-10. | AS6: Change amber inputs, then press F9. Excel iterative calculation is enabled for this workbook: 10,000 iterations, maximum change 1E-10. | AT6: Change amber inputs, then press F9. Excel iterative calculation is enabled for this workbook: 10,000 iterations, maximum change 1E-10. | AU6: Change amber inputs, then press F9. Excel iterative calculation is enabled for this workbook: 10,000 iterations, maximum change 1E-10. | AV6: Change amber inputs, then press F9. Excel iterative calculation is enabled for this workbook: 10,000 iterations, maximum change 1E-10. | AW6: Change amber inputs, then press F9. Excel iterative calculation is enabled for this workbook: 10,000 iterations, maximum change 1E-10. | AX6: Change amber inputs, then press F9. Excel iterative calculation is enabled for this workbook: 10,000 iterations, maximum change 1E-10. | AY6: Change amber inputs, then press F9. Excel iterative calculation is enabled for this workbook: 10,000 iterations, maximum change 1E-10. | AZ6: Change amber inputs, then press F9. Excel iterative calculation is enabled for this workbook: 10,000 iterations, maximum change 1E-10. | BA6: Change amber inputs, then press F9. Excel iterative calculation is enabled for this workbook: 10,000 iterations, maximum change 1E-10. | BB6: Change amber inputs, then press F9. Excel iterative calculation is enabled for this workbook: 10,000 iterations, maximum change 1E-10. | BC6: Change amber inputs, then press F9. Excel iterative calculation is enabled for this workbook: 10,000 iterations, maximum change 1E-10. | BD6: Change amber inputs, then press F9. Excel iterative calculation is enabled for this workbook: 10,000 iterations, maximum change 1E-10. | BE6: Change amber inputs, then press F9. Excel iterative calculation is enabled for this workbook: 10,000 iterations, maximum change 1E-10. | BF6: Change amber inputs, then press F9. Excel iterative calculation is enabled for this workbook: 10,000 iterations, maximum change 1E-10. | BG6: Change amber inputs, then press F9. Excel iterative calculation is enabled for this workbook: 10,000 iterations, maximum change 1E-10. | BH6: Change amber inputs, then press F9. Excel iterative calculation is enabled for this workbook: 10,000 iterations, maximum change 1E-10. | BI6: Change amber inputs, then press F9. Excel iterative calculation is enabled for this workbook: 10,000 iterations, maximum change 1E-10. | BJ6: Change amber inputs, then press F9. Excel iterative calculation is enabled for this workbook: 10,000 iterations, maximum change 1E-10. | BK6: Change amber inputs, then press F9. Excel iterative calculation is enabled for this workbook: 10,000 iterations, maximum change 1E-10.
B7: Domain height | C7: Domain height | D7: Domain height | E7: Domain height | F7: Domain height | G7: Domain height | H7: Domain height | I7: Domain height | J7: Domain height | K7: Domain height | L7: Domain height | M7: 2 | N7: 2 | O7: 2 | P7: 2 | Q7: m | R7: m | S7: m | T7: m | U7: m | V7: m | X7: y nodes | Y7: y nodes | Z7: y nodes | AA7: y nodes | AB7: y nodes | AC7: y nodes | AD7: y nodes | AE7: y nodes | AF7: y nodes | AG7: y nodes | AH7: y nodes | AJ7: 41 | AP7: Change amber inputs, then press F9. Excel iterative calculation is enabled for this workbook: 10,000 iterations, maximum change 1E-10. | AQ7: Change amber inputs, then press F9. Excel iterative calculation is enabled for this workbook: 10,000 iterations, maximum change 1E-10. | AR7: Change amber inputs, then press F9. Excel iterative calculation is enabled for this workbook: 10,000 iterations, maximum change 1E-10. | AS7: Change amber inputs, then press F9. Excel iterative calculation is enabled for this workbook: 10,000 iterations, maximum change 1E-10. | AT7: Change amber inputs, then press F9. Excel iterative calculation is enabled for this workbook: 10,000 iterations, maximum change 1E-10. | AU7: Change amber inputs, then press F9. Excel iterative calculation is enabled for this workbook: 10,000 iterations, maximum change 1E-10. | AV7: Change amber inputs, then press F9. Excel iterative calculation is enabled for this workbook: 10,000 iterations, maximum change 1E-10. | AW7: Change amber inputs, then press F9. Excel iterative calculation is enabled for this workbook: 10,000 iterations, maximum change 1E-10. | AX7: Change amber inputs, then press F9. Excel iterative calculation is enabled for this workbook: 10,000 iterations, maximum change 1E-10. | AY7: Change amber inputs, then press F9. Excel iterative calculation is enabled for this workbook: 10,000 iterations, maximum change 1E-10. | AZ7: Change amber inputs, then press F9. Excel iterative calculation is enabled for this workbook: 10,000 iterations, maximum change 1E-10. | BA7: Change amber inputs, then press F9. Excel iterative calculation is enabled for this workbook: 10,000 iterations, maximum change 1E-10. | BB7: Change amber inputs, then press F9. Excel iterative calculation is enabled for this workbook: 10,000 iterations, maximum change 1E-10. | BC7: Change amber inputs, then press F9. Excel iterative calculation is enabled for this workbook: 10,000 iterations, maximum change 1E-10. | BD7: Change amber inputs, then press F9. Excel iterative calculation is enabled for this workbook: 10,000 iterations, maximum change 1E-10. | BE7: Change amber inputs, then press F9. Excel iterative calculation is enabled for this workbook: 10,000 iterations, maximum change 1E-10. | BF7: Change amber inputs, then press F9. Excel iterative calculation is enabled for this workbook: 10,000 iterations, maximum change 1E-10. | BG7: Change amber inputs, then press F9. Excel iterative calculation is enabled for this workbook: 10,000 iterations, maximum change 1E-10. | BH7: Change amber inputs, then press F9. Excel iterative calculation is enabled for this workbook: 10,000 iterations, maximum change 1E-10. | BI7: Change amber inputs, then press F9. Excel iterative calculation is enabled for this workbook: 10,000 iterations, maximum change 1E-10. | BJ7: Change amber inputs, then press F9. Excel iterative calculation is enabled for this workbook: 10,000 iterations, maximum change 1E-10. | BK7: Change amber inputs, then press F9. Excel iterative calculation is enabled for this workbook: 10,000 iterations, maximum change 1E-10.
B8: Horizontal velocity | C8: Horizontal velocity | D8: Horizontal velocity | E8: Horizontal velocity | F8: Horizontal velocity | G8: Horizontal velocity | H8: Horizontal velocity | I8: Horizontal velocity | J8: Horizontal velocity | K8: Horizontal velocity | L8: Horizontal velocity | M8: 1 | N8: 1 | O8: 1 | P8: 1 | Q8: m/s | R8: m/s | S8: m/s | T8: m/s | U8: m/s | V8: m/s | X8: dx (m) | Y8: dx (m) | Z8: dx (m) | AA8: dx (m) | AB8: dx (m) | AC8: dx (m) | AD8: dx (m) | AE8: dx (m) | AF8: dx (m) | AG8: dx (m) | AH8: dx (m) | AJ8: =M6/(AJ6-1) -> 0.05 | AP8: Change amber inputs, then press F9. Excel iterative calculation is enabled for this workbook: 10,000 iterations, maximum change 1E-10. | AQ8: Change amber inputs, then press F9. Excel iterative calculation is enabled for this workbook: 10,000 iterations, maximum change 1E-10. | AR8: Change amber inputs, then press F9. Excel iterative calculation is enabled for this workbook: 10,000 iterations, maximum change 1E-10. | AS8: Change amber inputs, then press F9. Excel iterative calculation is enabled for this workbook: 10,000 iterations, maximum change 1E-10. | AT8: Change amber inputs, then press F9. Excel iterative calculation is enabled for this workbook: 10,000 iterations, maximum change 1E-10. | AU8: Change amber inputs, then press F9. Excel iterative calculation is enabled for this workbook: 10,000 iterations, maximum change 1E-10. | AV8: Change amber inputs, then press F9. Excel iterative calculation is enabled for this workbook: 10,000 iterations, maximum change 1E-10. | AW8: Change amber inputs, then press F9. Excel iterative calculation is enabled for this workbook: 10,000 iterations, maximum change 1E-10. | AX8: Change amber inputs, then press F9. Excel iterative calculation is enabled for this workbook: 10,000 iterations, maximum change 1E-10. | AY8: Change amber inputs, then press F9. Excel iterative calculation is enabled for this workbook: 10,000 iterations, maximum change 1E-10. | AZ8: Change amber inputs, then press F9. Excel iterative calculation is enabled for this workbook: 10,000 iterations, maximum change 1E-10. | BA8: Change amber inputs, then press F9. Excel iterative calculation is enabled for this workbook: 10,000 iterations, maximum change 1E-10. | BB8: Change amber inputs, then press F9. Excel iterative calculation is enabled for this workbook: 10,000 iterations, maximum change 1E-10. | BC8: Change amber inputs, then press F9. Excel iterative calculation is enabled for this workbook: 10,000 iterations, maximum change 1E-10. | BD8: Change amber inputs, then press F9. Excel iterative calculation is enabled for this workbook: 10,000 iterations, maximum change 1E-10. | BE8: Change amber inputs, then press F9. Excel iterative calculation is enabled for this workbook: 10,000 iterations, maximum change 1E-10. | BF8: Change amber inputs, then press F9. Excel iterative calculation is enabled for this workbook: 10,000 iterations, maximum change 1E-10. | BG8: Change amber inputs, then press F9. Excel iterative calculation is enabled for this workbook: 10,000 iterations, maximum change 1E-10. | BH8: Change amber inputs, then press F9. Excel iterative calculation is enabled for this workbook: 10,000 iterations, maximum change 1E-10. | BI8: Change amber inputs, then press F9. Excel iterative calculation is enabled for this workbook: 10,000 iterations, maximum change 1E-10. | BJ8: Change amber inputs, then press F9. Excel iterative calculation is enabled for this workbook: 10,000 iterations, maximum change 1E-10. | BK8: Change amber inputs, then press F9. Excel iterative calculation is enabled for this workbook: 10,000 iterations, maximum change 1E-10.
B9: Density | C9: Density | D9: Density | E9: Density | F9: Density | G9: Density | H9: Density | I9: Density | J9: Density | K9: Density | L9: Density | M9: 1 | N9: 1 | O9: 1 | P9: 1 | Q9: kg/m^3 | R9: kg/m^3 | S9: kg/m^3 | T9: kg/m^3 | U9: kg/m^3 | V9: kg/m^3 | X9: dy (m) | Y9: dy (m) | Z9: dy (m) | AA9: dy (m) | AB9: dy (m) | AC9: dy (m) | AD9: dy (m) | AE9: dy (m) | AF9: dy (m) | AG9: dy (m) | AH9: dy (m) | AJ9: =M7/(AJ7-1) -> 0.05 | AP9: The square holds the scalar at its specified value. Velocity remains prescribed across the domain. This model does not calculate pressure, drag or recirculation. | AQ9: The square holds the scalar at its specified value. Velocity remains prescribed across the domain. This model does not calculate pressure, drag or recirculation. | AR9: The square holds the scalar at its specified value. Velocity remains prescribed across the domain. This model does not calculate pressure, drag or recirculation. | AS9: The square holds the scalar at its specified value. Velocity remains prescribed across the domain. This model does not calculate pressure, drag or recirculation. | AT9: The square holds the scalar at its specified value. Velocity remains prescribed across the domain. This model does not calculate pressure, drag or recirculation. | AU9: The square holds the scalar at its specified value. Velocity remains prescribed across the domain. This model does not calculate pressure, drag or recirculation. | AV9: The square holds the scalar at its specified value. Velocity remains prescribed across the domain. This model does not calculate pressure, drag or recirculation. | AW9: The square holds the scalar at its specified value. Velocity remains prescribed across the domain. This model does not calculate pressure, drag or recirculation. | AX9: The square holds the scalar at its specified value. Velocity remains prescribed across the domain. This model does not calculate pressure, drag or recirculation. | AY9: The square holds the scalar at its specified value. Velocity remains prescribed across the domain. This model does not calculate pressure, drag or recirculation. | AZ9: The square holds the scalar at its specified value. Velocity remains prescribed across the domain. This model does not calculate pressure, drag or recirculation. | BA9: The square holds the scalar at its specified value. Velocity remains prescribed across the domain. This model does not calculate pressure, drag or recirculation. | BB9: The square holds the scalar at its specified value. Velocity remains prescribed across the domain. This model does not calculate pressure, drag or recirculation. | BC9: The square holds the scalar at its specified value. Velocity remains prescribed across the domain. This model does not calculate pressure, drag or recirculation. | BD9: The square holds the scalar at its specified value. Velocity remains prescribed across the domain. This model does not calculate pressure, drag or recirculation. | BE9: The square holds the scalar at its specified value. Velocity remains prescribed across the domain. This model does not calculate pressure, drag or recirculation. | BF9: The square holds the scalar at its specified value. Velocity remains prescribed across the domain. This model does not calculate pressure, drag or recirculation. | BG9: The square holds the scalar at its specified value. Velocity remains prescribed across the domain. This model does not calculate pressure, drag or recirculation. | BH9: The square holds the scalar at its specified value. Velocity remains prescribed across the domain. This model does not calculate pressure, drag or recirculation. | BI9: The square holds the scalar at its specified value. Velocity remains prescribed across the domain. This model does not calculate pressure, drag or recirculation. | BJ9: The square holds the scalar at its specified value. Velocity remains prescribed across the domain. This model does not calculate pressure, drag or recirculation. | BK9: The square holds the scalar at its specified value. Velocity remains prescribed across the domain. This model does not calculate pressure, drag or recirculation.
B10: Transport coefficient | C10: Transport coefficient | D10: Transport coefficient | E10: Transport coefficient | F10: Transport coefficient | G10: Transport coefficient | H10: Transport coefficient | I10: Transport coefficient | J10: Transport coefficient | K10: Transport coefficient | L10: Transport coefficient | M10: 0.1 | N10: 0.1 | O10: 0.1 | P10: 0.1 | Q10: kg/(m s) | R10: kg/(m s) | S10: kg/(m s) | T10: kg/(m s) | U10: kg/(m s) | V10: kg/(m s) | X10: D east/west | Y10: D east/west | Z10: D east/west | AA10: D east/west | AB10: D east/west | AC10: D east/west | AD10: D east/west | AE10: D east/west | AF10: D east/west | AG10: D east/west | AH10: D east/west | AJ10: =M10*AJ9/AJ8 -> 0.1 | AP10: The square holds the scalar at its specified value. Velocity remains prescribed across the domain. This model does not calculate pressure, drag or recirculation. | AQ10: The square holds the scalar at its specified value. Velocity remains prescribed across the domain. This model does not calculate pressure, drag or recirculation. | AR10: The square holds the scalar at its specified value. Velocity remains prescribed across the domain. This model does not calculate pressure, drag or recirculation. | AS10: The square holds the scalar at its specified value. Velocity remains prescribed across the domain. This model does not calculate pressure, drag or recirculation. | AT10: The square holds the scalar at its specified value. Velocity remains prescribed across the domain. This model does not calculate pressure, drag or recirculation. | AU10: The square holds the scalar at its specified value. Velocity remains prescribed across the domain. This model does not calculate pressure, drag or recirculation. | AV10: The square holds the scalar at its specified value. Velocity remains prescribed across the domain. This model does not calculate pressure, drag or recirculation. | AW10: The square holds the scalar at its specified value. Velocity remains prescribed across the domain. This model does not calculate pressure, drag or recirculation. | AX10: The square holds the scalar at its specified value. Velocity remains prescribed across the domain. This model does not calculate pressure, drag or recirculation. | AY10: The square holds the scalar at its specified value. Velocity remains prescribed across the domain. This model does not calculate pressure, drag or recirculation. | AZ10: The square holds the scalar at its specified value. Velocity remains prescribed across the domain. This model does not calculate pressure, drag or recirculation. | BA10: The square holds the scalar at its specified value. Velocity remains prescribed across the domain. This model does not calculate pressure, drag or recirculation. | BB10: The square holds the scalar at its specified value. Velocity remains prescribed across the domain. This model does not calculate pressure, drag or recirculation. | BC10: The square holds the scalar at its specified value. Velocity remains prescribed across the domain. This model does not calculate pressure, drag or recirculation. | BD10: The square holds the scalar at its specified value. Velocity remains prescribed across the domain. This model does not calculate pressure, drag or recirculation. | BE10: The square holds the scalar at its specified value. Velocity remains prescribed across the domain. This model does not calculate pressure, drag or recirculation. | BF10: The square holds the scalar at its specified value. Velocity remains prescribed across the domain. This model does not calculate pressure, drag or recirculation. | BG10: The square holds the scalar at its specified value. Velocity remains prescribed across the domain. This model does not calculate pressure, drag or recirculation. | BH10: The square holds the scalar at its specified value. Velocity remains prescribed across the domain. This model does not calculate pressure, drag or recirculation. | BI10: The square holds the scalar at its specified value. Velocity remains prescribed across the domain. This model does not calculate pressure, drag or recirculation. | BJ10: The square holds the scalar at its specified value. Velocity remains prescribed across the domain. This model does not calculate pressure, drag or recirculation. | BK10: The square holds the scalar at its specified value. Velocity remains prescribed across the domain. This model does not calculate pressure, drag or recirculation.
B11: Inlet scalar | C11: Inlet scalar | D11: Inlet scalar | E11: Inlet scalar | F11: Inlet scalar | G11: Inlet scalar | H11: Inlet scalar | I11: Inlet scalar | J11: Inlet scalar | K11: Inlet scalar | L11: Inlet scalar | M11: 1 | N11: 1 | O11: 1 | P11: 1 | Q11: scalar units | R11: scalar units | S11: scalar units | T11: scalar units | U11: scalar units | V11: scalar units | X11: D north/south | Y11: D north/south | Z11: D north/south | AA11: D north/south | AB11: D north/south | AC11: D north/south | AD11: D north/south | AE11: D north/south | AF11: D north/south | AG11: D north/south | AH11: D north/south | AJ11: =M10*AJ8/AJ9 -> 0.1 | AP11: The square holds the scalar at its specified value. Velocity remains prescribed across the domain. This model does not calculate pressure, drag or recirculation. | AQ11: The square holds the scalar at its specified value. Velocity remains prescribed across the domain. This model does not calculate pressure, drag or recirculation. | AR11: The square holds the scalar at its specified value. Velocity remains prescribed across the domain. This model does not calculate pressure, drag or recirculation. | AS11: The square holds the scalar at its specified value. Velocity remains prescribed across the domain. This model does not calculate pressure, drag or recirculation. | AT11: The square holds the scalar at its specified value. Velocity remains prescribed across the domain. This model does not calculate pressure, drag or recirculation. | AU11: The square holds the scalar at its specified value. Velocity remains prescribed across the domain. This model does not calculate pressure, drag or recirculation. | AV11: The square holds the scalar at its specified value. Velocity remains prescribed across the domain. This model does not calculate pressure, drag or recirculation. | AW11: The square holds the scalar at its specified value. Velocity remains prescribed across the domain. This model does not calculate pressure, drag or recirculation. | AX11: The square holds the scalar at its specified value. Velocity remains prescribed across the domain. This model does not calculate pressure, drag or recirculation. | AY11: The square holds the scalar at its specified value. Velocity remains prescribed across the domain. This model does not calculate pressure, drag or recirculation. | AZ11: The square holds the scalar at its specified value. Velocity remains prescribed across the domain. This model does not calculate pressure, drag or recirculation. | BA11: The square holds the scalar at its specified value. Velocity remains prescribed across the domain. This model does not calculate pressure, drag or recirculation. | BB11: The square holds the scalar at its specified value. Velocity remains prescribed across the domain. This model does not calculate pressure, drag or recirculation. | BC11: The square holds the scalar at its specified value. Velocity remains prescribed across the domain. This model does not calculate pressure, drag or recirculation. | BD11: The square holds the scalar at its specified value. Velocity remains prescribed across the domain. This model does not calculate pressure, drag or recirculation. | BE11: The square holds the scalar at its specified value. Velocity remains prescribed across the domain. This model does not calculate pressure, drag or recirculation. | BF11: The square holds the scalar at its specified value. Velocity remains prescribed across the domain. This model does not calculate pressure, drag or recirculation. | BG11: The square holds the scalar at its specified value. Velocity remains prescribed across the domain. This model does not calculate pressure, drag or recirculation. | BH11: The square holds the scalar at its specified value. Velocity remains prescribed across the domain. This model does not calculate pressure, drag or recirculation. | BI11: The square holds the scalar at its specified value. Velocity remains prescribed across the domain. This model does not calculate pressure, drag or recirculation. | BJ11: The square holds the scalar at its specified value. Velocity remains prescribed across the domain. This model does not calculate pressure, drag or recirculation. | BK11: The square holds the scalar at its specified value. Velocity remains prescribed across the domain. This model does not calculate pressure, drag or recirculation.
B12: Square scalar | C12: Square scalar | D12: Square scalar | E12: Square scalar | F12: Square scalar | G12: Square scalar | H12: Square scalar | I12: Square scalar | J12: Square scalar | K12: Square scalar | L12: Square scalar | M12: 0 | N12: 0 | O12: 0 | P12: 0 | Q12: scalar units | R12: scalar units | S12: scalar units | T12: scalar units | U12: scalar units | V12: scalar units | X12: F east/west | Y12: F east/west | Z12: F east/west | AA12: F east/west | AB12: F east/west | AC12: F east/west | AD12: F east/west | AE12: F east/west | AF12: F east/west | AG12: F east/west | AH12: F east/west | AJ12: =M9*M8*AJ9 -> 0.05 | AP12: Blue indicates lower scalar values; red indicates higher values. The white square is the prescribed-scalar region. Field contains the editable equations and numerical values. | AQ12: Blue indicates lower scalar values; red indicates higher values. The white square is the prescribed-scalar region. Field contains the editable equations and numerical values. | AR12: Blue indicates lower scalar values; red indicates higher values. The white square is the prescribed-scalar region. Field contains the editable equations and numerical values. | AS12: Blue indicates lower scalar values; red indicates higher values. The white square is the prescribed-scalar region. Field contains the editable equations and numerical values. | AT12: Blue indicates lower scalar values; red indicates higher values. The white square is the prescribed-scalar region. Field contains the editable equations and numerical values. | AU12: Blue indicates lower scalar values; red indicates higher values. The white square is the prescribed-scalar region. Field contains the editable equations and numerical values. | AV12: Blue indicates lower scalar values; red indicates higher values. The white square is the prescribed-scalar region. Field contains the editable equations and numerical values. | AW12: Blue indicates lower scalar values; red indicates higher values. The white square is the prescribed-scalar region. Field contains the editable equations and numerical values. | AX12: Blue indicates lower scalar values; red indicates higher values. The white square is the prescribed-scalar region. Field contains the editable equations and numerical values. | AY12: Blue indicates lower scalar values; red indicates higher values. The white square is the prescribed-scalar region. Field contains the editable equations and numerical values. | AZ12: Blue indicates lower scalar values; red indicates higher values. The white square is the prescribed-scalar region. Field contains the editable equations and numerical values. | BA12: Blue indicates lower scalar values; red indicates higher values. The white square is the prescribed-scalar region. Field contains the editable equations and numerical values. | BB12: Blue indicates lower scalar values; red indicates higher values. The white square is the prescribed-scalar region. Field contains the editable equations and numerical values. | BC12: Blue indicates lower scalar values; red indicates higher values. The white square is the prescribed-scalar region. Field contains the editable equations and numerical values. | BD12: Blue indicates lower scalar values; red indicates higher values. The white square is the prescribed-scalar region. Field contains the editable equations and numerical values. | BE12: Blue indicates lower scalar values; red indicates higher values. The white square is the prescribed-scalar region. Field contains the editable equations and numerical values. | BF12: Blue indicates lower scalar values; red indicates higher values. The white square is the prescribed-scalar region. Field contains the editable equations and numerical values. | BG12: Blue indicates lower scalar values; red indicates higher values. The white square is the prescribed-scalar region. Field contains the editable equations and numerical values. | BH12: Blue indicates lower scalar values; red indicates higher values. The white square is the prescribed-scalar region. Field contains the editable equations and numerical values. | BI12: Blue indicates lower scalar values; red indicates higher values. The white square is the prescribed-scalar region. Field contains the editable equations and numerical values. | BJ12: Blue indicates lower scalar values; red indicates higher values. The white square is the prescribed-scalar region. Field contains the editable equations and numerical values. | BK12: Blue indicates lower scalar values; red indicates higher values. The white square is the prescribed-scalar region. Field contains the editable equations and numerical values.
B13: Square left x | C13: Square left x | D13: Square left x | E13: Square left x | F13: Square left x | G13: Square left x | H13: Square left x | I13: Square left x | J13: Square left x | K13: Square left x | L13: Square left x | M13: 0.8 | N13: 0.8 | O13: 0.8 | P13: 0.8 | Q13: m | R13: m | S13: m | T13: m | U13: m | V13: m | X13: West weight | Y13: West weight | Z13: West weight | AA13: West weight | AB13: West weight | AC13: West weight | AD13: West weight | AE13: West weight | AF13: West weight | AG13: West weight | AH13: West weight | AJ13: =AJ10+MAX(AJ12,0) -> 0.15 | AP13: Blue indicates lower scalar values; red indicates higher values. The white square is the prescribed-scalar region. Field contains the editable equations and numerical values. | AQ13: Blue indicates lower scalar values; red indicates higher values. The white square is the prescribed-scalar region. Field contains the editable equations and numerical values. | AR13: Blue indicates lower scalar values; red indicates higher values. The white square is the prescribed-scalar region. Field contains the editable equations and numerical values. | AS13: Blue indicates lower scalar values; red indicates higher values. The white square is the prescribed-scalar region. Field contains the editable equations and numerical values. | AT13: Blue indicates lower scalar values; red indicates higher values. The white square is the prescribed-scalar region. Field contains the editable equations and numerical values. | AU13: Blue indicates lower scalar values; red indicates higher values. The white square is the prescribed-scalar region. Field contains the editable equations and numerical values. | AV13: Blue indicates lower scalar values; red indicates higher values. The white square is the prescribed-scalar region. Field contains the editable equations and numerical values. | AW13: Blue indicates lower scalar values; red indicates higher values. The white square is the prescribed-scalar region. Field contains the editable equations and numerical values. | AX13: Blue indicates lower scalar values; red indicates higher values. The white square is the prescribed-scalar region. Field contains the editable equations and numerical values. | AY13: Blue indicates lower scalar values; red indicates higher values. The white square is the prescribed-scalar region. Field contains the editable equations and numerical values. | AZ13: Blue indicates lower scalar values; red indicates higher values. The white square is the prescribed-scalar region. Field contains the editable equations and numerical values. | BA13: Blue indicates lower scalar values; red indicates higher values. The white square is the prescribed-scalar region. Field contains the editable equations and numerical values. | BB13: Blue indicates lower scalar values; red indicates higher values. The white square is the prescribed-scalar region. Field contains the editable equations and numerical values. | BC13: Blue indicates lower scalar values; red indicates higher values. The white square is the prescribed-scalar region. Field contains the editable equations and numerical values. | BD13: Blue indicates lower scalar values; red indicates higher values. The white square is the prescribed-scalar region. Field contains the editable equations and numerical values. | BE13: Blue indicates lower scalar values; red indicates higher values. The white square is the prescribed-scalar region. Field contains the editable equations and numerical values. | BF13: Blue indicates lower scalar values; red indicates higher values. The white square is the prescribed-scalar region. Field contains the editable equations and numerical values. | BG13: Blue indicates lower scalar values; red indicates higher values. The white square is the prescribed-scalar region. Field contains the editable equations and numerical values. | BH13: Blue indicates lower scalar values; red indicates higher values. The white square is the prescribed-scalar region. Field contains the editable equations and numerical values. | BI13: Blue indicates lower scalar values; red indicates higher values. The white square is the prescribed-scalar region. Field contains the editable equations and numerical values. | BJ13: Blue indicates lower scalar values; red indicates higher values. The white square is the prescribed-scalar region. Field contains the editable equations and numerical values. | BK13: Blue indicates lower scalar values; red indicates higher values. The white square is the prescribed-scalar region. Field contains the editable equations and numerical values.
B14: Square bottom y | C14: Square bottom y | D14: Square bottom y | E14: Square bottom y | F14: Square bottom y | G14: Square bottom y | H14: Square bottom y | I14: Square bottom y | J14: Square bottom y | K14: Square bottom y | L14: Square bottom y | M14: 0.75 | N14: 0.75 | O14: 0.75 | P14: 0.75 | Q14: m | R14: m | S14: m | T14: m | U14: m | V14: m | X14: East weight | Y14: East weight | Z14: East weight | AA14: East weight | AB14: East weight | AC14: East weight | AD14: East weight | AE14: East weight | AF14: East weight | AG14: East weight | AH14: East weight | AJ14: =AJ10+MAX(-AJ12,0) -> 0.1 | AP14: Blue indicates lower scalar values; red indicates higher values. The white square is the prescribed-scalar region. Field contains the editable equations and numerical values. | AQ14: Blue indicates lower scalar values; red indicates higher values. The white square is the prescribed-scalar region. Field contains the editable equations and numerical values. | AR14: Blue indicates lower scalar values; red indicates higher values. The white square is the prescribed-scalar region. Field contains the editable equations and numerical values. | AS14: Blue indicates lower scalar values; red indicates higher values. The white square is the prescribed-scalar region. Field contains the editable equations and numerical values. | AT14: Blue indicates lower scalar values; red indicates higher values. The white square is the prescribed-scalar region. Field contains the editable equations and numerical values. | AU14: Blue indicates lower scalar values; red indicates higher values. The white square is the prescribed-scalar region. Field contains the editable equations and numerical values. | AV14: Blue indicates lower scalar values; red indicates higher values. The white square is the prescribed-scalar region. Field contains the editable equations and numerical values. | AW14: Blue indicates lower scalar values; red indicates higher values. The white square is the prescribed-scalar region. Field contains the editable equations and numerical values. | AX14: Blue indicates lower scalar values; red indicates higher values. The white square is the prescribed-scalar region. Field contains the editable equations and numerical values. | AY14: Blue indicates lower scalar values; red indicates higher values. The white square is the prescribed-scalar region. Field contains the editable equations and numerical values. | AZ14: Blue indicates lower scalar values; red indicates higher values. The white square is the prescribed-scalar region. Field contains the editable equations and numerical values. | BA14: Blue indicates lower scalar values; red indicates higher values. The white square is the prescribed-scalar region. Field contains the editable equations and numerical values. | BB14: Blue indicates lower scalar values; red indicates higher values. The white square is the prescribed-scalar region. Field contains the editable equations and numerical values. | BC14: Blue indicates lower scalar values; red indicates higher values. The white square is the prescribed-scalar region. Field contains the editable equations and numerical values. | BD14: Blue indicates lower scalar values; red indicates higher values. The white square is the prescribed-scalar region. Field contains the editable equations and numerical values. | BE14: Blue indicates lower scalar values; red indicates higher values. The white square is the prescribed-scalar region. Field contains the editable equations and numerical values. | BF14: Blue indicates lower scalar values; red indicates higher values. The white square is the prescribed-scalar region. Field contains the editable equations and numerical values. | BG14: Blue indicates lower scalar values; red indicates higher values. The white square is the prescribed-scalar region. Field contains the editable equations and numerical values. | BH14: Blue indicates lower scalar values; red indicates higher values. The white square is the prescribed-scalar region. Field contains the editable equations and numerical values. | BI14: Blue indicates lower scalar values; red indicates higher values. The white square is the prescribed-scalar region. Field contains the editable equations and numerical values. | BJ14: Blue indicates lower scalar values; red indicates higher values. The white square is the prescribed-scalar region. Field contains the editable equations and numerical values. | BK14: Blue indicates lower scalar values; red indicates higher values. The white square is the prescribed-scalar region. Field contains the editable equations and numerical values.
B15: Square side | C15: Square side | D15: Square side | E15: Square side | F15: Square side | G15: Square side | H15: Square side | I15: Square side | J15: Square side | K15: Square side | L15: Square side | M15: 0.5 | N15: 0.5 | O15: 0.5 | P15: 0.5 | Q15: m | R15: m | S15: m | T15: m | U15: m | V15: m | X15: North weight | Y15: North weight | Z15: North weight | AA15: North weight | AB15: North weight | AC15: North weight | AD15: North weight | AE15: North weight | AF15: North weight | AG15: North weight | AH15: North weight | AJ15: =AJ11 -> 0.1 | AP15: Boundary nodes: left inlet scalar; right zero x-gradient; top and bottom zero y-gradient. Square geometry snaps to grid nodes. Keep it strictly inside the domain. | AQ15: Boundary nodes: left inlet scalar; right zero x-gradient; top and bottom zero y-gradient. Square geometry snaps to grid nodes. Keep it strictly inside the domain. | AR15: Boundary nodes: left inlet scalar; right zero x-gradient; top and bottom zero y-gradient. Square geometry snaps to grid nodes. Keep it strictly inside the domain. | AS15: Boundary nodes: left inlet scalar; right zero x-gradient; top and bottom zero y-gradient. Square geometry snaps to grid nodes. Keep it strictly inside the domain. | AT15: Boundary nodes: left inlet scalar; right zero x-gradient; top and bottom zero y-gradient. Square geometry snaps to grid nodes. Keep it strictly inside the domain. | AU15: Boundary nodes: left inlet scalar; right zero x-gradient; top and bottom zero y-gradient. Square geometry snaps to grid nodes. Keep it strictly inside the domain. | AV15: Boundary nodes: left inlet scalar; right zero x-gradient; top and bottom zero y-gradient. Square geometry snaps to grid nodes. Keep it strictly inside the domain. | AW15: Boundary nodes: left inlet scalar; right zero x-gradient; top and bottom zero y-gradient. Square geometry snaps to grid nodes. Keep it strictly inside the domain. | AX15: Boundary nodes: left inlet scalar; right zero x-gradient; top and bottom zero y-gradient. Square geometry snaps to grid nodes. Keep it strictly inside the domain. | AY15: Boundary nodes: left inlet scalar; right zero x-gradient; top and bottom zero y-gradient. Square geometry snaps to grid nodes. Keep it strictly inside the domain. | AZ15: Boundary nodes: left inlet scalar; right zero x-gradient; top and bottom zero y-gradient. Square geometry snaps to grid nodes. Keep it strictly inside the domain. | BA15: Boundary nodes: left inlet scalar; right zero x-gradient; top and bottom zero y-gradient. Square geometry snaps to grid nodes. Keep it strictly inside the domain. | BB15: Boundary nodes: left inlet scalar; right zero x-gradient; top and bottom zero y-gradient. Square geometry snaps to grid nodes. Keep it strictly inside the domain. | BC15: Boundary nodes: left inlet scalar; right zero x-gradient; top and bottom zero y-gradient. Square geometry snaps to grid nodes. Keep it strictly inside the domain. | BD15: Boundary nodes: left inlet scalar; right zero x-gradient; top and bottom zero y-gradient. Square geometry snaps to grid nodes. Keep it strictly inside the domain. | BE15: Boundary nodes: left inlet scalar; right zero x-gradient; top and bottom zero y-gradient. Square geometry snaps to grid nodes. Keep it strictly inside the domain. | BF15: Boundary nodes: left inlet scalar; right zero x-gradient; top and bottom zero y-gradient. Square geometry snaps to grid nodes. Keep it strictly inside the domain. | BG15: Boundary nodes: left inlet scalar; right zero x-gradient; top and bottom zero y-gradient. Square geometry snaps to grid nodes. Keep it strictly inside the domain. | BH15: Boundary nodes: left inlet scalar; right zero x-gradient; top and bottom zero y-gradient. Square geometry snaps to grid nodes. Keep it strictly inside the domain. | BI15: Boundary nodes: left inlet scalar; right zero x-gradient; top and bottom zero y-gradient. Square geometry snaps to grid nodes. Keep it strictly inside the domain. | BJ15: Boundary nodes: left inlet scalar; right zero x-gradient; top and bottom zero y-gradient. Square geometry snaps to grid nodes. Keep it strictly inside the domain. | BK15: Boundary nodes: left inlet scalar; right zero x-gradient; top and bottom zero y-gradient. Square geometry snaps to grid nodes. Keep it strictly inside the domain.
B16: Square enabled | C16: Square enabled | D16: Square enabled | E16: Square enabled | F16: Square enabled | G16: Square enabled | H16: Square enabled | I16: Square enabled | J16: Square enabled | K16: Square enabled | L16: Square enabled | M16: 1 | N16: 1 | O16: 1 | P16: 1 | Q16: 1=yes; 0=no | R16: 1=yes; 0=no | S16: 1=yes; 0=no | T16: 1=yes; 0=no | U16: 1=yes; 0=no | V16: 1=yes; 0=no | X16: South weight | Y16: South weight | Z16: South weight | AA16: South weight | AB16: South weight | AC16: South weight | AD16: South weight | AE16: South weight | AF16: South weight | AG16: South weight | AH16: South weight | AJ16: =AJ11 -> 0.1 | AP16: Boundary nodes: left inlet scalar; right zero x-gradient; top and bottom zero y-gradient. Square geometry snaps to grid nodes. Keep it strictly inside the domain. | AQ16: Boundary nodes: left inlet scalar; right zero x-gradient; top and bottom zero y-gradient. Square geometry snaps to grid nodes. Keep it strictly inside the domain. | AR16: Boundary nodes: left inlet scalar; right zero x-gradient; top and bottom zero y-gradient. Square geometry snaps to grid nodes. Keep it strictly inside the domain. | AS16: Boundary nodes: left inlet scalar; right zero x-gradient; top and bottom zero y-gradient. Square geometry snaps to grid nodes. Keep it strictly inside the domain. | AT16: Boundary nodes: left inlet scalar; right zero x-gradient; top and bottom zero y-gradient. Square geometry snaps to grid nodes. Keep it strictly inside the domain. | AU16: Boundary nodes: left inlet scalar; right zero x-gradient; top and bottom zero y-gradient. Square geometry snaps to grid nodes. Keep it strictly inside the domain. | AV16: Boundary nodes: left inlet scalar; right zero x-gradient; top and bottom zero y-gradient. Square geometry snaps to grid nodes. Keep it strictly inside the domain. | AW16: Boundary nodes: left inlet scalar; right zero x-gradient; top and bottom zero y-gradient. Square geometry snaps to grid nodes. Keep it strictly inside the domain. | AX16: Boundary nodes: left inlet scalar; right zero x-gradient; top and bottom zero y-gradient. Square geometry snaps to grid nodes. Keep it strictly inside the domain. | AY16: Boundary nodes: left inlet scalar; right zero x-gradient; top and bottom zero y-gradient. Square geometry snaps to grid nodes. Keep it strictly inside the domain. | AZ16: Boundary nodes: left inlet scalar; right zero x-gradient; top and bottom zero y-gradient. Square geometry snaps to grid nodes. Keep it strictly inside the domain. | BA16: Boundary nodes: left inlet scalar; right zero x-gradient; top and bottom zero y-gradient. Square geometry snaps to grid nodes. Keep it strictly inside the domain. | BB16: Boundary nodes: left inlet scalar; right zero x-gradient; top and bottom zero y-gradient. Square geometry snaps to grid nodes. Keep it strictly inside the domain. | BC16: Boundary nodes: left inlet scalar; right zero x-gradient; top and bottom zero y-gradient. Square geometry snaps to grid nodes. Keep it strictly inside the domain. | BD16: Boundary nodes: left inlet scalar; right zero x-gradient; top and bottom zero y-gradient. Square geometry snaps to grid nodes. Keep it strictly inside the domain. | BE16: Boundary nodes: left inlet scalar; right zero x-gradient; top and bottom zero y-gradient. Square geometry snaps to grid nodes. Keep it strictly inside the domain. | BF16: Boundary nodes: left inlet scalar; right zero x-gradient; top and bottom zero y-gradient. Square geometry snaps to grid nodes. Keep it strictly inside the domain. | BG16: Boundary nodes: left inlet scalar; right zero x-gradient; top and bottom zero y-gradient. Square geometry snaps to grid nodes. Keep it strictly inside the domain. | BH16: Boundary nodes: left inlet scalar; right zero x-gradient; top and bottom zero y-gradient. Square geometry snaps to grid nodes. Keep it strictly inside the domain. | BI16: Boundary nodes: left inlet scalar; right zero x-gradient; top and bottom zero y-gradient. Square geometry snaps to grid nodes. Keep it strictly inside the domain. | BJ16: Boundary nodes: left inlet scalar; right zero x-gradient; top and bottom zero y-gradient. Square geometry snaps to grid nodes. Keep it strictly inside the domain. | BK16: Boundary nodes: left inlet scalar; right zero x-gradient; top and bottom zero y-gradient. Square geometry snaps to grid nodes. Keep it strictly inside the domain.
